Workbook

Sheet Расчет дотаций
B1: Распределение дотаций местным бюджетам на поддержку мер по обеспечению сбалансированности местных бюджетов
A2: за 2025 год
A3: Наименование муниципального образования | B3: Отсутствие просроченной кредиторской задолженности бюджета городского округа, консолидированного бюджета городского округа с внутригородским делением, консолидированного бюджета муниципального района по состоянию на конец отчетного периода | D3: Объем алкогольной продукции, зафиксированный в единой государственной автоматизированной информационной системе (дкл.) | H3: Общая площадь введенного в эксплуатацию жилья с учетом индивидуального жилищного строительства | L3: Валовой сбор зерна в весе после доработки (тыс. тонн) | P3: Производство молока во всех категориях хозяйств (тонн) | T3: Производство скота и птицы на убой (в живом весе) во всех категориях хозяйств (тонн) | X3: Сводная оценка выполнения социально-экономических показателей | Y3: Годовое значение, тыс. рублей | Z3: Распределение за отчетный период, тыс. рублей | AA3: Отклонение от планируемого распределения, тыс. рублей | AB3: Удержание дотаций в 2025 году в связи с исполнением показателей за 2024 год, тыс. рублей | AC3: Сумма не подлежащая перечислению при подведении итогов за 2025 год за превышение предельных значений уровня муниципального долга, установленных абзацами с восьмого по одиннадцатый п.5 Правил и условий предоставления дотаций | AD3: Распределение за отчетный период с учетом удержания и сумм, неподлежащих перечислению, тыс. рублей | AE3: Ранее предоставленные дотации в 2025 году, тыс. рублей | AP3: Распределение дотаций за вычетом предоставленных дотаций за январь-ноябрь, тыс. рублей | AQ3: Соблюдение условий предоставления дотаций*: | AU3: Распределение (+) / Взыскание (-) за отчётный период с учетом выполнения условий предоставления дотаций, тыс. рублей
AQ4: Соблюдение норматива формирования расходов на содержание органов местного самоуправления | AR4: непривлечение кредитов кредитных организаций в декабре 2025 года | AT4: неувеличение объема муниципального долга в части кредитов кредитных организаций в декабре 2025 года (не применяется если объем долга на 01.01.2026 не превышает его объем по состоянию на начало 2025 года)
AE5: за январь | AF5: за февраль | AG5: за март | AH5: за апрель | AI5: за май | AJ5: за июнь | AK5: за июль | AL5: за август | AM5: за сентябрь | AN5: за октябрь | AO5: за ноябрь | AR5: МО у которых доля дотаций на выравнивание бюджетной обеспеченности в доходах бюджета (без учета субвенций) за 2024 год > 15 % | AS5: МО, муниципальный долг которых на 01.01.2026 > 90% от утвержденного общего годового объема доходов без учета утвержденного объема безвозмездных поступлений
B6: Исполнение | C6: Вес | D6: Прогнозное значение | E6: Фактически сложившийся уровень | F6: Исполнение с уч. корректир. макс. перевыполнения | G6: Вес | H6: Прогнозное значение | I6: Фактически сложившийся уровень | J6: Исполнение с уч. корректир. макс. перевыполнения | K6: Вес | L6: Прогнозное значение | M6: Фактически сложившийся уровень | N6: Исполнение с уч. корректир. макс. перевыполнения | O6: Вес | P6: Прогнозное значение | Q6: Фактически сложившийся уровень | R6: Исполнение с уч. корректир. макс. перевыполнения | S6: Вес | T6: Прогнозное значение | U6: Фактически сложившийся уровень | V6: Исполнение с уч. корректир. макс. перевыполнения | W6: Вес
A7: 1 | B7: 2 | C7: 3 | D7: 4 | E7: 5 | F7: 6=5/4 | G7: 7 | H7: 8 | I7: 9 | J7: 10=9/8 | K7: 11 | L7: 12 | M7: 13 | N7: 14=13/12 | O7: 15 | P7: 16 | Q7: 17 | R7: 18=17/16 | S7: 19 | T7: 20 | U7: 21 | V7: 22=21/20 | W7: 23 | X7: 24 | Y7: 25 | Z7: 26=24*25 | AA7: 27=26-25 | AB7: 28 | AC7: 29 | AD7: 30=26-28-29 | AE7: 31 | AF7: 32 | AG7: 33 | AH7: 34 | AI7: 35 | AJ7: 36 | AK7: 37 | AL7: 38 | AM7: 39 | AN7: 40 | AO7: 41 | AP7: 42=30-(31+...+41) | AQ7: 43 | AR7: 44 | AS7: 45 | AT7: 46 | AU7: 47
A8: Городские округа (городской округ с внутригородским делением) | D8: =SUM(D9:D18) -> 1875610.4 | E8: =SUM(E9:E18) -> 1890310 | F8: =IF(E8/D8>1.2,IF((E8/D8-1.2)*0.1+1.2>1.3,1.3,(E8/D8-1.2)*0.1+1.2),E8/D8) -> 1.0078372 | H8: =SUM(H9:H18) -> 782725 | I8: =SUM(I9:I18) -> 918639 | J8: =IF(I8/H8>1.2,IF((I8/H8-1.2)*0.1+1.2>1.3,1.3,(I8/H8-1.2)*0.1+1.2),I8/H8) -> 1.1736421 | Y8: =SUM(Y9:Y18) -> 2385561 | Z8: =SUM(Z9:Z18) -> 2496432 | AA8: =SUM(AA9:AA18) -> 110871 | AB8: =SUM(AB9:AB18) -> 1597 | AC8: =SUM(AC9:AC18) -> 0 | AD8: =SUM(AD9:AD18) -> 2494835 | AE8: =SUM(AE9:AE18) -> 208531.7 | AF8: =SUM(AF9:AF18) -> 208531.3 | ... AP8: =SUM(AP9:AP18) -> 138614 | AU8: =SUM(AU9:AU18) -> -45113.5
A9: Самара | B9: 1 | C9: 10 | D9: 946221.28 | E9: 960261 | F9: =IF(G9=0,0,IF(D9=0,1,IF(E9<0,0,IF(E9/D9>1.2,IF((E9/D9-1.2)*0.1+1.2>1.3,1.3,(E9/D9-1.2)*0.1+1.2),E9/D9)))) -> 1.0148377 | G9: 15 | H9: 506620 | I9: 602826 | J9: =IF(K9=0,0,IF(H9=0,1,IF(I9<0,0,IF(I9/H9>1.2,IF((I9/H9-1.2)*0.1+1.2>1.3,1.3,(I9/H9-1.2)*0.1+1.2),I9/H9)))) -> 1.1898978 | K9: 15 | L9: Х | M9: Х | N9: Х | O9: Х | P9: Х | Q9: Х | R9: Х | S9: Х | T9: Х | U9: Х | V9: Х | W9: Х | X9: =(B9*C9+F9*G9+J9*K9)/(C9+G9+K9) -> 1.0767758 | Y9: 681825 | Z9: =ROUND(X9*Y9,1) -> 734172.6 | AA9: =Z9-Y9 -> 52347.6 | AD9: =Z9-AB9-AC9 -> 734172.6 | AE9: 61984.1 | AF9: 61984.1 | AG9: 61984.1 | AH9: 61984.1 | AI9: 0 | AJ9: 0 | AK9: 0 | AL9: 98932.3 | AM9: 43358.5 | AN9: 43358.6 | AO9: 116859.3 | AP9: =ROUND(AD9-SUM(AE9:AO9),1) -> 183727.5 | AT9: - | AU9: =IF(AND(AP9>0,OR(AQ9="-",AR9="-",AS9="-",AT9="-")),0,AP9) -> 0
A10: Тольятти | B10: 1 | C10: 10 | D10: 486535.97 | E10: 483907 | F10: =IF(G10=0,0,IF(D10=0,1,IF(E10<0,0,IF(E10/D10>1.2,IF((E10/D10-1.2)*0.1+1.2>1.3,1.3,(E10/D10-1.2)*0.1+1.2),E10/D10)))) -> 0.99459656 | G10: 15 | H10: 65412 | I10: 124670 | J10: =IF(K10=0,0,IF(H10=0,1,IF(I10<0,0,IF(I10/H10>1.2,IF((I10/H10-1.2)*0.1+1.2>1.3,1.3,(I10/H10-1.2)*0.1+1.2),I10/H10)))) -> 1.2705919 | K10: 15 | L10: Х | M10: Х | N10: Х | O10: Х | P10: Х | Q10: Х | R10: Х | S10: Х | T10: Х | U10: Х | V10: Х | W10: Х | X10: =(B10*C10+F10*G10+J10*K10)/(C10+G10+K10) -> 1.0994457 | Y10: 733462 | Z10: =ROUND(X10*Y10,1) -> 806401.6 | AA10: =Z10-Y10 -> 72939.6 | AD10: =Z10-AB10-AC10 -> 806401.6 | AE10: 66678.4 | AF10: 66678.3 | AG10: 66678.4 | AH10: 66678.4 | AI10: 0 | AJ10: 0 | AK10: 0 | AL10: 246237.4 | AM10: 64118.9 | AN10: 64118.8 | AO10: 188703 | AP10: =ROUND(AD10-SUM(AE10:AO10),1) -> -23490 | AU10: =IF(AND(AP10>0,OR(AQ10="-",AR10="-",AS10="-",AT10="-")),0,AP10) -> -23490
A11: Сызрань | B11: 1 | C11: 10 | D11: 136577.91 | E11: 137536 | F11: =IF(G11=0,0,IF(D11=0,1,IF(E11<0,0,IF(E11/D11>1.2,IF((E11/D11-1.2)*0.1+1.2>1.3,1.3,(E11/D11-1.2)*0.1+1.2),E11/D11)))) -> 1.007015 | G11: 15 | H11: 38949 | I11: 37641 | J11: =IF(K11=0,0,IF(H11=0,1,IF(I11<0,0,IF(I11/H11>1.2,IF((I11/H11-1.2)*0.1+1.2>1.3,1.3,(I11/H11-1.2)*0.1+1.2),I11/H11)))) -> 0.96641762 | K11: 15 | L11: Х | M11: Х | N11: Х | O11: Х | P11: Х | Q11: Х | R11: Х | S11: Х | T11: Х | U11: Х | V11: Х | W11: Х | X11: =(B11*C11+F11*G11+J11*K11)/(C11+G11+K11) -> 0.99003722 | Y11: 241460 | Z11: =ROUND(X11*Y11,1) -> 239054.4 | AA11: =Z11-Y11 -> -2405.6 | AB11: 1015.6 | AD11: =Z11-AB11-AC11 -> 238038.8 | AE11: 21950.9 | AF11: 21950.9 | AG11: 21950.9 | AH11: 21950.9 | AI11: 17733.4 | AJ11: 20904.3 | AK11: 20904.3 | AL11: 27652.3 | AM11: 21747.8 | AN11: 21747.8 | AO11: 35459.9 | AP11: =ROUND(AD11-SUM(AE11:AO11),1) -> -15914.6 | AU11: =IF(AND(AP11>0,OR(AQ11="-",AR11="-",AS11="-",AT11="-")),0,AP11) -> -15914.6
A12: Новокуйбышевск | B12: 1 | C12: 10 | D12: 82891.28 | E12: 82954 | F12: =IF(G12=0,0,IF(D12=0,1,IF(E12<0,0,IF(E12/D12>1.2,IF((E12/D12-1.2)*0.1+1.2>1.3,1.3,(E12/D12-1.2)*0.1+1.2),E12/D12)))) -> 1.0007567 | G12: 15 | H12: 32756 | I12: 31025 | J12: =IF(K12=0,0,IF(H12=0,1,IF(I12<0,0,IF(I12/H12>1.2,IF((I12/H12-1.2)*0.1+1.2>1.3,1.3,(I12/H12-1.2)*0.1+1.2),I12/H12)))) -> 0.94715472 | K12: 15 | L12: Х | M12: Х | N12: Х | O12: Х | P12: Х | Q12: Х | R12: Х | S12: Х | T12: Х | U12: Х | V12: Х | W12: Х | X12: =(B12*C12+F12*G12+J12*K12)/(C12+G12+K12) -> 0.98046677 | Y12: 145263 | Z12: =ROUND(X12*Y12,1) -> 142425.5 | AA12: =Z12-Y12 -> -2837.5 | AB12: 29 | AD12: =Z12-AB12-AC12 -> 142396.5 | AE12: 10860.5 | AF12: 10860.4 | AG12: 10860.5 | AH12: 10860.4 | AI12: 5959.6 | AJ12: 9874.4 | AK12: 24809.7 | AL12: 21542.9 | AM12: 13199.9 | AN12: 13200 | AO12: 7693.3 | AP12: =ROUND(AD12-SUM(AE12:AO12),1) -> 2674.9 | AU12: =IF(AND(AP12>0,OR(AQ12="-",AR12="-",AS12="-",AT12="-")),0,AP12) -> 2674.9
A13: Чапаевск | B13: 1 | C13: 10 | D13: 50358.08 | E13: 50642 | F13: =IF(G13=0,0,IF(D13=0,1,IF(E13<0,0,IF(E13/D13>1.2,IF((E13/D13-1.2)*0.1+1.2>1.3,1.3,(E13/D13-1.2)*0.1+1.2),E13/D13)))) -> 1.005638 | G13: 15 | H13: 19508 | I13: 22900 | J13: =IF(K13=0,0,IF(H13=0,1,IF(I13<0,0,IF(I13/H13>1.2,IF((I13/H13-1.2)*0.1+1.2>1.3,1.3,(I13/H13-1.2)*0.1+1.2),I13/H13)))) -> 1.1738774 | K13: 15 | L13: Х | M13: Х | N13: Х | O13: Х | P13: Х | Q13: Х | R13: Х | S13: Х | T13: Х | U13: Х | V13: Х | W13: Х | X13: =(B13*C13+F13*G13+J13*K13)/(C13+G13+K13) -> 1.0673183 | Y13: 115098 | Z13: =ROUND(X13*Y13,1) -> 122846.2 | AA13: =Z13-Y13 -> 7748.2 | AD13: =Z13-AB13-AC13 -> 122846.2 | AE13: 10463.5 | AF13: 10463.4 | AG13: 10463.5 | AH13: 10463.4 | AI13: 19880.6 | AJ13: 12346.8 | AK13: 12347 | AL13: 9963.3 | AM13: 12049 | AN13: 12048.8 | AO13: 9595.1 | AP13: =ROUND(AD13-SUM(AE13:AO13),1) -> -7238.2 | AU13: =IF(AND(AP13>0,OR(AQ13="-",AR13="-",AS13="-",AT13="-")),0,AP13) -> -7238.2
A14: Отрадный | B14: 1 | C14: 10 | D14: 39149.18 | E14: 39470 | F14: =IF(G14=0,0,IF(D14=0,1,IF(E14<0,0,IF(E14/D14>1.2,IF((E14/D14-1.2)*0.1+1.2>1.3,1.3,(E14/D14-1.2)*0.1+1.2),E14/D14)))) -> 1.0081948 | G14: 15 | H14: 10201 | I14: 8354 | J14: =IF(K14=0,0,IF(H14=0,1,IF(I14<0,0,IF(I14/H14>1.2,IF((I14/H14-1.2)*0.1+1.2>1.3,1.3,(I14/H14-1.2)*0.1+1.2),I14/H14)))) -> 0.81893932 | K14: 15 | L14: Х | M14: Х | N14: Х | O14: Х | P14: Х | Q14: Х | R14: Х | S14: Х | T14: Х | U14: Х | V14: Х | W14: Х | X14: =(B14*C14+F14*G14+J14*K14)/(C14+G14+K14) -> 0.9351753 | Y14: 64317 | Z14: =ROUND(X14*Y14,1) -> 60147.7 | AA14: =Z14-Y14 -> -4169.3 | AB14: 552.4 | AD14: =Z14-AB14-AC14 -> 59595.3 | AE14: 5847 | AF14: 5847 | AG14: 5847 | AH14: 5847 | AI14: 9617.4 | AJ14: 6490.6 | AK14: 6490.6 | AL14: 458 | AM14: 5736.5 | AN14: 5736.5 | AO14: 0 | AP14: =ROUND(AD14-SUM(AE14:AO14),1) -> 1677.7 | AU14: =IF(AND(AP14>0,OR(AQ14="-",AR14="-",AS14="-",AT14="-")),0,AP14) -> 1677.7
A15: Жигулевск | B15: 1 | C15: 10 | D15: 43037.92 | E15: 44167 | F15: =IF(G15=0,0,IF(D15=0,1,IF(E15<0,0,IF(E15/D15>1.2,IF((E15/D15-1.2)*0.1+1.2>1.3,1.3,(E15/D15-1.2)*0.1+1.2),E15/D15)))) -> 1.0262345 | G15: 15 | H15: 13778 | I15: 14781 | J15: =IF(K15=0,0,IF(H15=0,1,IF(I15<0,0,IF(I15/H15>1.2,IF((I15/H15-1.2)*0.1+1.2>1.3,1.3,(I15/H15-1.2)*0.1+1.2),I15/H15)))) -> 1.0727972 | K15: 15 | L15: Х | M15: Х | N15: Х | O15: Х | P15: Х | Q15: Х | R15: Х | S15: Х | T15: Х | U15: Х | V15: Х | W15: Х | X15: =(B15*C15+F15*G15+J15*K15)/(C15+G15+K15) -> 1.0371369 | Y15: 112723 | Z15: =ROUND(X15*Y15,1) -> 116909.2 | AA15: =Z15-Y15 -> 4186.2 | AD15: =Z15-AB15-AC15 -> 116909.2 | AE15: 8865.3 | AF15: 8865.2 | AG15: 8865.3 | AH15: 8865.3 | AI15: 14503 | AJ15: 9992.7 | AK15: 15631.6 | AL15: 1050.9 | AM15: 9579.9 | AN15: 16256.3 | AO15: 19107.1 | AP15: =ROUND(AD15-SUM(AE15:AO15),1) -> -4673.4 | AU15: =IF(AND(AP15>0,OR(AQ15="-",AR15="-",AS15="-",AT15="-")),0,AP15) -> -4673.4
A16: Октябрьск | B16: 1 | C16: 10 | D16: 15058.36 | E16: 15270 | F16: =IF(G16=0,0,IF(D16=0,1,IF(E16<0,0,IF(E16/D16>1.2,IF((E16/D16-1.2)*0.1+1.2>1.3,1.3,(E16/D16-1.2)*0.1+1.2),E16/D16)))) -> 1.0140547 | G16: 15 | H16: 5382 | I16: 4518 | J16: =IF(K16=0,0,IF(H16=0,1,IF(I16<0,0,IF(I16/H16>1.2,IF((I16/H16-1.2)*0.1+1.2>1.3,1.3,(I16/H16-1.2)*0.1+1.2),I16/H16)))) -> 0.83946488 | K16: 15 | L16: Х | M16: Х | N16: Х | O16: Х | P16: Х | Q16: Х | R16: Х | S16: Х | T16: Х | U16: Х | V16: Х | W16: Х | X16: =(B16*C16+F16*G16+J16*K16)/(C16+G16+K16) -> 0.94506983 | Y16: 104629 | Z16: =ROUND(X16*Y16,1) -> 98881.7 | AA16: =Z16-Y16 -> -5747.3 | AD16: =Z16-AB16-AC16 -> 98881.7 | AE16: 6613.4 | AF16: 6613.3 | AG16: 6613.4 | AH16: 6613.4 | AI16: 5520.6 | AJ16: 6394.8 | AK16: 15295 | AL16: 9762.3 | AM16: 7928.3 | AN16: 23762.8 | AO16: 4734.6 | AP16: =ROUND(AD16-SUM(AE16:AO16),1) -> -970.2 | AU16: =IF(AND(AP16>0,OR(AQ16="-",AR16="-",AS16="-",AT16="-")),0,AP16) -> -970.2
A17: Кинель | B17: 1 | C17: 10 | D17: 53725.79 | E17: 53851 | F17: =IF(G17=0,0,IF(D17=0,1,IF(E17<0,0,IF(E17/D17>1.2,IF((E17/D17-1.2)*0.1+1.2>1.3,1.3,(E17/D17-1.2)*0.1+1.2),E17/D17)))) -> 1.0023305 | G17: 15 | H17: 84141 | I17: 66621 | J17: =IF(K17=0,0,IF(H17=0,1,IF(I17<0,0,IF(I17/H17>1.2,IF((I17/H17-1.2)*0.1+1.2>1.3,1.3,(I17/H17-1.2)*0.1+1.2),I17/H17)))) -> 0.79177809 | K17: 15 | L17: Х | M17: Х | N17: Х | O17: Х | P17: Х | Q17: Х | R17: Х | S17: Х | T17: Х | U17: Х | V17: Х | W17: Х | X17: =(B17*C17+F17*G17+J17*K17)/(C17+G17+K17) -> 0.92279073 | Y17: 102262 | Z17: =ROUND(X17*Y17,1) -> 94366.4 | AA17: =Z17-Y17 -> -7895.6 | AD17: =Z17-AB17-AC17 -> 94366.4 | AE17: 9296.5 | AF17: 9296.6 | AG17: 9296.5 | AH17: 9296.6 | AI17: 15924.1 | AJ17: 10622.1 | AK17: 10622 | AL17: 18 | AM17: 9296.5 | AN17: 9296.6 | AO17: 5603.7 | AP17: =ROUND(AD17-SUM(AE17:AO17),1) -> -4202.8 | AU17: =IF(AND(AP17>0,OR(AQ17="-",AR17="-",AS17="-",AT17="-")),0,AP17) -> -4202.8
A18: Похвистнево | B18: 1 | C18: 10 | D18: 22054.66 | E18: 22252 | F18: =IF(G18=0,0,IF(D18=0,1,IF(E18<0,0,IF(E18/D18>1.2,IF((E18/D18-1.2)*0.1+1.2>1.3,1.3,(E18/D18-1.2)*0.1+1.2),E18/D18)))) -> 1.0089478 | G18: 15 | H18: 5978 | I18: 5303 | J18: =IF(K18=0,0,IF(H18=0,1,IF(I18<0,0,IF(I18/H18>1.2,IF((I18/H18-1.2)*0.1+1.2>1.3,1.3,(I18/H18-1.2)*0.1+1.2),I18/H18)))) -> 0.88708598 | K18: 15 | L18: Х | M18: Х | N18: Х | O18: Х | P18: Х | Q18: Х | R18: Х | S18: Х | T18: Х | U18: Х | V18: Х | W18: Х | X18: =(B18*C18+F18*G18+J18*K18)/(C18+G18+K18) -> 0.96101266 | Y18: 84522 | Z18: =ROUND(X18*Y18,1) -> 81226.7 | AA18: =Z18-Y18 -> -3295.3 | AD18: =Z18-AB18-AC18 -> 81226.7 | AE18: 5972.1 | AF18: 5972.1 | AG18: 5972.1 | AH18: 5972.1 | AI18: 210.8 | AJ18: 4819.8 | AK18: 10827.3 | AL18: 5577.8 | AM18: 5665.5 | AN18: 10886.7 | AO18: 12327.3 | AP18: =ROUND(AD18-SUM(AE18:AO18),1) -> 7023.1 | AU18: =IF(AND(AP18>0,OR(AQ18="-",AR18="-",AS18="-",AT18="-")),0,AP18) -> 7023.1
A19: Муниципальные районы | D19: =SUM(D20:D46) -> 446418.32 | E19: =SUM(E20:E46) -> 452964 | F19: =IF(E19/D19>1.2,IF((E19/D19-1.2)*0.1+1.2>1.3,1.3,(E19/D19-1.2)*0.1+1.2),E19/D19) -> 1.0146627 | H19: =SUM(H20:H46) -> 873292 | I19: =SUM(I20:I46) -> 750377 | J19: =IF(I19/H19>1.2,IF((I19/H19-1.2)*0.1+1.2>1.3,1.3,(I19/H19-1.2)*0.1+1.2),I19/H19) -> 0.85925097 | L19: =SUM(L20:L46) -> 2799.9 | M19: =SUM(M20:M46) -> 3375.1 | N19: =IF(M19/L19>1.2,IF((M19/L19-1.2)*0.1+1.2>1.3,1.3,(M19/L19-1.2)*0.1+1.2),M19/L19) -> 1.2005436 | P19: =SUM(P20:P46) -> 441620.8 | Q19: =SUM(Q20:Q46) -> 407674 | R19: =IF(Q19/P19>1.2,IF((Q19/P19-1.2)*0.1+1.2>1.3,1.3,(Q19/P19-1.2)*0.1+1.2),Q19/P19) -> 0.92313134 | T19: =SUM(T20:T46) -> 154503.7 | U19: =SUM(U20:U46) -> 145841.9 | V19: =IF(U19/T19>1.2,IF((U19/T19-1.2)*0.1+1.2>1.3,1.3,(U19/T19-1.2)*0.1+1.2),U19/T19) -> 0.94393791 | Y19: =SUM(Y20:Y46) -> 1630327 | Z19: =SUM(Z20:Z46) -> 1553319.2 | AA19: =SUM(AA20:AA46) -> -77007.8 | AB19: =SUM(AB20:AB46) -> 43758.6 | AC19: =SUM(AC20:AC46) -> 0 | AD19: =SUM(AD20:AD46) -> 1509560.6 | AE19: =SUM(AE20:AE46) -> 138367.5 | AF19: =SUM(AF20:AF46) -> 138366.9 | ... AP19: =SUM(AP20:AP46) -> 19026.3 | AU19: =SUM(AU20:AU46) -> 19026.3
A20: Алексеевский | B20: 1 | C20: 10 | D20: 4329.2 | E20: 4360 | F20: =IF(G20=0,0,IF(D20=0,1,IF(E20<0,0,IF(E20/D20>1.2,IF((E20/D20-1.2)*0.1+1.2>1.3,1.3,(E20/D20-1.2)*0.1+1.2),E20/D20)))) -> 1.0071145 | G20: 10 | H20: 811 | I20: 848 | J20: =IF(K20=0,0,IF(H20=0,1,IF(I20<0,0,IF(I20/H20>1.2,IF((I20/H20-1.2)*0.1+1.2>1.3,1.3,(I20/H20-1.2)*0.1+1.2),I20/H20)))) -> 1.0456227 | K20: 5 | L20: 95.7 | M20: 146.4 | N20: =IF(O20=0,0,IF(L20=0,1,IF(M20<0,0,IF(M20/L20>1.2,IF((M20/L20-1.2)*0.1+1.2>1.3,1.3,(M20/L20-1.2)*0.1+1.2),M20/L20)))) -> 1.2329781 | O20: 10 | P20: 23486.2 | Q20: 6623 | R20: =IF(S20=0,0,IF(P20=0,1,IF(Q20<0,0,IF(Q20/P20>1.2,IF((Q20/P20-1.2)*0.1+1.2>1.3,1.3,(Q20/P20-1.2)*0.1+1.2),Q20/P20)))) -> 0.28199538 | S20: 10 | T20: 4738 | U20: 991 | V20: =IF(W20=0,0,IF(T20=0,1,IF(U20<0,0,IF(U20/T20>1.2,IF((U20/T20-1.2)*0.1+1.2>1.3,1.3,(U20/T20-1.2)*0.1+1.2),U20/T20)))) -> 0.20915998 | W20: 10 | X20: =(B20*C20+F20*G20+J20*K20+N20*O20+R20*S20+V20*W20)/(C20+G20+K20+O20+S20+W20) -> 0.77346532 | Y20: 33647 | Z20: =ROUND(X20*Y20,1) -> 26024.8 | AA20: =Z20-Y20 -> -7622.2 | AB20: 1097.3 | AD20: =Z20-AB20-AC20 -> 24927.5 | AE20: 3058.8 | AF20: 3058.8 | AG20: 3058.9 | AH20: 3058.8 | AI20: 1015.1 | AJ20: 2430.5 | AK20: 2430.7 | AL20: 4637.1 | AM20: 2706.5 | AN20: 2706.4 | AO20: 3568.2 | AP20: =ROUND(AD20-SUM(AE20:AO20),1) -> -6802.3 | AU20: =IF(AND(AP20>0,OR(AQ20="-",AR20="-",AS20="-",AT20="-")),0,AP20) -> -6802.3
A21: Безенчукский | B21: 1 | C21: 10 | D21: 24813.67 | E21: 25073 | F21: =IF(G21=0,0,IF(D21=0,1,IF(E21<0,0,IF(E21/D21>1.2,IF((E21/D21-1.2)*0.1+1.2>1.3,1.3,(E21/D21-1.2)*0.1+1.2),E21/D21)))) -> 1.0104511 | G21: 10 | H21: 15219 | I21: 8983 | J21: =IF(K21=0,0,IF(H21=0,1,IF(I21<0,0,IF(I21/H21>1.2,IF((I21/H21-1.2)*0.1+1.2>1.3,1.3,(I21/H21-1.2)*0.1+1.2),I21/H21)))) -> 0.59024903 | K21: 5 | L21: 110.4 | M21: 140.5 | N21: =IF(O21=0,0,IF(L21=0,1,IF(M21<0,0,IF(M21/L21>1.2,IF((M21/L21-1.2)*0.1+1.2>1.3,1.3,(M21/L21-1.2)*0.1+1.2),M21/L21)))) -> 1.2072645 | O21: 10 | P21: 21848.3 | Q21: 21849 | R21: =IF(S21=0,0,IF(P21=0,1,IF(Q21<0,0,IF(Q21/P21>1.2,IF((Q21/P21-1.2)*0.1+1.2>1.3,1.3,(Q21/P21-1.2)*0.1+1.2),Q21/P21)))) -> 1.000032 | S21: 10 | T21: 3432.1 | U21: 2778 | V21: =IF(W21=0,0,IF(T21=0,1,IF(U21<0,0,IF(U21/T21>1.2,IF((U21/T21-1.2)*0.1+1.2>1.3,1.3,(U21/T21-1.2)*0.1+1.2),U21/T21)))) -> 0.80941698 | W21: 10 | X21: =(B21*C21+F21*G21+J21*K21+N21*O21+R21*S21+V21*W21)/(C21+G21+K21+O21+S21+W21) -> 0.96768893 | Y21: 63147 | Z21: =ROUND(X21*Y21,1) -> 61106.7 | AA21: =Z21-Y21 -> -2040.3 | AB21: 1229.9 | AD21: =Z21-AB21-AC21 -> 59876.8 | AE21: 5740.6 | AF21: 5740.7 | AG21: 5740.6 | AH21: 5740.6 | AI21: 3486.8 | AJ21: 5043.8 | AK21: 5044 | AL21: 8650.1 | AM21: 5494.6 | AN21: 5494.7 | AO21: 1171.2 | AP21: =ROUND(AD21-SUM(AE21:AO21),1) -> 2529.1 | AU21: =IF(AND(AP21>0,OR(AQ21="-",AR21="-",AS21="-",AT21="-")),0,AP21) -> 2529.1
A22: Богатовский | B22: 1 | C22: 10 | D22: 8045.54 | E22: 8157 | F22: =IF(G22=0,0,IF(D22=0,1,IF(E22<0,0,IF(E22/D22>1.2,IF((E22/D22-1.2)*0.1+1.2>1.3,1.3,(E22/D22-1.2)*0.1+1.2),E22/D22)))) -> 1.0138536 | G22: 10 | H22: 4289 | I22: 3161 | J22: =IF(K22=0,0,IF(H22=0,1,IF(I22<0,0,IF(I22/H22>1.2,IF((I22/H22-1.2)*0.1+1.2>1.3,1.3,(I22/H22-1.2)*0.1+1.2),I22/H22)))) -> 0.73700163 | K22: 5 | L22: 54.6 | M22: 53.9 | N22: =IF(O22=0,0,IF(L22=0,1,IF(M22<0,0,IF(M22/L22>1.2,IF((M22/L22-1.2)*0.1+1.2>1.3,1.3,(M22/L22-1.2)*0.1+1.2),M22/L22)))) -> 0.98717949 | O22: 10 | P22: 16634.9 | Q22: 19785 | R22: =IF(S22=0,0,IF(P22=0,1,IF(Q22<0,0,IF(Q22/P22>1.2,IF((Q22/P22-1.2)*0.1+1.2>1.3,1.3,(Q22/P22-1.2)*0.1+1.2),Q22/P22)))) -> 1.1893669 | S22: 10 | T22: 1580 | U22: 2723 | V22: =IF(W22=0,0,IF(T22=0,1,IF(U22<0,0,IF(U22/T22>1.2,IF((U22/T22-1.2)*0.1+1.2>1.3,1.3,(U22/T22-1.2)*0.1+1.2),U22/T22)))) -> 1.2523418 | W22: 10 | X22: =(B22*C22+F22*G22+J22*K22+N22*O22+R22*S22+V22*W22)/(C22+G22+K22+O22+S22+W22) -> 1.0565896 | Y22: 42531 | Z22: =ROUND(X22*Y22,1) -> 44937.8 | AA22: =Z22-Y22 -> 2406.8 | AD22: =Z22-AB22-AC22 -> 44937.8 | AE22: 3866.5 | AF22: 3866.4 | AG22: 3866.5 | AH22: 3866.4 | AI22: 852.4 | AJ22: 3263.6 | AK22: 3263.7 | AL22: 4522.7 | AM22: 3421.1 | AN22: 3420.9 | AO22: 4973.9 | AP22: =ROUND(AD22-SUM(AE22:AO22),1) -> 5753.7 | AU22: =IF(AND(AP22>0,OR(AQ22="-",AR22="-",AS22="-",AT22="-")),0,AP22) -> 5753.7
A23: Большеглушицкий | B23: 1 | C23: 10 | D23: 7920.48 | E23: 8433 | F23: =IF(G23=0,0,IF(D23=0,1,IF(E23<0,0,IF(E23/D23>1.2,IF((E23/D23-1.2)*0.1+1.2>1.3,1.3,(E23/D23-1.2)*0.1+1.2),E23/D23)))) -> 1.0647082 | G23: 10 | H23: 6376 | I23: 4003 | J23: =IF(K23=0,0,IF(H23=0,1,IF(I23<0,0,IF(I23/H23>1.2,IF((I23/H23-1.2)*0.1+1.2>1.3,1.3,(I23/H23-1.2)*0.1+1.2),I23/H23)))) -> 0.62782309 | K23: 5 | L23: 155.4 | M23: 191.9 | N23: =IF(O23=0,0,IF(L23=0,1,IF(M23<0,0,IF(M23/L23>1.2,IF((M23/L23-1.2)*0.1+1.2>1.3,1.3,(M23/L23-1.2)*0.1+1.2),M23/L23)))) -> 1.2034878 | O23: 10 | P23: 7800 | Q23: 7650 | R23: =IF(S23=0,0,IF(P23=0,1,IF(Q23<0,0,IF(Q23/P23>1.2,IF((Q23/P23-1.2)*0.1+1.2>1.3,1.3,(Q23/P23-1.2)*0.1+1.2),Q23/P23)))) -> 0.98076923 | S23: 10 | T23: 3593 | U23: 2783.7 | V23: =IF(W23=0,0,IF(T23=0,1,IF(U23<0,0,IF(U23/T23>1.2,IF((U23/T23-1.2)*0.1+1.2>1.3,1.3,(U23/T23-1.2)*0.1+1.2),U23/T23)))) -> 0.77475647 | W23: 10 | X23: =(B23*C23+F23*G23+J23*K23+N23*O23+R23*S23+V23*W23)/(C23+G23+K23+O23+S23+W23) -> 0.97047877 | Y23: 55902 | Z23: =ROUND(X23*Y23,1) -> 54251.7 | AA23: =Z23-Y23 -> -1650.3 | AB23: 7703.5 | AD23: =Z23-AB23-AC23 -> 46548.2 | AE23: 5082 | AF23: 5082 | AG23: 5082 | AH23: 5082 | AI23: 1154.7 | AJ23: 2755.8 | AK23: 2755.8 | AL23: 9039.6 | AM23: 3541.3 | AN23: 3541.3 | AO23: 422 | AP23: =ROUND(AD23-SUM(AE23:AO23),1) -> 3009.7 | AU23: =IF(AND(AP23>0,OR(AQ23="-",AR23="-",AS23="-",AT23="-")),0,AP23) -> 3009.7
A24: Большечерниговский | B24: 1 | C24: 10 | D24: 6743.18 | E24: 6868 | F24: =IF(G24=0,0,IF(D24=0,1,IF(E24<0,0,IF(E24/D24>1.2,IF((E24/D24-1.2)*0.1+1.2>1.3,1.3,(E24/D24-1.2)*0.1+1.2),E24/D24)))) -> 1.0185106 | G24: 10 | H24: 3378 | I24: 2399 | J24: =IF(K24=0,0,IF(H24=0,1,IF(I24<0,0,IF(I24/H24>1.2,IF((I24/H24-1.2)*0.1+1.2>1.3,1.3,(I24/H24-1.2)*0.1+1.2),I24/H24)))) -> 0.71018354 | K24: 5 | L24: 122.1 | M24: 170.5 | N24: =IF(O24=0,0,IF(L24=0,1,IF(M24<0,0,IF(M24/L24>1.2,IF((M24/L24-1.2)*0.1+1.2>1.3,1.3,(M24/L24-1.2)*0.1+1.2),M24/L24)))) -> 1.2196396 | O24: 10 | P24: 25582.7 | Q24: 19431 | R24: =IF(S24=0,0,IF(P24=0,1,IF(Q24<0,0,IF(Q24/P24>1.2,IF((Q24/P24-1.2)*0.1+1.2>1.3,1.3,(Q24/P24-1.2)*0.1+1.2),Q24/P24)))) -> 0.75953672 | S24: 10 | T24: 5962.9 | U24: 3670.2 | V24: =IF(W24=0,0,IF(T24=0,1,IF(U24<0,0,IF(U24/T24>1.2,IF((U24/T24-1.2)*0.1+1.2>1.3,1.3,(U24/T24-1.2)*0.1+1.2),U24/T24)))) -> 0.61550588 | W24: 10 | X24: =(B24*C24+F24*G24+J24*K24+N24*O24+R24*S24+V24*W24)/(C24+G24+K24+O24+S24+W24) -> 0.90332447 | Y24: 49182 | Z24: =ROUND(X24*Y24,1) -> 44427.3 | AA24: =Z24-Y24 -> -4754.7 | AB24: 572.1 | AD24: =Z24-AB24-AC24 -> 43855.2 | AE24: 4471.1 | AF24: 4471.1 | AG24: 4471.1 | AH24: 4471.1 | AI24: 2124.6 | AJ24: 3887.4 | AK24: 3887.4 | AL24: 600.8 | AM24: 3476.6 | AN24: 3476.6 | AO24: 3960.7 | AP24: =ROUND(AD24-SUM(AE24:AO24),1) -> 4556.7 | AU24: =IF(AND(AP24>0,OR(AQ24="-",AR24="-",AS24="-",AT24="-")),0,AP24) -> 4556.7
A25: Борский | B25: 1 | C25: 10 | D25: 9003.47 | E25: 9123 | F25: =IF(G25=0,0,IF(D25=0,1,IF(E25<0,0,IF(E25/D25>1.2,IF((E25/D25-1.2)*0.1+1.2>1.3,1.3,(E25/D25-1.2)*0.1+1.2),E25/D25)))) -> 1.013276 | G25: 10 | H25: 9290 | I25: 2884 | J25: =IF(K25=0,0,IF(H25=0,1,IF(I25<0,0,IF(I25/H25>1.2,IF((I25/H25-1.2)*0.1+1.2>1.3,1.3,(I25/H25-1.2)*0.1+1.2),I25/H25)))) -> 0.31044133 | K25: 5 | L25: 86.6 | M25: 130 | N25: =IF(O25=0,0,IF(L25=0,1,IF(M25<0,0,IF(M25/L25>1.2,IF((M25/L25-1.2)*0.1+1.2>1.3,1.3,(M25/L25-1.2)*0.1+1.2),M25/L25)))) -> 1.2301155 | O25: 10 | P25: 12961 | Q25: 12961 | R25: =IF(S25=0,0,IF(P25=0,1,IF(Q25<0,0,IF(Q25/P25>1.2,IF((Q25/P25-1.2)*0.1+1.2>1.3,1.3,(Q25/P25-1.2)*0.1+1.2),Q25/P25)))) -> 1 | S25: 10 | T25: 2870.9 | U25: 2871 | V25: =IF(W25=0,0,IF(T25=0,1,IF(U25<0,0,IF(U25/T25>1.2,IF((U25/T25-1.2)*0.1+1.2>1.3,1.3,(U25/T25-1.2)*0.1+1.2),U25/T25)))) -> 1.0000348 | W25: 10 | X25: =(B25*C25+F25*G25+J25*K25+N25*O25+R25*S25+V25*W25)/(C25+G25+K25+O25+S25+W25) -> 0.98157218 | Y25: 62016 | Z25: =ROUND(X25*Y25,1) -> 60873.2 | AA25: =Z25-Y25 -> -1142.8 | AD25: =Z25-AB25-AC25 -> 60873.2 | AE25: 5637.8 | AF25: 5637.8 | AG25: 5637.9 | AH25: 5637.8 | AI25: 194.4 | AJ25: 4549.2 | AK25: 4549.1 | AL25: 2844 | AM25: 4336.1 | AN25: 4336 | AO25: 3990.3 | AP25: =ROUND(AD25-SUM(AE25:AO25),1) -> 13522.8 | AU25: =IF(AND(AP25>0,OR(AQ25="-",AR25="-",AS25="-",AT25="-")),0,AP25) -> 13522.8
A26: Волжский | B26: 1 | C26: 10 | D26: 88055.5 | E26: 88961 | F26: =IF(G26=0,0,IF(D26=0,1,IF(E26<0,0,IF(E26/D26>1.2,IF((E26/D26-1.2)*0.1+1.2>1.3,1.3,(E26/D26-1.2)*0.1+1.2),E26/D26)))) -> 1.0102833 | G26: 10 | H26: 293741 | I26: 215018 | J26: =IF(K26=0,0,IF(H26=0,1,IF(I26<0,0,IF(I26/H26>1.2,IF((I26/H26-1.2)*0.1+1.2>1.3,1.3,(I26/H26-1.2)*0.1+1.2),I26/H26)))) -> 0.7319986 | K26: 5 | L26: 102.9 | M26: 149.4 | N26: =IF(O26=0,0,IF(L26=0,1,IF(M26<0,0,IF(M26/L26>1.2,IF((M26/L26-1.2)*0.1+1.2>1.3,1.3,(M26/L26-1.2)*0.1+1.2),M26/L26)))) -> 1.2251895 | O26: 10 | P26: 15111.2 | Q26: 13437 | R26: =IF(S26=0,0,IF(P26=0,1,IF(Q26<0,0,IF(Q26/P26>1.2,IF((Q26/P26-1.2)*0.1+1.2>1.3,1.3,(Q26/P26-1.2)*0.1+1.2),Q26/P26)))) -> 0.889208 | S26: 10 | T26: 4298.5 | U26: 3306 | V26: =IF(W26=0,0,IF(T26=0,1,IF(U26<0,0,IF(U26/T26>1.2,IF((U26/T26-1.2)*0.1+1.2>1.3,1.3,(U26/T26-1.2)*0.1+1.2),U26/T26)))) -> 0.7691055 | W26: 10 | X26: =(B26*C26+F26*G26+J26*K26+N26*O26+R26*S26+V26*W26)/(C26+G26+K26+O26+S26+W26) -> 0.95632465 | Y26: 105527 | Z26: =ROUND(X26*Y26,1) -> 100918.1 | AA26: =Z26-Y26 -> -4608.9 | AD26: =Z26-AB26-AC26 -> 100918.1 | AE26: 9593.4 | AF26: 9593.3 | AG26: 9593.4 | AH26: 9593.4 | AI26: 8791 | AJ26: 9433 | AK26: 9432.8 | AL26: 10716.6 | AM26: 9593.4 | AN26: 9593.3 | AO26: 9121.8 | AP26: =ROUND(AD26-SUM(AE26:AO26),1) -> -4137.3 | AU26: =IF(AND(AP26>0,OR(AQ26="-",AR26="-",AS26="-",AT26="-")),0,AP26) -> -4137.3
A27: Елховский | B27: 1 | C27: 10 | D27: 4261.48 | E27: 4304 | F27: =IF(G27=0,0,IF(D27=0,1,IF(E27<0,0,IF(E27/D27>1.2,IF((E27/D27-1.2)*0.1+1.2>1.3,1.3,(E27/D27-1.2)*0.1+1.2),E27/D27)))) -> 1.0099778 | G27: 10 | H27: 2799 | I27: 2229 | J27: =IF(K27=0,0,IF(H27=0,1,IF(I27<0,0,IF(I27/H27>1.2,IF((I27/H27-1.2)*0.1+1.2>1.3,1.3,(I27/H27-1.2)*0.1+1.2),I27/H27)))) -> 0.79635584 | K27: 5 | L27: 82.5 | M27: 101.4 | N27: =IF(O27=0,0,IF(L27=0,1,IF(M27<0,0,IF(M27/L27>1.2,IF((M27/L27-1.2)*0.1+1.2>1.3,1.3,(M27/L27-1.2)*0.1+1.2),M27/L27)))) -> 1.2029091 | O27: 10 | P27: 6110.5 | Q27: 4752 | R27: =IF(S27=0,0,IF(P27=0,1,IF(Q27<0,0,IF(Q27/P27>1.2,IF((Q27/P27-1.2)*0.1+1.2>1.3,1.3,(Q27/P27-1.2)*0.1+1.2),Q27/P27)))) -> 0.77767777 | S27: 10 | T27: 969.4 | U27: 894 | V27: =IF(W27=0,0,IF(T27=0,1,IF(U27<0,0,IF(U27/T27>1.2,IF((U27/T27-1.2)*0.1+1.2>1.3,1.3,(U27/T27-1.2)*0.1+1.2),U27/T27)))) -> 0.92221993 | W27: 10 | X27: =(B27*C27+F27*G27+J27*K27+N27*O27+R27*S27+V27*W27)/(C27+G27+K27+O27+S27+W27) -> 0.96562954 | Y27: 27208 | Z27: =ROUND(X27*Y27,1) -> 26272.8 | AA27: =Z27-Y27 -> -935.2 | AD27: =Z27-AB27-AC27 -> 26272.8 | AE27: 2473.5 | AF27: 2473.4 | AG27: 2473.5 | AH27: 2473.4 | AI27: 1210.3 | AJ27: 2220.7 | AK27: 2220.9 | AL27: 1236.6 | AM27: 2097.8 | AN27: 2097.8 | AO27: 2807.1 | AP27: =ROUND(AD27-SUM(AE27:AO27),1) -> 2487.8 | AU27: =IF(AND(AP27>0,OR(AQ27="-",AR27="-",AS27="-",AT27="-")),0,AP27) -> 2487.8
A28: Исаклинский | B28: 1 | C28: 10 | D28: 4586.31 | E28: 4698 | F28: =IF(G28=0,0,IF(D28=0,1,IF(E28<0,0,IF(E28/D28>1.2,IF((E28/D28-1.2)*0.1+1.2>1.3,1.3,(E28/D28-1.2)*0.1+1.2),E28/D28)))) -> 1.0243529 | G28: 10 | H28: 3577 | I28: 2659 | J28: =IF(K28=0,0,IF(H28=0,1,IF(I28<0,0,IF(I28/H28>1.2,IF((I28/H28-1.2)*0.1+1.2>1.3,1.3,(I28/H28-1.2)*0.1+1.2),I28/H28)))) -> 0.74336036 | K28: 5 | L28: 60.8 | M28: 75.5 | N28: =IF(O28=0,0,IF(L28=0,1,IF(M28<0,0,IF(M28/L28>1.2,IF((M28/L28-1.2)*0.1+1.2>1.3,1.3,(M28/L28-1.2)*0.1+1.2),M28/L28)))) -> 1.2041776 | O28: 10 | P28: 23602.8 | Q28: 22030 | R28: =IF(S28=0,0,IF(P28=0,1,IF(Q28<0,0,IF(Q28/P28>1.2,IF((Q28/P28-1.2)*0.1+1.2>1.3,1.3,(Q28/P28-1.2)*0.1+1.2),Q28/P28)))) -> 0.93336384 | S28: 10 | T28: 3162.4 | U28: 3079.5 | V28: =IF(W28=0,0,IF(T28=0,1,IF(U28<0,0,IF(U28/T28>1.2,IF((U28/T28-1.2)*0.1+1.2>1.3,1.3,(U28/T28-1.2)*0.1+1.2),U28/T28)))) -> 0.97378573 | W28: 10 | X28: =(B28*C28+F28*G28+J28*K28+N28*O28+R28*S28+V28*W28)/(C28+G28+K28+O28+S28+W28) -> 1.0013382 | Y28: 50654 | Z28: =ROUND(X28*Y28,1) -> 50721.8 | AA28: =Z28-Y28 -> 67.8 | AD28: =Z28-AB28-AC28 -> 50721.8 | AE28: 4604.9 | AF28: 4604.9 | AG28: 4604.9 | AH28: 4604.9 | AI28: 3187.7 | AJ28: 4321.6 | AK28: 4321.4 | AL28: 1031 | AM28: 3910.1 | AN28: 3910.2 | AO28: 7875.3 | AP28: =ROUND(AD28-SUM(AE28:AO28),1) -> 3744.9 | AU28: =IF(AND(AP28>0,OR(AQ28="-",AR28="-",AS28="-",AT28="-")),0,AP28) -> 3744.9
A29: Камышлинский | B29: 1 | C29: 10 | D29: 3249.64 | E29: 3364 | F29: =IF(G29=0,0,IF(D29=0,1,IF(E29<0,0,IF(E29/D29>1.2,IF((E29/D29-1.2)*0.1+1.2>1.3,1.3,(E29/D29-1.2)*0.1+1.2),E29/D29)))) -> 1.0351916 | G29: 10 | H29: 1474 | I29: 850 | J29: =IF(K29=0,0,IF(H29=0,1,IF(I29<0,0,IF(I29/H29>1.2,IF((I29/H29-1.2)*0.1+1.2>1.3,1.3,(I29/H29-1.2)*0.1+1.2),I29/H29)))) -> 0.57666214 | K29: 5 | L29: 38.3 | M29: 37.9 | N29: =IF(O29=0,0,IF(L29=0,1,IF(M29<0,0,IF(M29/L29>1.2,IF((M29/L29-1.2)*0.1+1.2>1.3,1.3,(M29/L29-1.2)*0.1+1.2),M29/L29)))) -> 0.98955614 | O29: 10 | P29: 3400 | Q29: 2769 | R29: =IF(S29=0,0,IF(P29=0,1,IF(Q29<0,0,IF(Q29/P29>1.2,IF((Q29/P29-1.2)*0.1+1.2>1.3,1.3,(Q29/P29-1.2)*0.1+1.2),Q29/P29)))) -> 0.81441176 | S29: 10 | T29: 2304.6 | U29: 1023 | V29: =IF(W29=0,0,IF(T29=0,1,IF(U29<0,0,IF(U29/T29>1.2,IF((U29/T29-1.2)*0.1+1.2>1.3,1.3,(U29/T29-1.2)*0.1+1.2),U29/T29)))) -> 0.44389482 | W29: 10 | X29: =(B29*C29+F29*G29+J29*K29+N29*O29+R29*S29+V29*W29)/(C29+G29+K29+O29+S29+W29) -> 0.83116098 | Y29: 39211 | Z29: =ROUND(X29*Y29,1) -> 32590.7 | AA29: =Z29-Y29 -> -6620.3 | AB29: 1245.9 | AD29: =Z29-AB29-AC29 -> 31344.8 | AE29: 3238.8 | AF29: 3238.8 | AG29: 3238.9 | AH29: 3238.8 | AI29: 0 | AJ29: 916.1 | AK29: 2363.6 | AL29: 4028.2 | AM29: 2377.2 | AN29: 4571.1 | AO29: 3032.1 | AP29: =ROUND(AD29-SUM(AE29:AO29),1) -> 1101.2 | AU29: =IF(AND(AP29>0,OR(AQ29="-",AR29="-",AS29="-",AT29="-")),0,AP29) -> 1101.2
A30: Кинельский | B30: 1 | C30: 10 | D30: 13512.35 | E30: 13558 | F30: =IF(G30=0,0,IF(D30=0,1,IF(E30<0,0,IF(E30/D30>1.2,IF((E30/D30-1.2)*0.1+1.2>1.3,1.3,(E30/D30-1.2)*0.1+1.2),E30/D30)))) -> 1.0033784 | G30: 10 | H30: 40936 | I30: 35937 | J30: =IF(K30=0,0,IF(H30=0,1,IF(I30<0,0,IF(I30/H30>1.2,IF((I30/H30-1.2)*0.1+1.2>1.3,1.3,(I30/H30-1.2)*0.1+1.2),I30/H30)))) -> 0.87788255 | K30: 5 | L30: 124.3 | M30: 127.5 | N30: =IF(O30=0,0,IF(L30=0,1,IF(M30<0,0,IF(M30/L30>1.2,IF((M30/L30-1.2)*0.1+1.2>1.3,1.3,(M30/L30-1.2)*0.1+1.2),M30/L30)))) -> 1.0257442 | O30: 10 | P30: 28333.9 | Q30: 35283 | R30: =IF(S30=0,0,IF(P30=0,1,IF(Q30<0,0,IF(Q30/P30>1.2,IF((Q30/P30-1.2)*0.1+1.2>1.3,1.3,(Q30/P30-1.2)*0.1+1.2),Q30/P30)))) -> 1.2045257 | S30: 10 | T30: 12070.7 | U30: 20314.8 | V30: =IF(W30=0,0,IF(T30=0,1,IF(U30<0,0,IF(U30/T30>1.2,IF((U30/T30-1.2)*0.1+1.2>1.3,1.3,(U30/T30-1.2)*0.1+1.2),U30/T30)))) -> 1.2482984 | W30: 10 | X30: =(B30*C30+F30*G30+J30*K30+N30*O30+R30*S30+V30*W30)/(C30+G30+K30+O30+S30+W30) -> 1.0765251 | Y30: 30146 | Z30: =ROUND(X30*Y30,1) -> 32452.9 | AA30: =Z30-Y30 -> 2306.9 | AD30: =Z30-AB30-AC30 -> 32452.9 | AE30: 2740.5 | AF30: 2740.6 | AG30: 2740.5 | AH30: 2740.6 | AI30: 3643 | AJ30: 2921 | AK30: 2921 | AL30: 1477.2 | AM30: 2740.5 | AN30: 2740.6 | AO30: 2425.2 | AP30: =ROUND(AD30-SUM(AE30:AO30),1) -> 2622.2 | AU30: =IF(AND(AP30>0,OR(AQ30="-",AR30="-",AS30="-",AT30="-")),0,AP30) -> 2622.2
A31: Кинель-Черкасский | B31: 1 | C31: 10 | D31: 21025.19 | E31: 21215 | F31: =IF(G31=0,0,IF(D31=0,1,IF(E31<0,0,IF(E31/D31>1.2,IF((E31/D31-1.2)*0.1+1.2>1.3,1.3,(E31/D31-1.2)*0.1+1.2),E31/D31)))) -> 1.0090277 | G31: 10 | H31: 13828 | I31: 11274 | J31: =IF(K31=0,0,IF(H31=0,1,IF(I31<0,0,IF(I31/H31>1.2,IF((I31/H31-1.2)*0.1+1.2>1.3,1.3,(I31/H31-1.2)*0.1+1.2),I31/H31)))) -> 0.81530229 | K31: 5 | L31: 170 | M31: 206.4 | N31: =IF(O31=0,0,IF(L31=0,1,IF(M31<0,0,IF(M31/L31>1.2,IF((M31/L31-1.2)*0.1+1.2>1.3,1.3,(M31/L31-1.2)*0.1+1.2),M31/L31)))) -> 1.2014118 | O31: 10 | P31: 12062.1 | Q31: 9173 | R31: =IF(S31=0,0,IF(P31=0,1,IF(Q31<0,0,IF(Q31/P31>1.2,IF((Q31/P31-1.2)*0.1+1.2>1.3,1.3,(Q31/P31-1.2)*0.1+1.2),Q31/P31)))) -> 0.76048118 | S31: 10 | T31: 41470.7 | U31: 57311 | V31: =IF(W31=0,0,IF(T31=0,1,IF(U31<0,0,IF(U31/T31>1.2,IF((U31/T31-1.2)*0.1+1.2>1.3,1.3,(U31/T31-1.2)*0.1+1.2),U31/T31)))) -> 1.2181964 | W31: 10 | X31: =(B31*C31+F31*G31+J31*K31+N31*O31+R31*S31+V31*W31)/(C31+G31+K31+O31+S31+W31) -> 1.0175942 | Y31: 83878 | Z31: =ROUND(X31*Y31,1) -> 85353.8 | AA31: =Z31-Y31 -> 1475.8 | AD31: =Z31-AB31-AC31 -> 85353.8 | AE31: 7625.3 | AF31: 7625.2 | AG31: 7625.3 | AH31: 7625.3 | AI31: 3510.9 | AJ31: 6802.3 | AK31: 6802.4 | AL31: 13385.5 | AM31: 7625.3 | AN31: 7625.2 | AO31: 4159 | AP31: =ROUND(AD31-SUM(AE31:AO31),1) -> 4942.1 | AU31: =IF(AND(AP31>0,OR(AQ31="-",AR31="-",AS31="-",AT31="-")),0,AP31) -> 4942.1
A32: Клявлинский | B32: 1 | C32: 10 | D32: 5603.27 | E32: 5688 | F32: =IF(G32=0,0,IF(D32=0,1,IF(E32<0,0,IF(E32/D32>1.2,IF((E32/D32-1.2)*0.1+1.2>1.3,1.3,(E32/D32-1.2)*0.1+1.2),E32/D32)))) -> 1.0151215 | G32: 10 | H32: 1855 | I32: 1664 | J32: =IF(K32=0,0,IF(H32=0,1,IF(I32<0,0,IF(I32/H32>1.2,IF((I32/H32-1.2)*0.1+1.2>1.3,1.3,(I32/H32-1.2)*0.1+1.2),I32/H32)))) -> 0.89703504 | K32: 5 | L32: 44.5 | M32: 63.3 | N32: =IF(O32=0,0,IF(L32=0,1,IF(M32<0,0,IF(M32/L32>1.2,IF((M32/L32-1.2)*0.1+1.2>1.3,1.3,(M32/L32-1.2)*0.1+1.2),M32/L32)))) -> 1.2222472 | O32: 10 | P32: 7245.8 | Q32: 26643.3 | R32: =IF(S32=0,0,IF(P32=0,1,IF(Q32<0,0,IF(Q32/P32>1.2,IF((Q32/P32-1.2)*0.1+1.2>1.3,1.3,(Q32/P32-1.2)*0.1+1.2),Q32/P32)))) -> 1.3 | S32: 10 | T32: 1447.2 | U32: 1010 | V32: =IF(W32=0,0,IF(T32=0,1,IF(U32<0,0,IF(U32/T32>1.2,IF((U32/T32-1.2)*0.1+1.2>1.3,1.3,(U32/T32-1.2)*0.1+1.2),U32/T32)))) -> 0.69789939 | W32: 10 | X32: =(B32*C32+F32*G32+J32*K32+N32*O32+R32*S32+V32*W32)/(C32+G32+K32+O32+S32+W32) -> 1.0334156 | Y32: 68589 | Z32: =ROUND(X32*Y32,1) -> 70880.9 | AA32: =Z32-Y32 -> 2291.9 | AD32: =Z32-AB32-AC32 -> 70880.9 | AE32: 3728 | AF32: 3728 | AG32: 3728 | AH32: 3728 | AI32: 0 | AJ32: 1314.9 | AK32: 9684.2 | AL32: 7094.6 | AM32: 4125.8 | AN32: 13286.1 | AO32: 10502.2 | AP32: =ROUND(AD32-SUM(AE32:AO32),1) -> 9961.1 | AU32: =IF(AND(AP32>0,OR(AQ32="-",AR32="-",AS32="-",AT32="-")),0,AP32) -> 9961.1
A33: Кошкинский | B33: 1 | C33: 10 | D33: 13550.61 | E33: 13931 | F33: =IF(G33=0,0,IF(D33=0,1,IF(E33<0,0,IF(E33/D33>1.2,IF((E33/D33-1.2)*0.1+1.2>1.3,1.3,(E33/D33-1.2)*0.1+1.2),E33/D33)))) -> 1.0280718 | G33: 10 | H33: 4521 | I33: 5994 | J33: =IF(K33=0,0,IF(H33=0,1,IF(I33<0,0,IF(I33/H33>1.2,IF((I33/H33-1.2)*0.1+1.2>1.3,1.3,(I33/H33-1.2)*0.1+1.2),I33/H33)))) -> 1.2125813 | K33: 5 | L33: 163.8 | M33: 184.2 | N33: =IF(O33=0,0,IF(L33=0,1,IF(M33<0,0,IF(M33/L33>1.2,IF((M33/L33-1.2)*0.1+1.2>1.3,1.3,(M33/L33-1.2)*0.1+1.2),M33/L33)))) -> 1.1245421 | O33: 10 | P33: 27700 | Q33: 27655 | R33: =IF(S33=0,0,IF(P33=0,1,IF(Q33<0,0,IF(Q33/P33>1.2,IF((Q33/P33-1.2)*0.1+1.2>1.3,1.3,(Q33/P33-1.2)*0.1+1.2),Q33/P33)))) -> 0.99837545 | S33: 10 | T33: 4398.3 | U33: 3409.9 | V33: =IF(W33=0,0,IF(T33=0,1,IF(U33<0,0,IF(U33/T33>1.2,IF((U33/T33-1.2)*0.1+1.2>1.3,1.3,(U33/T33-1.2)*0.1+1.2),U33/T33)))) -> 0.77527681 | W33: 10 | X33: =(B33*C33+F33*G33+J33*K33+N33*O33+R33*S33+V33*W33)/(C33+G33+K33+O33+S33+W33) -> 1.0059194 | Y33: 53829 | Z33: =ROUND(X33*Y33,1) -> 54147.6 | AA33: =Z33-Y33 -> 318.6 | AB33: 2120.8 | AD33: =Z33-AB33-AC33 -> 52026.8 | AE33: 4893.5 | AF33: 4893.6 | AG33: 4893.5 | AH33: 4893.6 | AI33: 1758.2 | AJ33: 3842.4 | AK33: 3842.3 | AL33: 8858.8 | AM33: 4469.4 | AN33: 4469.4 | AO33: 8696 | AP33: =ROUND(AD33-SUM(AE33:AO33),1) -> -3483.9 | AU33: =IF(AND(AP33>0,OR(AQ33="-",AR33="-",AS33="-",AT33="-")),0,AP33) -> -3483.9
A34: Красноармейский | B34: 1 | C34: 10 | D34: 5926.75 | E34: 6029 | F34: =IF(G34=0,0,IF(D34=0,1,IF(E34<0,0,IF(E34/D34>1.2,IF((E34/D34-1.2)*0.1+1.2>1.3,1.3,(E34/D34-1.2)*0.1+1.2),E34/D34)))) -> 1.0172523 | G34: 10 | H34: 6823 | I34: 5071 | J34: =IF(K34=0,0,IF(H34=0,1,IF(I34<0,0,IF(I34/H34>1.2,IF((I34/H34-1.2)*0.1+1.2>1.3,1.3,(I34/H34-1.2)*0.1+1.2),I34/H34)))) -> 0.74322146 | K34: 5 | L34: 150.1 | M34: 167.4 | N34: =IF(O34=0,0,IF(L34=0,1,IF(M34<0,0,IF(M34/L34>1.2,IF((M34/L34-1.2)*0.1+1.2>1.3,1.3,(M34/L34-1.2)*0.1+1.2),M34/L34)))) -> 1.1152565 | O34: 10 | P34: 14493 | Q34: 14493 | R34: =IF(S34=0,0,IF(P34=0,1,IF(Q34<0,0,IF(Q34/P34>1.2,IF((Q34/P34-1.2)*0.1+1.2>1.3,1.3,(Q34/P34-1.2)*0.1+1.2),Q34/P34)))) -> 1 | S34: 10 | T34: 16432.8 | U34: 9311 | V34: =IF(W34=0,0,IF(T34=0,1,IF(U34<0,0,IF(U34/T34>1.2,IF((U34/T34-1.2)*0.1+1.2>1.3,1.3,(U34/T34-1.2)*0.1+1.2),U34/T34)))) -> 0.56661068 | W34: 10 | X34: =(B34*C34+F34*G34+J34*K34+N34*O34+R34*S34+V34*W34)/(C34+G34+K34+O34+S34+W34) -> 0.92195094 | Y34: 52077 | Z34: =ROUND(X34*Y34,1) -> 48012.4 | AA34: =Z34-Y34 -> -4064.6 | AB34: 5888 | AD34: =Z34-AB34-AC34 -> 42124.4 | AE34: 4534.5 | AF34: 4534.4 | AG34: 4534.5 | AH34: 4534.4 | AI34: 3823.6 | AJ34: 3214.6 | AK34: 4569.5 | AL34: 4595.9 | AM34: 3556.7 | AN34: 3556.6 | AO34: 2200.3 | AP34: =ROUND(AD34-SUM(AE34:AO34),1) -> -1530.6 | AU34: =IF(AND(AP34>0,OR(AQ34="-",AR34="-",AS34="-",AT34="-")),0,AP34) -> -1530.6
A35: Красноярский | B35: 1 | C35: 10 | D35: 45300 | E35: 46283 | F35: =IF(G35=0,0,IF(D35=0,1,IF(E35<0,0,IF(E35/D35>1.2,IF((E35/D35-1.2)*0.1+1.2>1.3,1.3,(E35/D35-1.2)*0.1+1.2),E35/D35)))) -> 1.0216998 | G35: 10 | H35: 155830 | I35: 151507 | J35: =IF(K35=0,0,IF(H35=0,1,IF(I35<0,0,IF(I35/H35>1.2,IF((I35/H35-1.2)*0.1+1.2>1.3,1.3,(I35/H35-1.2)*0.1+1.2),I35/H35)))) -> 0.97225823 | K35: 5 | L35: 85.7 | M35: 95.2 | N35: =IF(O35=0,0,IF(L35=0,1,IF(M35<0,0,IF(M35/L35>1.2,IF((M35/L35-1.2)*0.1+1.2>1.3,1.3,(M35/L35-1.2)*0.1+1.2),M35/L35)))) -> 1.1108518 | O35: 10 | P35: 18437 | Q35: 17457.7 | R35: =IF(S35=0,0,IF(P35=0,1,IF(Q35<0,0,IF(Q35/P35>1.2,IF((Q35/P35-1.2)*0.1+1.2>1.3,1.3,(Q35/P35-1.2)*0.1+1.2),Q35/P35)))) -> 0.94688398 | S35: 10 | T35: 4314.6 | U35: 4376.4 | V35: =IF(W35=0,0,IF(T35=0,1,IF(U35<0,0,IF(U35/T35>1.2,IF((U35/T35-1.2)*0.1+1.2>1.3,1.3,(U35/T35-1.2)*0.1+1.2),U35/T35)))) -> 1.0143235 | W35: 10 | X35: =(B35*C35+F35*G35+J35*K35+N35*O35+R35*S35+V35*W35)/(C35+G35+K35+O35+S35+W35) -> 1.0145251 | Y35: 62302 | Z35: =ROUND(X35*Y35,1) -> 63206.9 | AA35: =Z35-Y35 -> 904.9 | AB35: 1385.4 | AD35: =Z35-AB35-AC35 -> 61821.5 | AE35: 5663.8 | AF35: 5663.8 | AG35: 5663.9 | AH35: 5663.8 | AI35: 8135.5 | AJ35: 5881.1 | AK35: 5881 | AL35: 2766.2 | AM35: 5491.8 | AN35: 5491.6 | AO35: 7118.9 | AP35: =ROUND(AD35-SUM(AE35:AO35),1) -> -1599.9 | AU35: =IF(AND(AP35>0,OR(AQ35="-",AR35="-",AS35="-",AT35="-")),0,AP35) -> -1599.9
A36: Нефтегорский | B36: 1 | C36: 10 | D36: 19198.28 | E36: 19248 | F36: =IF(G36=0,0,IF(D36=0,1,IF(E36<0,0,IF(E36/D36>1.2,IF((E36/D36-1.2)*0.1+1.2>1.3,1.3,(E36/D36-1.2)*0.1+1.2),E36/D36)))) -> 1.0025898 | G36: 10 | H36: 6823 | I36: 5850 | J36: =IF(K36=0,0,IF(H36=0,1,IF(I36<0,0,IF(I36/H36>1.2,IF((I36/H36-1.2)*0.1+1.2>1.3,1.3,(I36/H36-1.2)*0.1+1.2),I36/H36)))) -> 0.85739411 | K36: 5 | L36: 95.4 | M36: 136.2 | N36: =IF(O36=0,0,IF(L36=0,1,IF(M36<0,0,IF(M36/L36>1.2,IF((M36/L36-1.2)*0.1+1.2>1.3,1.3,(M36/L36-1.2)*0.1+1.2),M36/L36)))) -> 1.2227673 | O36: 10 | P36: 9508.7 | Q36: 6820 | R36: =IF(S36=0,0,IF(P36=0,1,IF(Q36<0,0,IF(Q36/P36>1.2,IF((Q36/P36-1.2)*0.1+1.2>1.3,1.3,(Q36/P36-1.2)*0.1+1.2),Q36/P36)))) -> 0.7172379 | S36: 10 | T36: 3199.3 | U36: 3179 | V36: =IF(W36=0,0,IF(T36=0,1,IF(U36<0,0,IF(U36/T36>1.2,IF((U36/T36-1.2)*0.1+1.2>1.3,1.3,(U36/T36-1.2)*0.1+1.2),U36/T36)))) -> 0.99365486 | W36: 10 | X36: =(B36*C36+F36*G36+J36*K36+N36*O36+R36*S36+V36*W36)/(C36+G36+K36+O36+S36+W36) -> 0.9754449 | Y36: 48403 | Z36: =ROUND(X36*Y36,1) -> 47214.5 | AA36: =Z36-Y36 -> -1188.5 | AB36: 691.3 | AD36: =Z36-AB36-AC36 -> 46523.2 | AE36: 4400.3 | AF36: 4400.2 | AG36: 4400.3 | AH36: 4400.3 | AI36: 5392.2 | AJ36: 4460.3 | AK36: 4460.5 | AL36: 2873.3 | AM36: 4262.1 | AN36: 4261.9 | AO36: 5908.9 | AP36: =ROUND(AD36-SUM(AE36:AO36),1) -> -2697.1 | AU36: =IF(AND(AP36>0,OR(AQ36="-",AR36="-",AS36="-",AT36="-")),0,AP36) -> -2697.1
A37: Пестравский | B37: 1 | C37: 10 | D37: 7506.66 | E37: 7581 | F37: =IF(G37=0,0,IF(D37=0,1,IF(E37<0,0,IF(E37/D37>1.2,IF((E37/D37-1.2)*0.1+1.2>1.3,1.3,(E37/D37-1.2)*0.1+1.2),E37/D37)))) -> 1.0099032 | G37: 10 | H37: 2683 | I37: 15177 | J37: =IF(K37=0,0,IF(H37=0,1,IF(I37<0,0,IF(I37/H37>1.2,IF((I37/H37-1.2)*0.1+1.2>1.3,1.3,(I37/H37-1.2)*0.1+1.2),I37/H37)))) -> 1.3 | K37: 5 | L37: 135.3 | M37: 155.7 | N37: =IF(O37=0,0,IF(L37=0,1,IF(M37<0,0,IF(M37/L37>1.2,IF((M37/L37-1.2)*0.1+1.2>1.3,1.3,(M37/L37-1.2)*0.1+1.2),M37/L37)))) -> 1.1507761 | O37: 10 | P37: 8731.5 | Q37: 5145 | R37: =IF(S37=0,0,IF(P37=0,1,IF(Q37<0,0,IF(Q37/P37>1.2,IF((Q37/P37-1.2)*0.1+1.2>1.3,1.3,(Q37/P37-1.2)*0.1+1.2),Q37/P37)))) -> 0.58924583 | S37: 10 | T37: 3587 | U37: 1218 | V37: =IF(W37=0,0,IF(T37=0,1,IF(U37<0,0,IF(U37/T37>1.2,IF((U37/T37-1.2)*0.1+1.2>1.3,1.3,(U37/T37-1.2)*0.1+1.2),U37/T37)))) -> 0.33955952 | W37: 10 | X37: =(B37*C37+F37*G37+J37*K37+N37*O37+R37*S37+V37*W37)/(C37+G37+K37+O37+S37+W37) -> 0.86172448 | Y37: 38307 | Z37: =ROUND(X37*Y37,1) -> 33010.1 | AA37: =Z37-Y37 -> -5296.9 | AB37: 4542 | AD37: =Z37-AB37-AC37 -> 28468.1 | AE37: 3482.5 | AF37: 3482.4 | AG37: 3482.5 | AH37: 3482.4 | AI37: 5223.7 | AJ37: 2922.3 | AK37: 2922.3 | AL37: 2922.3 | AM37: 2922.3 | AN37: 2922.3 | AO37: 3830.7 | AP37: =ROUND(AD37-SUM(AE37:AO37),1) -> -9127.6 | AU37: =IF(AND(AP37>0,OR(AQ37="-",AR37="-",AS37="-",AT37="-")),0,AP37) -> -9127.6
A38: Похвистневский | B38: 1 | C38: 10 | D38: 6292.79 | E38: 6343 | F38: =IF(G38=0,0,IF(D38=0,1,IF(E38<0,0,IF(E38/D38>1.2,IF((E38/D38-1.2)*0.1+1.2>1.3,1.3,(E38/D38-1.2)*0.1+1.2),E38/D38)))) -> 1.007979 | G38: 10 | H38: 6690 | I38: 4906 | J38: =IF(K38=0,0,IF(H38=0,1,IF(I38<0,0,IF(I38/H38>1.2,IF((I38/H38-1.2)*0.1+1.2>1.3,1.3,(I38/H38-1.2)*0.1+1.2),I38/H38)))) -> 0.73333333 | K38: 5 | L38: 104.4 | M38: 107.9 | N38: =IF(O38=0,0,IF(L38=0,1,IF(M38<0,0,IF(M38/L38>1.2,IF((M38/L38-1.2)*0.1+1.2>1.3,1.3,(M38/L38-1.2)*0.1+1.2),M38/L38)))) -> 1.0335249 | O38: 10 | P38: 19500 | Q38: 18820 | R38: =IF(S38=0,0,IF(P38=0,1,IF(Q38<0,0,IF(Q38/P38>1.2,IF((Q38/P38-1.2)*0.1+1.2>1.3,1.3,(Q38/P38-1.2)*0.1+1.2),Q38/P38)))) -> 0.96512821 | S38: 10 | T38: 2575.5 | U38: 2236.7 | V38: =IF(W38=0,0,IF(T38=0,1,IF(U38<0,0,IF(U38/T38>1.2,IF((U38/T38-1.2)*0.1+1.2>1.3,1.3,(U38/T38-1.2)*0.1+1.2),U38/T38)))) -> 0.86845273 | W38: 10 | X38: =(B38*C38+F38*G38+J38*K38+N38*O38+R38*S38+V38*W38)/(C38+G38+K38+O38+S38+W38) -> 0.95304572 | Y38: 89375 | Z38: =ROUND(X38*Y38,1) -> 85178.5 | AA38: =Z38-Y38 -> -4196.5 | AD38: =Z38-AB38-AC38 -> 85178.5 | AE38: 7453.8 | AF38: 7453.8 | AG38: 7453.9 | AH38: 7453.8 | AI38: 0 | AJ38: 2589 | AK38: 5400.7 | AL38: 8540.7 | AM38: 5793.3 | AN38: 11009.7 | AO38: 15475.9 | AP38: =ROUND(AD38-SUM(AE38:AO38),1) -> 6553.9 | AU38: =IF(AND(AP38>0,OR(AQ38="-",AR38="-",AS38="-",AT38="-")),0,AP38) -> 6553.9
A39: Приволжский | B39: 1 | C39: 10 | D39: 9550.15 | E39: 9792 | F39: =IF(G39=0,0,IF(D39=0,1,IF(E39<0,0,IF(E39/D39>1.2,IF((E39/D39-1.2)*0.1+1.2>1.3,1.3,(E39/D39-1.2)*0.1+1.2),E39/D39)))) -> 1.0253242 | G39: 10 | H39: 4455 | I39: 4051 | J39: =IF(K39=0,0,IF(H39=0,1,IF(I39<0,0,IF(I39/H39>1.2,IF((I39/H39-1.2)*0.1+1.2>1.3,1.3,(I39/H39-1.2)*0.1+1.2),I39/H39)))) -> 0.90931538 | K39: 5 | L39: 93.4 | M39: 101.3 | N39: =IF(O39=0,0,IF(L39=0,1,IF(M39<0,0,IF(M39/L39>1.2,IF((M39/L39-1.2)*0.1+1.2>1.3,1.3,(M39/L39-1.2)*0.1+1.2),M39/L39)))) -> 1.0845824 | O39: 10 | P39: 10125.8 | Q39: 10126 | R39: =IF(S39=0,0,IF(P39=0,1,IF(Q39<0,0,IF(Q39/P39>1.2,IF((Q39/P39-1.2)*0.1+1.2>1.3,1.3,(Q39/P39-1.2)*0.1+1.2),Q39/P39)))) -> 1.0000198 | S39: 10 | T39: 2575.5 | U39: 2576 | V39: =IF(W39=0,0,IF(T39=0,1,IF(U39<0,0,IF(U39/T39>1.2,IF((U39/T39-1.2)*0.1+1.2>1.3,1.3,(U39/T39-1.2)*0.1+1.2),U39/T39)))) -> 1.0001941 | W39: 10 | X39: =(B39*C39+F39*G39+J39*K39+N39*O39+R39*S39+V39*W39)/(C39+G39+K39+O39+S39+W39) -> 1.0117779 | Y39: 71610 | Z39: =ROUND(X39*Y39,1) -> 72453.4 | AA39: =Z39-Y39 -> 843.4 | AD39: =Z39-AB39-AC39 -> 72453.4 | AE39: 5622.4 | AF39: 5622.3 | AG39: 5622.4 | AH39: 5622.4 | AI39: 6442.6 | AJ39: 5786.4 | AK39: 8466.3 | AL39: 4770.1 | AM39: 5994.4 | AN39: 11150.7 | AO39: 7157.2 | AP39: =ROUND(AD39-SUM(AE39:AO39),1) -> 196.2 | AU39: =IF(AND(AP39>0,OR(AQ39="-",AR39="-",AS39="-",AT39="-")),0,AP39) -> 196.2
A40: Сергиевский | B40: 1 | C40: 10 | D40: 23954.8 | E40: 24116 | F40: =IF(G40=0,0,IF(D40=0,1,IF(E40<0,0,IF(E40/D40>1.2,IF((E40/D40-1.2)*0.1+1.2>1.3,1.3,(E40/D40-1.2)*0.1+1.2),E40/D40)))) -> 1.0067293 | G40: 10 | H40: 16030 | I40: 12582 | J40: =IF(K40=0,0,IF(H40=0,1,IF(I40<0,0,IF(I40/H40>1.2,IF((I40/H40-1.2)*0.1+1.2>1.3,1.3,(I40/H40-1.2)*0.1+1.2),I40/H40)))) -> 0.78490331 | K40: 5 | L40: 133.6 | M40: 178.6 | N40: =IF(O40=0,0,IF(L40=0,1,IF(M40<0,0,IF(M40/L40>1.2,IF((M40/L40-1.2)*0.1+1.2>1.3,1.3,(M40/L40-1.2)*0.1+1.2),M40/L40)))) -> 1.2136826 | O40: 10 | P40: 12480.8 | Q40: 7426 | R40: =IF(S40=0,0,IF(P40=0,1,IF(Q40<0,0,IF(Q40/P40>1.2,IF((Q40/P40-1.2)*0.1+1.2>1.3,1.3,(Q40/P40-1.2)*0.1+1.2),Q40/P40)))) -> 0.59499391 | S40: 10 | T40: 2648.7 | U40: 1700 | V40: =IF(W40=0,0,IF(T40=0,1,IF(U40<0,0,IF(U40/T40>1.2,IF((U40/T40-1.2)*0.1+1.2>1.3,1.3,(U40/T40-1.2)*0.1+1.2),U40/T40)))) -> 0.64182429 | W40: 10 | X40: =(B40*C40+F40*G40+J40*K40+N40*O40+R40*S40+V40*W40)/(C40+G40+K40+O40+S40+W40) -> 0.88176033 | Y40: 67596 | Z40: =ROUND(X40*Y40,1) -> 59603.5 | AA40: =Z40-Y40 -> -7992.5 | AB40: 3578.9 | AD40: =Z40-AB40-AC40 -> 56024.6 | AE40: 6145.1 | AF40: 6145.1 | AG40: 6145.1 | AH40: 6145.1 | AI40: 4490.6 | AJ40: 5098.2 | AK40: 5098.4 | AL40: 7745.8 | AM40: 5429.3 | AN40: 5429.3 | AO40: 3076.8 | AP40: =ROUND(AD40-SUM(AE40:AO40),1) -> -4924.2 | AU40: =IF(AND(AP40>0,OR(AQ40="-",AR40="-",AS40="-",AT40="-")),0,AP40) -> -4924.2
...

Sheet Плюсы и минусы
A1: Факторный анализ влияния отдельных показателей на итоговое распределение за 2025 год
U2: тыс. рублей
A3: Наименование муниципального образования | B3: +/- по итогам отчётного периода | C3: Отсутствие просроченной кредиторской задолженности бюджета городского округа, консолидированного бюджета городского округа с внутригородским делением, консолидированного бюджета муниципального района по состоянию на конец отчетного периода | F3: Объем алкогольной продукции, зафиксированный в единой государственной автоматизированной информационной системе | I3: Общая площадь введенного в эксплуатацию жилья с учетом индивидуального жилищного строительства | L3: Валовой сбор зерна в весе после доработки | O3: Производство молока во всех категориях хозяйств | R3: Производство скота и птицы на убой (в живом весе) во всех категориях хозяйств | U3: Общая сумма весов влияния
C4: Отклонение от прогноза | D4: Вес влияния на результат | E4: + / - (5)=(2)*(4)/(24) | F4: Отклонение от прогноза | G4: Вес влияния на результат | H4: + / - (8)=(2)*(7)/(24) | I4: Отклонение от прогноза | J4: Вес влияния на результат | K4: + / - (14)=(2)*(13)/(24) | L4: Отклонение от прогноза | M4: Вес влияния на результат | N4: + / - (17)=(2)*(16)/(24) | O4: Отклонение от прогноза | P4: Вес влияния на результат | Q4: + / - (20)=(2)*(19)/(24) | R4: Отклонение от прогноза | S4: Вес влияния на результат | T4: + / - (23)=(2)*(22)/(24)
A5: 1 | B5: 2 | C5: 3 | D5: 4 | E5: 5 | F5: 6 | G5: 7 | H5: 8 | I5: 9 | J5: 10 | K5: 11 | L5: 12 | M5: 13 | N5: 14 | O5: 15 | P5: 16 | Q5: 17 | R5: 18 | S5: 19 | T5: 20 | U5: 21
A6: Городские округа | B6: =SUM(B7:B16) -> 110871 | E6: =SUM(E7:E16) -> 0 | H6: =SUM(H7:H16) -> 5458.343 | K6: =SUM(K7:K16) -> 105412.66
A7: Самара | B7: ='Расчет дотаций'!AA9 -> 52347.6 | C7: ='Расчет дотаций'!B9-1 -> 0 | D7: =C7*'Расчет дотаций'!C9 -> 0 | E7: =$B7*D7/$U7 -> 0 | F7: ='Расчет дотаций'!F9-1 -> 0.014837671 | G7: =F7*'Расчет дотаций'!G9 -> 0.22256506 | H7: =$B7*G7/$U7 -> 3793.7571 | I7: ='Расчет дотаций'!J9-1 -> 0.18989775 | J7: =I7*'Расчет дотаций'!K9 -> 2.8484663 | K7: =$B7*J7/$U7 -> 48553.843 | L7: Х | M7: Х | N7: Х | O7: Х | P7: Х | Q7: Х | R7: Х | S7: Х | T7: Х | U7: =D7+G7+J7 -> 3.0710314
A8: Тольятти | B8: ='Расчет дотаций'!AA10 -> 72939.6 | C8: ='Расчет дотаций'!B10-1 -> 0 | D8: =C8*'Расчет дотаций'!C10 -> 0 | E8: =$B8*D8/$U8 -> 0 | F8: ='Расчет дотаций'!F10-1 -> -0.0054034443 | G8: =F8*'Расчет дотаций'!G10 -> -0.081051664 | H8: =$B8*G8/$U8 -> -1486.2072 | I8: ='Расчет дотаций'!J10-1 -> 0.27059194 | J8: =I8*'Расчет дотаций'!K10 -> 4.0588791 | K8: =$B8*J8/$U8 -> 74425.807 | L8: Х | M8: Х | N8: Х | O8: Х | P8: Х | Q8: Х | R8: Х | S8: Х | T8: Х | U8: =D8+G8+J8 -> 3.9778274
A9: Сызрань | B9: ='Расчет дотаций'!AA11 -> -2405.6 | C9: ='Расчет дотаций'!B11-1 -> 0 | D9: =C9*'Расчет дотаций'!C11 -> 0 | E9: =$B9*D9/$U9 -> 0 | F9: ='Расчет дотаций'!F11-1 -> 0.0070149704 | G9: =F9*'Расчет дотаций'!G11 -> 0.10522456 | H9: =$B9*G9/$U9 -> 635.1848 | I9: ='Расчет дотаций'!J11-1 -> -0.033582377 | J9: =I9*'Расчет дотаций'!K11 -> -0.50373565 | K9: =$B9*J9/$U9 -> -3040.7848 | L9: Х | M9: Х | N9: Х | O9: Х | P9: Х | Q9: Х | R9: Х | S9: Х | T9: Х | U9: =D9+G9+J9 -> -0.3985111
A10: Новокуйбышевск | B10: ='Расчет дотаций'!AA12 -> -2837.5 | C10: ='Расчет дотаций'!B12-1 -> 0 | D10: =C10*'Расчет дотаций'!C12 -> 0 | E10: =$B10*D10/$U10 -> 0 | F10: ='Расчет дотаций'!F12-1 -> 0.00075665378 | G10: =F10*'Расчет дотаций'!G12 -> 0.011349807 | H10: =$B10*G10/$U10 -> 41.218309 | I10: ='Расчет дотаций'!J12-1 -> -0.05284528 | J10: =I10*'Расчет дотаций'!K12 -> -0.7926792 | K10: =$B10*J10/$U10 -> -2878.7183 | L10: Х | M10: Х | N10: Х | O10: Х | P10: Х | Q10: Х | R10: Х | S10: Х | T10: Х | U10: =D10+G10+J10 -> -0.7813294
A11: Чапаевск | B11: ='Расчет дотаций'!AA13 -> 7748.2 | C11: ='Расчет дотаций'!B13-1 -> 0 | D11: =C11*'Расчет дотаций'!C13 -> 0 | E11: =$B11*D11/$U11 -> 0 | F11: ='Расчет дотаций'!F13-1 -> 0.0056380227 | G11: =F11*'Расчет дотаций'!G13 -> 0.084570341 | H11: =$B11*G11/$U11 -> 243.34696 | I11: ='Расчет дотаций'!J13-1 -> 0.17387738 | J11: =I11*'Расчет дотаций'!K13 -> 2.6081608 | K11: =$B11*J11/$U11 -> 7504.853 | L11: Х | M11: Х | N11: Х | O11: Х | P11: Х | Q11: Х | R11: Х | S11: Х | T11: Х | U11: =D11+G11+J11 -> 2.6927311
A12: Отрадный | B12: ='Расчет дотаций'!AA14 -> -4169.3 | C12: ='Расчет дотаций'!B14-1 -> 0 | D12: =C12*'Расчет дотаций'!C14 -> 0 | E12: =$B12*D12/$U12 -> 0 | F12: ='Расчет дотаций'!F14-1 -> 0.0081948077 | G12: =F12*'Расчет дотаций'!G14 -> 0.12292211 | H12: =$B12*G12/$U12 -> 197.6481 | I12: ='Расчет дотаций'!J14-1 -> -0.18106068 | J12: =I12*'Расчет дотаций'!K14 -> -2.7159102 | K12: =$B12*J12/$U12 -> -4366.9481 | L12: Х | M12: Х | N12: Х | O12: Х | P12: Х | Q12: Х | R12: Х | S12: Х | T12: Х | U12: =D12+G12+J12 -> -2.5929881
A13: Жигулевск | B13: ='Расчет дотаций'!AA15 -> 4186.2 | C13: ='Расчет дотаций'!B15-1 -> 0 | D13: =C13*'Расчет дотаций'!C15 -> 0 | E13: =$B13*D13/$U13 -> 0 | F13: ='Расчет дотаций'!F15-1 -> 0.026234539 | G13: =F13*'Расчет дотаций'!G15 -> 0.39351809 | H13: =$B13*G13/$U13 -> 1108.9678 | I13: ='Расчет дотаций'!J15-1 -> 0.072797213 | J13: =I13*'Расчет дотаций'!K15 -> 1.0919582 | K13: =$B13*J13/$U13 -> 3077.2322 | L13: Х | M13: Х | N13: Х | O13: Х | P13: Х | Q13: Х | R13: Х | S13: Х | T13: Х | U13: =D13+G13+J13 -> 1.4854763
A14: Октябрьск | B14: ='Расчет дотаций'!AA16 -> -5747.3 | C14: ='Расчет дотаций'!B16-1 -> 0 | D14: =C14*'Расчет дотаций'!C16 -> 0 | E14: =$B14*D14/$U14 -> 0 | F14: ='Расчет дотаций'!F16-1 -> 0.014054651 | G14: =F14*'Расчет дотаций'!G16 -> 0.21081977 | H14: =$B14*G14/$U14 -> 551.44758 | I14: ='Расчет дотаций'!J16-1 -> -0.16053512 | J14: =I14*'Расчет дотаций'!K16 -> -2.4080268 | K14: =$B14*J14/$U14 -> -6298.7476 | L14: Х | M14: Х | N14: Х | O14: Х | P14: Х | Q14: Х | R14: Х | S14: Х | T14: Х | U14: =D14+G14+J14 -> -2.197207
A15: Кинель | B15: ='Расчет дотаций'!AA17 -> -7895.6 | C15: ='Расчет дотаций'!B17-1 -> 0 | D15: =C15*'Расчет дотаций'!C17 -> 0 | E15: =$B15*D15/$U15 -> 0 | F15: ='Расчет дотаций'!F17-1 -> 0.0023305381 | G15: =F15*'Расчет дотаций'!G17 -> 0.034958071 | H15: =$B15*G15/$U15 -> 89.372352 | I15: ='Расчет дотаций'!J17-1 -> -0.20822191 | J15: =I15*'Расчет дотаций'!K17 -> -3.1233287 | K15: =$B15*J15/$U15 -> -7984.9724 | L15: Х | M15: Х | N15: Х | O15: Х | P15: Х | Q15: Х | R15: Х | S15: Х | T15: Х | U15: =D15+G15+J15 -> -3.0883706
A16: Похвистнево | B16: ='Расчет дотаций'!AA18 -> -3295.3 | C16: ='Расчет дотаций'!B18-1 -> 0 | D16: =C16*'Расчет дотаций'!C18 -> 0 | E16: =$B16*D16/$U16 -> 0 | F16: ='Расчет дотаций'!F18-1 -> 0.0089477689 | G16: =F16*'Расчет дотаций'!G18 -> 0.13421653 | H16: =$B16*G16/$U16 -> 283.60726 | I16: ='Расчет дотаций'!J18-1 -> -0.11291402 | J16: =I16*'Расчет дотаций'!K18 -> -1.6937103 | K16: =$B16*J16/$U16 -> -3578.9073 | L16: Х | M16: Х | N16: Х | O16: Х | P16: Х | Q16: Х | R16: Х | S16: Х | T16: Х | U16: =D16+G16+J16 -> -1.5594937
A17: Муниципальные районы | B17: =SUM(B18:B44) -> -77007.8 | E17: =SUM(E18:E44) -> 0 | H17: =SUM(H18:H44) -> 6112.1885 | K17: =SUM(K18:K44) -> -30897.935 | N17: =SUM(N18:N44) -> 43691.235 | Q17: =SUM(Q18:Q44) -> -36425.738 | T17: =SUM(T18:T44) -> -59487.551
A18: Алексеевский | B18: ='Расчет дотаций'!AA20 -> -7622.2 | C18: ='Расчет дотаций'!B20-1 -> 0 | D18: =C18*'Расчет дотаций'!C20 -> 0 | E18: =$B18*D18/$U18 -> 0 | F18: ='Расчет дотаций'!F20-1 -> 0.0071144784 | G18: =F18*'Расчет дотаций'!G20 -> 0.071144784 | H18: =$B18*G18/$U18 -> 43.523721 | I18: ='Расчет дотаций'!J20-1 -> 0.045622688 | J18: =I18*'Расчет дотаций'!K20 -> 0.22811344 | K18: =$B18*J18/$U18 -> 139.55128 | L18: ='Расчет дотаций'!N20-1 -> 0.23297806 | M18: =L18*'Расчет дотаций'!O20 -> 2.3297806 | N18: =$B18*M18/$U18 -> 1425.2727 | O18: ='Расчет дотаций'!R20-1 -> -0.71800462 | P18: =O18*'Расчет дотаций'!S20 -> -7.1800462 | Q18: =$B18*P18/$U18 -> -4392.484 | R18: ='Расчет дотаций'!V20-1 -> -0.79084002 | S18: =R18*'Расчет дотаций'!W20 -> -7.9084002 | T18: =$B18*S18/$U18 -> -4838.0637 | U18: =D18+G18+J18+M18+P18+S18 -> -12.459408
A19: Безенчукский | B19: ='Расчет дотаций'!AA21 -> -2040.3 | C19: ='Расчет дотаций'!B21-1 -> 0 | D19: =C19*'Расчет дотаций'!C21 -> 0 | E19: =$B19*D19/$U19 -> 0 | F19: ='Расчет дотаций'!F21-1 -> 0.010451094 | G19: =F19*'Расчет дотаций'!G21 -> 0.10451094 | H19: =$B19*G19/$U19 -> 119.98909 | I19: ='Расчет дотаций'!J21-1 -> -0.40975097 | J19: =I19*'Расчет дотаций'!K21 -> -2.0487548 | K19: =$B19*J19/$U19 -> -2352.177 | L19: ='Расчет дотаций'!N21-1 -> 0.20726449 | M19: =L19*'Расчет дотаций'!O21 -> 2.0726449 | N19: =$B19*M19/$U19 -> 2379.6052 | O19: ='Расчет дотаций'!R21-1 -> 3.2039106e-05 | P19: =O19*'Расчет дотаций'!S21 -> 0.00032039106 | Q19: =$B19*P19/$U19 -> 0.36784122 | R19: ='Расчет дотаций'!V21-1 -> -0.19058302 | S19: =R19*'Расчет дотаций'!W21 -> -1.9058302 | T19: =$B19*S19/$U19 -> -2188.0852 | U19: =D19+G19+J19+M19+P19+S19 -> -1.7771088
A20: Богатовский | B20: ='Расчет дотаций'!AA22 -> 2406.8 | C20: ='Расчет дотаций'!B22-1 -> 0 | D20: =C20*'Расчет дотаций'!C22 -> 0 | E20: =$B20*D20/$U20 -> 0 | F20: ='Расчет дотаций'!F22-1 -> 0.013853638 | G20: =F20*'Расчет дотаций'!G22 -> 0.13853638 | H20: =$B20*G20/$U20 -> 107.12843 | I20: ='Расчет дотаций'!J22-1 -> -0.26299837 | J20: =I20*'Расчет дотаций'!K22 -> -1.3149918 | K20: =$B20*J20/$U20 -> -1016.8665 | L20: ='Расчет дотаций'!N22-1 -> -0.012820513 | M20: =L20*'Расчет дотаций'!O22 -> -0.12820513 | N20: =$B20*M20/$U20 -> -99.139403 | O20: ='Расчет дотаций'!R22-1 -> 0.18936693 | P20: =O20*'Расчет дотаций'!S22 -> 1.8936693 | Q20: =$B20*P20/$U20 -> 1464.3505 | R20: ='Расчет дотаций'!V22-1 -> 0.25234177 | S20: =R20*'Расчет дотаций'!W22 -> 2.5234177 | T20: =$B20*S20/$U20 -> 1951.327 | U20: =D20+G20+J20+M20+P20+S20 -> 3.1124265
A21: Большеглушицкий | B21: ='Расчет дотаций'!AA23 -> -1650.3 | C21: ='Расчет дотаций'!B23-1 -> 0 | D21: =C21*'Расчет дотаций'!C23 -> 0 | E21: =$B21*D21/$U21 -> 0 | F21: ='Расчет дотаций'!F23-1 -> 0.0647082 | G21: =F21*'Расчет дотаций'!G23 -> 0.647082 | H21: =$B21*G21/$U21 -> 657.69574 | I21: ='Расчет дотаций'!J23-1 -> -0.37217691 | J21: =I21*'Расчет дотаций'!K23 -> -1.8608846 | K21: =$B21*J21/$U21 -> -1891.4077 | L21: ='Расчет дотаций'!N23-1 -> 0.20348777 | M21: =L21*'Расчет дотаций'!O23 -> 2.0348777 | N21: =$B21*M21/$U21 -> 2068.2548 | O21: ='Расчет дотаций'!R23-1 -> -0.019230769 | P21: =O21*'Расчет дотаций'!S23 -> -0.19230769 | Q21: =$B21*P21/$U21 -> -195.46202 | R21: ='Расчет дотаций'!V23-1 -> -0.22524353 | S21: =R21*'Расчет дотаций'!W23 -> -2.2524353 | T21: =$B21*S21/$U21 -> -2289.3808 | U21: =D21+G21+J21+M21+P21+S21 -> -1.6236678
A22: Большечерниговский | B22: ='Расчет дотаций'!AA24 -> -4754.7 | C22: ='Расчет дотаций'!B24-1 -> 0 | D22: =C22*'Расчет дотаций'!C24 -> 0 | E22: =$B22*D22/$U22 -> 0 | F22: ='Расчет дотаций'!F24-1 -> 0.018510554 | G22: =F22*'Расчет дотаций'!G24 -> 0.18510554 | H22: =$B22*G22/$U22 -> 165.52488 | I22: ='Расчет дотаций'!J24-1 -> -0.28981646 | J22: =I22*'Расчет дотаций'!K24 -> -1.4490823 | K22: =$B22*J22/$U22 -> -1295.7968 | L22: ='Расчет дотаций'!N24-1 -> 0.21963964 | M22: =L22*'Расчет дотаций'!O24 -> 2.1963964 | N22: =$B22*M22/$U22 -> 1964.0592 | O22: ='Расчет дотаций'!R24-1 -> -0.24046328 | P22: =O22*'Расчет дотаций'!S24 -> -2.4046328 | Q22: =$B22*P22/$U22 -> -2150.2681 | R22: ='Расчет дотаций'!V24-1 -> -0.38449412 | S22: =R22*'Расчет дотаций'!W24 -> -3.8449412 | T22: =$B22*S22/$U22 -> -3438.2191 | U22: =D22+G22+J22+M22+P22+S22 -> -5.3171544
A23: Борский | B23: ='Расчет дотаций'!AA25 -> -1142.8 | C23: ='Расчет дотаций'!B25-1 -> 0 | D23: =C23*'Расчет дотаций'!C25 -> 0 | E23: =$B23*D23/$U23 -> 0 | F23: ='Расчет дотаций'!F25-1 -> 0.013275992 | G23: =F23*'Расчет дотаций'!G25 -> 0.13275992 | H23: =$B23*G23/$U23 -> 149.69265 | I23: ='Расчет дотаций'!J25-1 -> -0.68955867 | J23: =I23*'Расчет дотаций'!K25 -> -3.4477933 | K23: =$B23*J23/$U23 -> -3887.5385 | L23: ='Расчет дотаций'!N25-1 -> 0.23011547 | M23: =L23*'Расчет дотаций'!O25 -> 2.3011547 | N23: =$B23*M23/$U23 -> 2594.6531 | O23: ='Расчет дотаций'!R25-1 -> 0 | P23: =O23*'Расчет дотаций'!S25 -> 0 | Q23: =$B23*P23/$U23 -> 0 | R23: ='Расчет дотаций'!V25-1 -> 3.4832283e-05 | S23: =R23*'Расчет дотаций'!W25 -> 0.00034832283 | T23: =$B23*S23/$U23 -> 0.39274929 | U23: =D23+G23+J23+M23+P23+S23 -> -1.0135303
A24: Волжский | B24: ='Расчет дотаций'!AA26 -> -4608.9 | C24: ='Расчет дотаций'!B26-1 -> 0 | D24: =C24*'Расчет дотаций'!C26 -> 0 | E24: =$B24*D24/$U24 -> 0 | F24: ='Расчет дотаций'!F26-1 -> 0.010283287 | G24: =F24*'Расчет дотаций'!G26 -> 0.10283287 | H24: =$B24*G24/$U24 -> 197.30142 | I24: ='Расчет дотаций'!J26-1 -> -0.2680014 | J24: =I24*'Расчет дотаций'!K26 -> -1.340007 | K24: =$B24*J24/$U24 -> -2571.0192 | L24: ='Расчет дотаций'!N26-1 -> 0.2251895 | M24: =L24*'Расчет дотаций'!O26 -> 2.251895 | N24: =$B24*M24/$U24 -> 4320.6231 | O24: ='Расчет дотаций'!R26-1 -> -0.110792 | P24: =O24*'Расчет дотаций'!S26 -> -1.10792 | Q24: =$B24*P24/$U24 -> -2125.7228 | R24: ='Расчет дотаций'!V26-1 -> -0.2308945 | S24: =R24*'Расчет дотаций'!W26 -> -2.308945 | T24: =$B24*S24/$U24 -> -4430.0826 | U24: =D24+G24+J24+M24+P24+S24 -> -2.402144
A25: Елховский | B25: ='Расчет дотаций'!AA27 -> -935.2 | C25: ='Расчет дотаций'!B27-1 -> 0 | D25: =C25*'Расчет дотаций'!C27 -> 0 | E25: =$B25*D25/$U25 -> 0 | F25: ='Расчет дотаций'!F27-1 -> 0.0099777542 | G25: =F25*'Расчет дотаций'!G27 -> 0.099777542 | H25: =$B25*G25/$U25 -> 49.361602 | I25: ='Расчет дотаций'!J27-1 -> -0.20364416 | J25: =I25*'Расчет дотаций'!K27 -> -1.0182208 | K25: =$B25*J25/$U25 -> -503.73069 | L25: ='Расчет дотаций'!N27-1 -> 0.20290909 | M25: =L25*'Расчет дотаций'!O27 -> 2.0290909 | N25: =$B25*M25/$U25 -> 1003.8249 | O25: ='Расчет дотаций'!R27-1 -> -0.22232223 | P25: =O25*'Расчет дотаций'!S27 -> -2.2232223 | Q25: =$B25*P25/$U25 -> -1099.8649 | R25: ='Расчет дотаций'!V27-1 -> -0.07778007 | S25: =R25*'Расчет дотаций'!W27 -> -0.7778007 | T25: =$B25*S25/$U25 -> -384.79089 | U25: =D25+G25+J25+M25+P25+S25 -> -1.8903754
A26: Исаклинский | B26: ='Расчет дотаций'!AA28 -> 67.8 | C26: ='Расчет дотаций'!B28-1 -> 0 | D26: =C26*'Расчет дотаций'!C28 -> 0 | E26: =$B26*D26/$U26 -> 0 | F26: ='Расчет дотаций'!F28-1 -> 0.024352911 | G26: =F26*'Расчет дотаций'!G28 -> 0.24352911 | H26: =$B26*G26/$U26 -> 224.32905 | I26: ='Расчет дотаций'!J28-1 -> -0.25663964 | J26: =I26*'Расчет дотаций'!K28 -> -1.2831982 | K26: =$B26*J26/$U26 -> -1182.0297 | L26: ='Расчет дотаций'!N28-1 -> 0.20417763 | M26: =L26*'Расчет дотаций'!O28 -> 2.0417763 | N26: =$B26*M26/$U26 -> 1880.8008 | O26: ='Расчет дотаций'!R28-1 -> -0.066636162 | P26: =O26*'Расчет дотаций'!S28 -> -0.66636162 | Q26: =$B26*P26/$U26 -> -613.82506 | R26: ='Расчет дотаций'!V28-1 -> -0.026214268 | S26: =R26*'Расчет дотаций'!W28 -> -0.26214268 | T26: =$B26*S26/$U26 -> -241.47511 | U26: =D26+G26+J26+M26+P26+S26 -> 0.073602922
