Workbook

Sheet Расчет дотаций
B1: Распределение дотаций местным бюджетам на поддержку мер по обеспечению сбалансированности местных бюджетов
A2: за 8 месяцев 2025 года
A3: Наименование муниципального образования | B3: Отсутствие просроченной кредиторской задолженности бюджета городского округа, консолидированного бюджета городского округа с внутригородским делением, консолидированного бюджета муниципального района по состоянию на конец отчетного периода (по состоянию на 01.09.2025) | D3: Общая площадь введенного в эксплуатацию жилья с учетом индивидуального жилищного строительства (кв.м.) (по состоянию на 01.07.2025) | H3: Сводная оценка выполнения социально-экономических показателей | I3: Годовое значение, тыс. рублей | J3: План распределения за период, тыс. рублей | K3: Распределение за отчетный период, тыс. рублей | L3: Отклонение от планируемого распределения, тыс. рублей | M3: Удержание дотаций в 2025 году в связи с исполнением показателей за 2024 год (3/5 от суммы взысканя), тыс. рублей | N3: Распределение за отчетный период с учетом удержания, тыс. рублей | O3: Ранее предоставленные дотации в 2025 году, тыс. рублей | V3: Распределение дотаций за август за вычетом ранее предоставленных дотаций, тыс. рублей | W3: Соблюдение условий предоставления дотаций*: | Z3: Распределение дотаций за август с учетом выполнения условий предоставления дотаций, тыс. рублей
W4: непривлечение кредитов кредитных организаций в августе 2025 года | Y4: неувеличение объема муниципального долга в части кредитов кредитных организаций в августе 2025 года (не применяется если объем долга на 01.09.2025 не превышает его объем по состоянию на начало 2025 года)
O5: за январь | P5: за февраль | Q5: за март | R5: за апрель | S5: за май | T5: за июнь | U5: за июль | W5: МО у которых доля дотаций на выравнивание бюджетной обеспеченности в доходах бюджета (без учета субвенций) за 2024 год > 15 % | X5: МО, муниципальный долг которых на 01.09.2025 > 90% от утвержденного общего годового объема доходов без учета утвержденного объема безвозмездных поступлений
B6: Исполнение | C6: Вес | D6: Прогнозное значение | E6: Фактически сложившийся уровень | F6: Исполнение с уч. корректир. макс. перевыполнения | G6: Вес
A7: 1 | B7: 2 | C7: 3 | D7: 4 | E7: 5 | F7: 6=5/4 | G7: 7 | H7: 8 | I7: 9 | J7: 10=9/11мес.*8 | K7: 11=8*10 | L7: 12=11-10 | M7: 13 | N7: 14=11-13 | O7: 15 | P7: 16 | Q7: 17 | R7: 18 | S7: 19 | T7: 20 | U7: 21 | V7: 22=14-(15+…+21) | W7: 23 | X7: 24 | Y7: 25 | Z7: 26
A8: Городские округа (городской округ с внутригородским делением) | D8: =SUM(D9:D18) -> 504725 | E8: =SUM(E9:E18) -> 324886 | F8: =IF(E8/D8>1.2,IF((E8/D8-1.2)*0.1+1.2>1.3,1.3,(E8/D8-1.2)*0.1+1.2),E8/D8) -> 0.64368914 | I8: =SUM(I9:I18) -> 2353667 | J8: =SUM(J9:J18) -> 1711757.8 | K8: =SUM(K9:K18) -> 1544002.2 | L8: =SUM(L9:L18) -> -167755.6 | M8: =SUM(M9:M18) -> 958.2 | N8: =SUM(N9:N18) -> 1543044 | O8: =SUM(O9:O18) -> 208531.7 | P8: =SUM(P9:P18) -> 208531.3 | ... V8: =SUM(V9:V18) -> 421195.2 | Z8: =SUM(Z9:Z18) -> 421195.2
A9: Самара | B9: 1 | C9: 10 | D9: 361717 | E9: 180564 | F9: =IF(G9=0,0,IF(D9=0,1,IF(E9<0,0,IF(E9/D9>1.2,IF((E9/D9-1.2)*0.1+1.2>1.3,1.3,(E9/D9-1.2)*0.1+1.2),E9/D9)))) -> 0.49918583 | G9: 15 | H9: =(B9*C9+F9*G9)/(C9+G9) -> 0.6995115 | I9: 681825 | J9: =ROUND(I9/11*8,1) -> 495872.7 | K9: =ROUND(H9*J9,1) -> 346868.7 | L9: =K9-J9 -> -149004 | M9: 0 | N9: =K9-M9 -> 346868.7 | O9: 61984.1 | P9: 61984.1 | Q9: 61984.1 | R9: 61984.1 | S9: 0 | T9: 0 | U9: 0 | V9: =ROUND(N9-SUM(O9:U9),1) -> 98932.3 | Z9: =IF(OR(W9="+",X9="+",Y9="+"),0,IF(V9<0,0,V9)) -> 98932.3
A10: Тольятти | B10: 1 | C10: 10 | D10: 59741 | E10: 55919 | F10: =IF(G10=0,0,IF(D10=0,1,IF(E10<0,0,IF(E10/D10>1.2,IF((E10/D10-1.2)*0.1+1.2>1.3,1.3,(E10/D10-1.2)*0.1+1.2),E10/D10)))) -> 0.93602384 | G10: 15 | H10: =(B10*C10+F10*G10)/(C10+G10) -> 0.9616143 | I10: 733462 | J10: =ROUND(I10/11*8,1) -> 533426.9 | K10: =ROUND(H10*J10,1) -> 512950.9 | L10: =K10-J10 -> -20476 | M10: 0 | N10: =K10-M10 -> 512950.9 | O10: 66678.4 | P10: 66678.3 | Q10: 66678.4 | R10: 66678.4 | S10: 0 | T10: 0 | U10: 0 | V10: =ROUND(N10-SUM(O10:U10),1) -> 246237.4 | Z10: =IF(OR(W10="+",X10="+",Y10="+"),0,IF(V10<0,0,V10)) -> 246237.4
A11: Сызрань | B11: 1 | C11: 10 | D11: 13803 | E11: 13803 | F11: =IF(G11=0,0,IF(D11=0,1,IF(E11<0,0,IF(E11/D11>1.2,IF((E11/D11-1.2)*0.1+1.2>1.3,1.3,(E11/D11-1.2)*0.1+1.2),E11/D11)))) -> 1 | G11: 15 | H11: =(B11*C11+F11*G11)/(C11+G11) -> 1 | I11: 241460 | J11: =ROUND(I11/11*8,1) -> 175607.3 | K11: =ROUND(H11*J11,1) -> 175607.3 | L11: =K11-J11 -> 0 | M11: 609.4 | N11: =K11-M11 -> 174997.9 | O11: 21950.9 | P11: 21950.9 | Q11: 21950.9 | R11: 21950.9 | S11: 17733.4 | T11: 20904.3 | U11: 20904.3 | V11: =ROUND(N11-SUM(O11:U11),1) -> 27652.3 | Z11: =IF(OR(W11="+",X11="+",Y11="+"),0,IF(V11<0,0,V11)) -> 27652.3
A12: Новокуйбышевск | B12: 1 | C12: 10 | D12: 11037 | E12: 11037 | F12: =IF(G12=0,0,IF(D12=0,1,IF(E12<0,0,IF(E12/D12>1.2,IF((E12/D12-1.2)*0.1+1.2>1.3,1.3,(E12/D12-1.2)*0.1+1.2),E12/D12)))) -> 1 | G12: 15 | H12: =(B12*C12+F12*G12)/(C12+G12) -> 1 | I12: 145263 | J12: =ROUND(I12/11*8,1) -> 105645.8 | K12: =ROUND(H12*J12,1) -> 105645.8 | L12: =K12-J12 -> 0 | M12: 17.4 | N12: =K12-M12 -> 105628.4 | O12: 10860.5 | P12: 10860.4 | Q12: 10860.5 | R12: 10860.4 | S12: 5959.6 | T12: 9874.4 | U12: 24809.7 | V12: =ROUND(N12-SUM(O12:U12),1) -> 21542.9 | Z12: =IF(OR(W12="+",X12="+",Y12="+"),0,IF(V12<0,0,V12)) -> 21542.9
A13: Чапаевск | B13: 1 | C13: 10 | D13: 8588 | E13: 14818 | F13: =IF(G13=0,0,IF(D13=0,1,IF(E13<0,0,IF(E13/D13>1.2,IF((E13/D13-1.2)*0.1+1.2>1.3,1.3,(E13/D13-1.2)*0.1+1.2),E13/D13)))) -> 1.2525431 | G13: 15 | H13: =(B13*C13+F13*G13)/(C13+G13) -> 1.1515259 | I13: 115098 | J13: =ROUND(I13/11*8,1) -> 83707.6 | K13: =ROUND(H13*J13,1) -> 96391.5 | L13: =K13-J13 -> 12683.9 | M13: 0 | N13: =K13-M13 -> 96391.5 | O13: 10463.5 | P13: 10463.4 | Q13: 10463.5 | R13: 10463.4 | S13: 19880.6 | T13: 12346.8 | U13: 12347 | V13: =ROUND(N13-SUM(O13:U13),1) -> 9963.3 | Z13: =IF(OR(W13="+",X13="+",Y13="+"),0,IF(V13<0,0,V13)) -> 9963.3
A14: Отрадный | B14: 1 | C14: 10 | D14: 4860 | E14: 4860 | F14: =IF(G14=0,0,IF(D14=0,1,IF(E14<0,0,IF(E14/D14>1.2,IF((E14/D14-1.2)*0.1+1.2>1.3,1.3,(E14/D14-1.2)*0.1+1.2),E14/D14)))) -> 1 | G14: 15 | H14: =(B14*C14+F14*G14)/(C14+G14) -> 1 | I14: 64317 | J14: =ROUND(I14/11*8,1) -> 46776 | K14: =ROUND(H14*J14,1) -> 46776 | L14: =K14-J14 -> 0 | M14: 331.4 | N14: =K14-M14 -> 46444.6 | O14: 5847 | P14: 5847 | Q14: 5847 | R14: 5847 | S14: 9617.4 | T14: 6490.6 | U14: 6490.6 | V14: =ROUND(N14-SUM(O14:U14),1) -> 458 | Z14: =IF(OR(W14="+",X14="+",Y14="+"),0,IF(V14<0,0,V14)) -> 458
A15: Жигулевск | B15: 1 | C15: 10 | D15: 7849 | E15: 7849 | F15: =IF(G15=0,0,IF(D15=0,1,IF(E15<0,0,IF(E15/D15>1.2,IF((E15/D15-1.2)*0.1+1.2>1.3,1.3,(E15/D15-1.2)*0.1+1.2),E15/D15)))) -> 1 | G15: 15 | H15: =(B15*C15+F15*G15)/(C15+G15) -> 1 | I15: 105379 | J15: =ROUND(I15/11*8,1) -> 76639.3 | K15: =ROUND(H15*J15,1) -> 76639.3 | L15: =K15-J15 -> 0 | M15: 0 | N15: =K15-M15 -> 76639.3 | O15: 8865.3 | P15: 8865.2 | Q15: 8865.3 | R15: 8865.3 | S15: 14503 | T15: 9992.7 | U15: 15631.6 | V15: =ROUND(N15-SUM(O15:U15),1) -> 1050.9 | Z15: =IF(OR(W15="+",X15="+",Y15="+"),0,IF(V15<0,0,V15)) -> 1050.9
A16: Октябрьск | B16: 1 | C16: 10 | D16: 2520 | E16: 2520 | F16: =IF(G16=0,0,IF(D16=0,1,IF(E16<0,0,IF(E16/D16>1.2,IF((E16/D16-1.2)*0.1+1.2>1.3,1.3,(E16/D16-1.2)*0.1+1.2),E16/D16)))) -> 1 | G16: 15 | H16: =(B16*C16+F16*G16)/(C16+G16) -> 1 | I16: 87211 | J16: =ROUND(I16/11*8,1) -> 63426.2 | K16: =ROUND(H16*J16,1) -> 63426.2 | L16: =K16-J16 -> 0 | M16: 0 | N16: =K16-M16 -> 63426.2 | O16: 6613.4 | P16: 6613.3 | Q16: 6613.4 | R16: 6613.4 | S16: 5520.6 | T16: 6394.8 | U16: 15295 | V16: =ROUND(N16-SUM(O16:U16),1) -> 9762.3 | Z16: =IF(OR(W16="+",X16="+",Y16="+"),0,IF(V16<0,0,V16)) -> 9762.3
A17: Кинель | B17: 1 | C17: 10 | D17: 31239 | E17: 31239 | F17: =IF(G17=0,0,IF(D17=0,1,IF(E17<0,0,IF(E17/D17>1.2,IF((E17/D17-1.2)*0.1+1.2>1.3,1.3,(E17/D17-1.2)*0.1+1.2),E17/D17)))) -> 1 | G17: 15 | H17: =(B17*C17+F17*G17)/(C17+G17) -> 1 | I17: 102262 | J17: =ROUND(I17/11*8,1) -> 74372.4 | K17: =ROUND(H17*J17,1) -> 74372.4 | L17: =K17-J17 -> 0 | M17: 0 | N17: =K17-M17 -> 74372.4 | O17: 9296.5 | P17: 9296.6 | Q17: 9296.5 | R17: 9296.6 | S17: 15924.1 | T17: 10622.1 | U17: 10622 | V17: =ROUND(N17-SUM(O17:U17),1) -> 18 | Z17: =IF(OR(W17="+",X17="+",Y17="+"),0,IF(V17<0,0,V17)) -> 18
A18: Похвистнево | B18: 1 | C18: 10 | D18: 3371 | E18: 2277 | F18: =IF(G18=0,0,IF(D18=0,1,IF(E18<0,0,IF(E18/D18>1.2,IF((E18/D18-1.2)*0.1+1.2>1.3,1.3,(E18/D18-1.2)*0.1+1.2),E18/D18)))) -> 0.67546722 | G18: 15 | H18: =(B18*C18+F18*G18)/(C18+G18) -> 0.80528033 | I18: 77390 | J18: =ROUND(I18/11*8,1) -> 56283.6 | K18: =ROUND(H18*J18,1) -> 45324.1 | L18: =K18-J18 -> -10959.5 | M18: 0 | N18: =K18-M18 -> 45324.1 | O18: 5972.1 | P18: 5972.1 | Q18: 5972.1 | R18: 5972.1 | S18: 210.8 | T18: 4819.8 | U18: 10827.3 | V18: =ROUND(N18-SUM(O18:U18),1) -> 5577.8 | Z18: =IF(OR(W18="+",X18="+",Y18="+"),0,IF(V18<0,0,V18)) -> 5577.8
A19: Муниципальные районы | D19: =SUM(D20:D46) -> 352014 | E19: =SUM(E20:E46) -> 352961 | F19: =IF(E19/D19>1.2,IF((E19/D19-1.2)*0.1+1.2>1.3,1.3,(E19/D19-1.2)*0.1+1.2),E19/D19) -> 1.0026902 | I19: =SUM(I20:I46) -> 1562221 | J19: =SUM(J20:J46) -> 1136160.5 | K19: =SUM(K20:K46) -> 1060346.8 | L19: =SUM(L20:L46) -> -75813.7 | M19: =SUM(M20:M46) -> 26255.1 | N19: =SUM(N20:N46) -> 1034091.7 | O19: =SUM(O20:O46) -> 138367.5 | P19: =SUM(P20:P46) -> 138366.9 | ... V19: =SUM(V20:V46) -> 131164.3 | Z19: =SUM(Z20:Z46) -> 131164.3
A20: Алексеевский | B20: 1 | C20: 10 | D20: 721 | E20: 627 | F20: =IF(G20=0,0,IF(D20=0,1,IF(E20<0,0,IF(E20/D20>1.2,IF((E20/D20-1.2)*0.1+1.2>1.3,1.3,(E20/D20-1.2)*0.1+1.2),E20/D20)))) -> 0.86962552 | G20: 5 | H20: =(B20*C20+F20*G20)/(C20+G20) -> 0.95654184 | I20: 33647 | J20: =ROUND(I20/11*8,1) -> 24470.5 | K20: =ROUND(H20*J20,1) -> 23407.1 | L20: =K20-J20 -> -1063.4 | M20: 658.4 | N20: =K20-M20 -> 22748.7 | O20: 3058.8 | P20: 3058.8 | Q20: 3058.9 | R20: 3058.8 | S20: 1015.1 | T20: 2430.5 | U20: 2430.7 | V20: =ROUND(N20-SUM(O20:U20),1) -> 4637.1 | Z20: =IF(OR(W20="+",X20="+",Y20="+"),0,IF(V20<0,0,V20)) -> 4637.1
A21: Безенчукский | B21: 1 | C21: 10 | D21: 5388 | E21: 5388 | F21: =IF(G21=0,0,IF(D21=0,1,IF(E21<0,0,IF(E21/D21>1.2,IF((E21/D21-1.2)*0.1+1.2>1.3,1.3,(E21/D21-1.2)*0.1+1.2),E21/D21)))) -> 1 | G21: 5 | H21: =(B21*C21+F21*G21)/(C21+G21) -> 1 | I21: 63147 | J21: =ROUND(I21/11*8,1) -> 45925.1 | K21: =ROUND(H21*J21,1) -> 45925.1 | L21: =K21-J21 -> 0 | M21: 737.9 | N21: =K21-M21 -> 45187.2 | O21: 5740.6 | P21: 5740.7 | Q21: 5740.6 | R21: 5740.6 | S21: 3486.8 | T21: 5043.8 | U21: 5044 | V21: =ROUND(N21-SUM(O21:U21),1) -> 8650.1 | Z21: =IF(OR(W21="+",X21="+",Y21="+"),0,IF(V21<0,0,V21)) -> 8650.1
A22: Богатовский | B22: 1 | C22: 10 | D22: 2607 | E22: 1706 | F22: =IF(G22=0,0,IF(D22=0,1,IF(E22<0,0,IF(E22/D22>1.2,IF((E22/D22-1.2)*0.1+1.2>1.3,1.3,(E22/D22-1.2)*0.1+1.2),E22/D22)))) -> 0.65439202 | G22: 5 | H22: =(B22*C22+F22*G22)/(C22+G22) -> 0.88479734 | I22: 42531 | J22: =ROUND(I22/11*8,1) -> 30931.6 | K22: =ROUND(H22*J22,1) -> 27368.2 | L22: =K22-J22 -> -3563.4 | M22: 0 | N22: =K22-M22 -> 27368.2 | O22: 3866.5 | P22: 3866.4 | Q22: 3866.5 | R22: 3866.4 | S22: 852.4 | T22: 3263.6 | U22: 3263.7 | V22: =ROUND(N22-SUM(O22:U22),1) -> 4522.7 | Z22: =IF(OR(W22="+",X22="+",Y22="+"),0,IF(V22<0,0,V22)) -> 4522.7
A23: Большеглушицкий | B23: 1 | C23: 10 | D23: 1362 | E23: 1362 | F23: =IF(G23=0,0,IF(D23=0,1,IF(E23<0,0,IF(E23/D23>1.2,IF((E23/D23-1.2)*0.1+1.2>1.3,1.3,(E23/D23-1.2)*0.1+1.2),E23/D23)))) -> 1 | G23: 5 | H23: =(B23*C23+F23*G23)/(C23+G23) -> 1 | I23: 55902 | J23: =ROUND(I23/11*8,1) -> 40656 | K23: =ROUND(H23*J23,1) -> 40656 | L23: =K23-J23 -> 0 | M23: 4622.1 | N23: =K23-M23 -> 36033.9 | O23: 5082 | P23: 5082 | Q23: 5082 | R23: 5082 | S23: 1154.7 | T23: 2755.8 | U23: 2755.8 | V23: =ROUND(N23-SUM(O23:U23),1) -> 9039.6 | Z23: =IF(OR(W23="+",X23="+",Y23="+"),0,IF(V23<0,0,V23)) -> 9039.6
A24: Большечерниговский | B24: 1 | C24: 10 | D24: 1668 | E24: 683 | F24: =IF(G24=0,0,IF(D24=0,1,IF(E24<0,0,IF(E24/D24>1.2,IF((E24/D24-1.2)*0.1+1.2>1.3,1.3,(E24/D24-1.2)*0.1+1.2),E24/D24)))) -> 0.40947242 | G24: 5 | H24: =(B24*C24+F24*G24)/(C24+G24) -> 0.80315747 | I24: 49182 | J24: =ROUND(I24/11*8,1) -> 35768.7 | K24: =ROUND(H24*J24,1) -> 28727.9 | L24: =K24-J24 -> -7040.8 | M24: 343.3 | N24: =K24-M24 -> 28384.6 | O24: 4471.1 | P24: 4471.1 | Q24: 4471.1 | R24: 4471.1 | S24: 2124.6 | T24: 3887.4 | U24: 3887.4 | V24: =ROUND(N24-SUM(O24:U24),1) -> 600.8 | Z24: =IF(OR(W24="+",X24="+",Y24="+"),0,IF(V24<0,0,V24)) -> 600.8
A25: Борский | B25: 1 | C25: 10 | D25: 4862 | E25: 1494 | F25: =IF(G25=0,0,IF(D25=0,1,IF(E25<0,0,IF(E25/D25>1.2,IF((E25/D25-1.2)*0.1+1.2>1.3,1.3,(E25/D25-1.2)*0.1+1.2),E25/D25)))) -> 0.30728095 | G25: 5 | H25: =(B25*C25+F25*G25)/(C25+G25) -> 0.76909365 | I25: 62016 | J25: =ROUND(I25/11*8,1) -> 45102.5 | K25: =ROUND(H25*J25,1) -> 34688 | L25: =K25-J25 -> -10414.5 | M25: 0 | N25: =K25-M25 -> 34688 | O25: 5637.8 | P25: 5637.8 | Q25: 5637.9 | R25: 5637.8 | S25: 194.4 | T25: 4549.2 | U25: 4549.1 | V25: =ROUND(N25-SUM(O25:U25),1) -> 2844 | Z25: =IF(OR(W25="+",X25="+",Y25="+"),0,IF(V25<0,0,V25)) -> 2844
A26: Волжский | B26: 1 | C26: 10 | D26: 85365 | E26: 85365 | F26: =IF(G26=0,0,IF(D26=0,1,IF(E26<0,0,IF(E26/D26>1.2,IF((E26/D26-1.2)*0.1+1.2>1.3,1.3,(E26/D26-1.2)*0.1+1.2),E26/D26)))) -> 1 | G26: 5 | H26: =(B26*C26+F26*G26)/(C26+G26) -> 1 | I26: 105527 | J26: =ROUND(I26/11*8,1) -> 76746.9 | K26: =ROUND(H26*J26,1) -> 76746.9 | L26: =K26-J26 -> 0 | M26: 0 | N26: =K26-M26 -> 76746.9 | O26: 9593.4 | P26: 9593.3 | Q26: 9593.4 | R26: 9593.4 | S26: 8791 | T26: 9433 | U26: 9432.8 | V26: =ROUND(N26-SUM(O26:U26),1) -> 10716.6 | Z26: =IF(OR(W26="+",X26="+",Y26="+"),0,IF(V26<0,0,V26)) -> 10716.6
A27: Елховский | B27: 1 | C27: 10 | D27: 1420 | E27: 773 | F27: =IF(G27=0,0,IF(D27=0,1,IF(E27<0,0,IF(E27/D27>1.2,IF((E27/D27-1.2)*0.1+1.2>1.3,1.3,(E27/D27-1.2)*0.1+1.2),E27/D27)))) -> 0.5443662 | G27: 5 | H27: =(B27*C27+F27*G27)/(C27+G27) -> 0.84812207 | I27: 27208 | J27: =ROUND(I27/11*8,1) -> 19787.6 | K27: =ROUND(H27*J27,1) -> 16782.3 | L27: =K27-J27 -> -3005.3 | M27: 0 | N27: =K27-M27 -> 16782.3 | O27: 2473.5 | P27: 2473.4 | Q27: 2473.5 | R27: 2473.4 | S27: 1210.3 | T27: 2220.7 | U27: 2220.9 | V27: =ROUND(N27-SUM(O27:U27),1) -> 1236.6 | Z27: =IF(OR(W27="+",X27="+",Y27="+"),0,IF(V27<0,0,V27)) -> 1236.6
A28: Исаклинский | B28: 1 | C28: 10 | D28: 2026 | E28: 1109 | F28: =IF(G28=0,0,IF(D28=0,1,IF(E28<0,0,IF(E28/D28>1.2,IF((E28/D28-1.2)*0.1+1.2>1.3,1.3,(E28/D28-1.2)*0.1+1.2),E28/D28)))) -> 0.54738401 | G28: 5 | H28: =(B28*C28+F28*G28)/(C28+G28) -> 0.849128 | I28: 50654 | J28: =ROUND(I28/11*8,1) -> 36839.3 | K28: =ROUND(H28*J28,1) -> 31281.3 | L28: =K28-J28 -> -5558 | M28: 0 | N28: =K28-M28 -> 31281.3 | O28: 4604.9 | P28: 4604.9 | Q28: 4604.9 | R28: 4604.9 | S28: 3187.7 | T28: 4321.6 | U28: 4321.4 | V28: =ROUND(N28-SUM(O28:U28),1) -> 1031 | Z28: =IF(OR(W28="+",X28="+",Y28="+"),0,IF(V28<0,0,V28)) -> 1031
A29: Камышлинский | B29: 1 | C29: 10 | D29: 995 | E29: 393 | F29: =IF(G29=0,0,IF(D29=0,1,IF(E29<0,0,IF(E29/D29>1.2,IF((E29/D29-1.2)*0.1+1.2>1.3,1.3,(E29/D29-1.2)*0.1+1.2),E29/D29)))) -> 0.39497487 | G29: 5 | H29: =(B29*C29+F29*G29)/(C29+G29) -> 0.79832496 | I29: 36188 | J29: =ROUND(I29/11*8,1) -> 26318.5 | K29: =ROUND(H29*J29,1) -> 21010.7 | L29: =K29-J29 -> -5307.8 | M29: 747.5 | N29: =K29-M29 -> 20263.2 | O29: 3238.8 | P29: 3238.8 | Q29: 3238.9 | R29: 3238.8 | S29: 0 | T29: 916.1 | U29: 2363.6 | V29: =ROUND(N29-SUM(O29:U29),1) -> 4028.2 | Z29: =IF(OR(W29="+",X29="+",Y29="+"),0,IF(V29<0,0,V29)) -> 4028.2
A30: Кинельский | B30: 1 | C30: 10 | D30: 19335 | E30: 19335 | F30: =IF(G30=0,0,IF(D30=0,1,IF(E30<0,0,IF(E30/D30>1.2,IF((E30/D30-1.2)*0.1+1.2>1.3,1.3,(E30/D30-1.2)*0.1+1.2),E30/D30)))) -> 1 | G30: 5 | H30: =(B30*C30+F30*G30)/(C30+G30) -> 1 | I30: 30146 | J30: =ROUND(I30/11*8,1) -> 21924.4 | K30: =ROUND(H30*J30,1) -> 21924.4 | L30: =K30-J30 -> 0 | M30: 0 | N30: =K30-M30 -> 21924.4 | O30: 2740.5 | P30: 2740.6 | Q30: 2740.5 | R30: 2740.6 | S30: 3643 | T30: 2921 | U30: 2921 | V30: =ROUND(N30-SUM(O30:U30),1) -> 1477.2 | Z30: =IF(OR(W30="+",X30="+",Y30="+"),0,IF(V30<0,0,V30)) -> 1477.2
A31: Кинель-Черкасский | B31: 1 | C31: 10 | D31: 6472 | E31: 6472 | F31: =IF(G31=0,0,IF(D31=0,1,IF(E31<0,0,IF(E31/D31>1.2,IF((E31/D31-1.2)*0.1+1.2>1.3,1.3,(E31/D31-1.2)*0.1+1.2),E31/D31)))) -> 1 | G31: 5 | H31: =(B31*C31+F31*G31)/(C31+G31) -> 1 | I31: 83878 | J31: =ROUND(I31/11*8,1) -> 61002.2 | K31: =ROUND(H31*J31,1) -> 61002.2 | L31: =K31-J31 -> 0 | M31: 0 | N31: =K31-M31 -> 61002.2 | O31: 7625.3 | P31: 7625.2 | Q31: 7625.3 | R31: 7625.3 | S31: 3510.9 | T31: 6802.3 | U31: 6802.4 | V31: =ROUND(N31-SUM(O31:U31),1) -> 13385.5 | Z31: =IF(OR(W31="+",X31="+",Y31="+"),0,IF(V31<0,0,V31)) -> 13385.5
... A46: Шигонский | B46: 1 | C46: 10 | D46: 4065 | E46: 4065 | F46: =IF(G46=0,0,IF(D46=0,1,IF(E46<0,0,IF(E46/D46>1.2,IF((E46/D46-1.2)*0.1+1.2>1.3,1.3,(E46/D46-1.2)*0.1+1.2),E46/D46)))) -> 1 | G46: 5 | H46: =(B46*C46+F46*G46)/(C46+G46) -> 1 | I46: 93337 | J46: =ROUND(I46/11*8,1) -> 67881.5 | K46: =ROUND(H46*J46,1) -> 67881.5 | L46: =K46-J46 -> 0 | M46: 923.2 | N46: =K46-M46 -> 66958.3 | O46: 7349.2 | P46: 7349.2 | Q46: 7349.1 | R46: 7349.2 | S46: 7578.9 | T46: 7087.5 | U46: 15089.1 | V46: =ROUND(N46-SUM(O46:U46),1) -> 7806.1 | Z46: =IF(OR(W46="+",X46="+",Y46="+"),0,IF(V46<0,0,V46)) -> 7806.1
A47: ИТОГО | D47: =D8+D19 -> 856739 | E47: =E8+E19 -> 677847 | F47: =IF(E47/D47>1.2,IF((E47/D47-1.2)*0.1+1.2>1.3,1.3,(E47/D47-1.2)*0.1+1.2),E47/D47) -> 0.79119428 | H47: =K47/J47 -> 0.91447462 | I47: =I8+I19 -> 3915888 | J47: =J8+J19 -> 2847918.3 | K47: =K8+K19 -> 2604349 | L47: =L8+L19 -> -243569.3 | M47: =M8+M19 -> 27213.3 | N47: =N8+N19 -> 2577135.7 | O47: =O8+O19 -> 346899.2 | P47: =P8+P19 -> 346898.2 | ... V47: =V8+V19 -> 552359.5 | W47: =COUNTIF(W9:W46,"+") -> 0 | X47: =COUNTIF(X9:X46,"+") -> 0 | Y47: =COUNTIF(Y9:Y46,"+") -> 0 | Z47: =Z8+Z19 -> 552359.5
A49: * | C49: - на муниципальное образование распространяется соответствующее ограничение
B50: + | C50: - условие предоставления дотации не выполнено

Sheet Плюсы и минусы
A1: Факторный анализ влияния отдельных показателей на итоговое распределение за 8 месяцев 2025 года
I2: тыс. рублей
A3: Наименование муниципального образования | B3: +/- по итогам отчётного периода | C3: Отсутствие просроченной кредиторской задолженности бюджета городского округа, консолидированного бюджета городского округа с внутригородским делением, консолидированного бюджета муниципального района по состоянию на конец отчетного периода | F3: Общая площадь введенного в эксплуатацию жилья с учетом индивидуального жилищного строительства | I3: Общая сумма весов влияния
C4: Отклонение от прогноза | D4: Вес влияния на результат | E4: + / - (5)=(2)*(4)/(9) | F4: Отклонение от прогноза | G4: Вес влияния на результат | H4: + / - (8)=(2)*(7)/(9)
A5: 1 | B5: 2 | C5: 3 | D5: 4 | E5: 5 | F5: 6 | G5: 7 | H5: 8 | I5: 9
A6: Городские округа | B6: =SUM(B7:B16) -> -167755.6 | E6: =SUM(E7:E16) -> 0 | H6: =SUM(H7:H16) -> -167755.6
A7: Самара | B7: ='Расчет дотаций'!L9 -> -149004 | C7: ='Расчет дотаций'!B9-1 -> 0 | D7: =C7*'Расчет дотаций'!C9 -> 0 | E7: =$B7*D7/$I7 -> 0 | F7: ='Расчет дотаций'!F9-1 -> -0.50081417 | G7: =F7*'Расчет дотаций'!G9 -> -7.5122126 | H7: =$B7*G7/$I7 -> -149004 | I7: =D7+G7 -> -7.5122126
A8: Тольятти | B8: ='Расчет дотаций'!L10 -> -20476 | C8: ='Расчет дотаций'!B10-1 -> 0 | D8: =C8*'Расчет дотаций'!C10 -> 0 | E8: =$B8*D8/$I8 -> 0 | F8: ='Расчет дотаций'!F10-1 -> -0.063976164 | G8: =F8*'Расчет дотаций'!G10 -> -0.95964246 | H8: =$B8*G8/$I8 -> -20476 | I8: =D8+G8 -> -0.95964246
A9: Сызрань | B9: ='Расчет дотаций'!L11 -> 0 | C9: ='Расчет дотаций'!B11-1 -> 0 | D9: =C9*'Расчет дотаций'!C11 -> 0 | F9: ='Расчет дотаций'!F11-1 -> 0 | G9: =F9*'Расчет дотаций'!G11 -> 0 | I9: =D9+G9 -> 0
A10: Новокуйбышевск | B10: ='Расчет дотаций'!L12 -> 0 | C10: ='Расчет дотаций'!B12-1 -> 0 | D10: =C10*'Расчет дотаций'!C12 -> 0 | F10: ='Расчет дотаций'!F12-1 -> 0 | G10: =F10*'Расчет дотаций'!G12 -> 0 | I10: =D10+G10 -> 0
A11: Чапаевск | B11: ='Расчет дотаций'!L13 -> 12683.9 | C11: ='Расчет дотаций'!B13-1 -> 0 | D11: =C11*'Расчет дотаций'!C13 -> 0 | E11: =$B11*D11/$I11 -> 0 | F11: ='Расчет дотаций'!F13-1 -> 0.25254308 | G11: =F11*'Расчет дотаций'!G13 -> 3.7881463 | H11: =$B11*G11/$I11 -> 12683.9 | I11: =D11+G11 -> 3.7881463
A12: Отрадный | B12: ='Расчет дотаций'!L14 -> 0 | C12: ='Расчет дотаций'!B14-1 -> 0 | D12: =C12*'Расчет дотаций'!C14 -> 0 | F12: ='Расчет дотаций'!F14-1 -> 0 | G12: =F12*'Расчет дотаций'!G14 -> 0 | I12: =D12+G12 -> 0
A13: Жигулевск | B13: ='Расчет дотаций'!L15 -> 0 | C13: ='Расчет дотаций'!B15-1 -> 0 | D13: =C13*'Расчет дотаций'!C15 -> 0 | F13: ='Расчет дотаций'!F15-1 -> 0 | G13: =F13*'Расчет дотаций'!G15 -> 0 | I13: =D13+G13 -> 0
A14: Октябрьск | B14: ='Расчет дотаций'!L16 -> 0 | C14: ='Расчет дотаций'!B16-1 -> 0 | D14: =C14*'Расчет дотаций'!C16 -> 0 | F14: ='Расчет дотаций'!F16-1 -> 0 | G14: =F14*'Расчет дотаций'!G16 -> 0 | I14: =D14+G14 -> 0
A15: Кинель | B15: ='Расчет дотаций'!L17 -> 0 | C15: ='Расчет дотаций'!B17-1 -> 0 | D15: =C15*'Расчет дотаций'!C17 -> 0 | F15: ='Расчет дотаций'!F17-1 -> 0 | G15: =F15*'Расчет дотаций'!G17 -> 0 | I15: =D15+G15 -> 0
A16: Похвистнево | B16: ='Расчет дотаций'!L18 -> -10959.5 | C16: ='Расчет дотаций'!B18-1 -> 0 | D16: =C16*'Расчет дотаций'!C18 -> 0 | E16: =$B16*D16/$I16 -> 0 | F16: ='Расчет дотаций'!F18-1 -> -0.32453278 | G16: =F16*'Расчет дотаций'!G18 -> -4.8679917 | H16: =$B16*G16/$I16 -> -10959.5 | I16: =D16+G16 -> -4.8679917
A17: Муниципальные районы | B17: =SUM(B18:B44) -> -75813.7 | E17: =SUM(E18:E44) -> 0 | H17: =SUM(H18:H44) -> -75813.7
A18: Алексеевский | B18: ='Расчет дотаций'!L20 -> -1063.4 | C18: ='Расчет дотаций'!B20-1 -> 0 | D18: =C18*'Расчет дотаций'!C20 -> 0 | E18: =$B18*D18/$I18 -> 0 | F18: ='Расчет дотаций'!F20-1 -> -0.13037448 | G18: =F18*'Расчет дотаций'!G20 -> -0.6518724 | H18: =$B18*G18/$I18 -> -1063.4 | I18: =D18+G18 -> -0.6518724
A19: Безенчукский | B19: ='Расчет дотаций'!L21 -> 0 | C19: ='Расчет дотаций'!B21-1 -> 0 | D19: =C19*'Расчет дотаций'!C21 -> 0 | F19: ='Расчет дотаций'!F21-1 -> 0 | G19: =F19*'Расчет дотаций'!G21 -> 0 | I19: =D19+G19 -> 0
A20: Богатовский | B20: ='Расчет дотаций'!L22 -> -3563.4 | C20: ='Расчет дотаций'!B22-1 -> 0 | D20: =C20*'Расчет дотаций'!C22 -> 0 | E20: =$B20*D20/$I20 -> 0 | F20: ='Расчет дотаций'!F22-1 -> -0.34560798 | G20: =F20*'Расчет дотаций'!G22 -> -1.7280399 | H20: =$B20*G20/$I20 -> -3563.4 | I20: =D20+G20 -> -1.7280399
A21: Большеглушицкий | B21: ='Расчет дотаций'!L23 -> 0 | C21: ='Расчет дотаций'!B23-1 -> 0 | D21: =C21*'Расчет дотаций'!C23 -> 0 | F21: ='Расчет дотаций'!F23-1 -> 0 | G21: =F21*'Расчет дотаций'!G23 -> 0 | I21: =D21+G21 -> 0
A22: Большечерниговский | B22: ='Расчет дотаций'!L24 -> -7040.8 | C22: ='Расчет дотаций'!B24-1 -> 0 | D22: =C22*'Расчет дотаций'!C24 -> 0 | E22: =$B22*D22/$I22 -> 0 | F22: ='Расчет дотаций'!F24-1 -> -0.59052758 | G22: =F22*'Расчет дотаций'!G24 -> -2.9526379 | H22: =$B22*G22/$I22 -> -7040.8 | I22: =D22+G22 -> -2.9526379
A23: Борский | B23: ='Расчет дотаций'!L25 -> -10414.5 | C23: ='Расчет дотаций'!B25-1 -> 0 | D23: =C23*'Расчет дотаций'!C25 -> 0 | E23: =$B23*D23/$I23 -> 0 | F23: ='Расчет дотаций'!F25-1 -> -0.69271905 | G23: =F23*'Расчет дотаций'!G25 -> -3.4635952 | H23: =$B23*G23/$I23 -> -10414.5 | I23: =D23+G23 -> -3.4635952
A24: Волжский | B24: ='Расчет дотаций'!L26 -> 0 | C24: ='Расчет дотаций'!B26-1 -> 0 | D24: =C24*'Расчет дотаций'!C26 -> 0 | F24: ='Расчет дотаций'!F26-1 -> 0 | G24: =F24*'Расчет дотаций'!G26 -> 0 | I24: =D24+G24 -> 0
A25: Елховский | B25: ='Расчет дотаций'!L27 -> -3005.3 | C25: ='Расчет дотаций'!B27-1 -> 0 | D25: =C25*'Расчет дотаций'!C27 -> 0 | E25: =$B25*D25/$I25 -> 0 | F25: ='Расчет дотаций'!F27-1 -> -0.4556338 | G25: =F25*'Расчет дотаций'!G27 -> -2.278169 | H25: =$B25*G25/$I25 -> -3005.3 | I25: =D25+G25 -> -2.278169
A26: Исаклинский | B26: ='Расчет дотаций'!L28 -> -5558 | C26: ='Расчет дотаций'!B28-1 -> 0 | D26: =C26*'Расчет дотаций'!C28 -> 0 | E26: =$B26*D26/$I26 -> 0 | F26: ='Расчет дотаций'!F28-1 -> -0.45261599 | G26: =F26*'Расчет дотаций'!G28 -> -2.26308 | H26: =$B26*G26/$I26 -> -5558 | I26: =D26+G26 -> -2.26308
A27: Камышлинский | B27: ='Расчет дотаций'!L29 -> -5307.8 | C27: ='Расчет дотаций'!B29-1 -> 0 | D27: =C27*'Расчет дотаций'!C29 -> 0 | E27: =$B27*D27/$I27 -> 0 | F27: ='Расчет дотаций'!F29-1 -> -0.60502513 | G27: =F27*'Расчет дотаций'!G29 -> -3.0251256 | H27: =$B27*G27/$I27 -> -5307.8 | I27: =D27+G27 -> -3.0251256
A28: Кинельский | B28: ='Расчет дотаций'!L30 -> 0 | C28: ='Расчет дотаций'!B30-1 -> 0 | D28: =C28*'Расчет дотаций'!C30 -> 0 | F28: ='Расчет дотаций'!F30-1 -> 0 | G28: =F28*'Расчет дотаций'!G30 -> 0 | I28: =D28+G28 -> 0
A29: Кинель-Черкасский | B29: ='Расчет дотаций'!L31 -> 0 | C29: ='Расчет дотаций'!B31-1 -> 0 | D29: =C29*'Расчет дотаций'!C31 -> 0 | F29: ='Расчет дотаций'!F31-1 -> 0 | G29: =F29*'Расчет дотаций'!G31 -> 0 | I29: =D29+G29 -> 0
A30: Клявлинский | B30: ='Расчет дотаций'!L32 -> -7813.9 | C30: ='Расчет дотаций'!B32-1 -> 0 | D30: =C30*'Расчет дотаций'!C32 -> 0 | E30: =$B30*D30/$I30 -> 0 | F30: ='Расчет дотаций'!F32-1 -> -0.57427259 | G30: =F30*'Расчет дотаций'!G32 -> -2.8713629 | H30: =$B30*G30/$I30 -> -7813.9 | I30: =D30+G30 -> -2.8713629
A31: Кошкинский | B31: ='Расчет дотаций'!L33 -> 0 | C31: ='Расчет дотаций'!B33-1 -> 0 | D31: =C31*'Расчет дотаций'!C33 -> 0 | F31: ='Расчет дотаций'!F33-1 -> 0 | G31: =F31*'Расчет дотаций'!G33 -> 0 | I31: =D31+G31 -> 0
A32: Красноармейский | B32: ='Расчет дотаций'!L34 -> 0 | C32: ='Расчет дотаций'!B34-1 -> 0 | D32: =C32*'Расчет дотаций'!C34 -> 0 | F32: ='Расчет дотаций'!F34-1 -> 0 | G32: =F32*'Расчет дотаций'!G34 -> 0 | I32: =D32+G32 -> 0
A33: Красноярский | B33: ='Расчет дотаций'!L35 -> 839.8 | C33: ='Расчет дотаций'!B35-1 -> 0 | D33: =C33*'Расчет дотаций'!C35 -> 0 | E33: =$B33*D33/$I33 -> 0 | F33: ='Расчет дотаций'!F35-1 -> 0.055602804 | G33: =F33*'Расчет дотаций'!G35 -> 0.27801402 | H33: =$B33*G33/$I33 -> 839.8 | I33: =D33+G33 -> 0.27801402
A34: Нефтегорский | B34: ='Расчет дотаций'!L36 -> 0 | C34: ='Расчет дотаций'!B36-1 -> 0 | D34: =C34*'Расчет дотаций'!C36 -> 0 | F34: ='Расчет дотаций'!F36-1 -> 0 | G34: =F34*'Расчет дотаций'!G36 -> 0 | I34: =D34+G34 -> 0
A35: Пестравский | B35: ='Расчет дотаций'!L37 -> 2786 | C35: ='Расчет дотаций'!B37-1 -> 0 | D35: =C35*'Расчет дотаций'!C37 -> 0 | E35: =$B35*D35/$I35 -> 0 | F35: ='Расчет дотаций'!F37-1 -> 0.3 | G35: =F35*'Расчет дотаций'!G37 -> 1.5 | H35: =$B35*G35/$I35 -> 2786 | I35: =D35+G35 -> 1.5
A36: Похвистневский | B36: ='Расчет дотаций'!L38 -> -13284.8 | C36: ='Расчет дотаций'!B38-1 -> 0 | D36: =C36*'Расчет дотаций'!C38 -> 0 | E36: =$B36*D36/$I36 -> 0 | F36: ='Расчет дотаций'!F38-1 -> -0.66835542 | G36: =F36*'Расчет дотаций'!G38 -> -3.3417771 | H36: =$B36*G36/$I36 -> -13284.8 | I36: =D36+G36 -> -3.3417771
A37: Приволжский | B37: ='Расчет дотаций'!L39 -> 0 | C37: ='Расчет дотаций'!B39-1 -> 0 | D37: =C37*'Расчет дотаций'!C39 -> 0 | F37: ='Расчет дотаций'!F39-1 -> 0 | G37: =F37*'Расчет дотаций'!G39 -> 0 | I37: =D37+G37 -> 0
A38: Сергиевский | B38: ='Расчет дотаций'!L40 -> 0 | C38: ='Расчет дотаций'!B40-1 -> 0 | D38: =C38*'Расчет дотаций'!C40 -> 0 | F38: ='Расчет дотаций'!F40-1 -> 0 | G38: =F38*'Расчет дотаций'!G40 -> 0 | I38: =D38+G38 -> 0
A39: Ставропольский | B39: ='Расчет дотаций'!L41 -> 0 | C39: ='Расчет дотаций'!B41-1 -> 0 | D39: =C39*'Расчет дотаций'!C41 -> 0 | F39: ='Расчет дотаций'!F41-1 -> 0 | G39: =F39*'Расчет дотаций'!G41 -> 0 | I39: =D39+G39 -> 0
A40: Сызранский | B40: ='Расчет дотаций'!L42 -> 0 | C40: ='Расчет дотаций'!B42-1 -> 0 | D40: =C40*'Расчет дотаций'!C42 -> 0 | F40: ='Расчет дотаций'!F42-1 -> 0 | G40: =F40*'Расчет дотаций'!G42 -> 0 | I40: =D40+G40 -> 0
...
