Workbook

Sheet Расчет дотаций
B1: Распределение дотаций местным бюджетам на поддержку мер по обеспечению сбалансированности местных бюджетов
A2: за 6 месяцев 2024 года
A3: Наименование муниципального образования | B3: Отсутствие просроченной кредиторской задолженности бюджета городского округа, консолидированного бюджета городского округа с внутригородским делением, консолидированного бюджета муниципального района по состоянию на конец отчетного периода (по состоянию на 01.07.2024) | D3: Объем алкогольной продукции, зафиксированный в единой государственной автоматизированной информационной системе (дкл.) (по состоянию на 01.04.2024) | H3: Эффективность вовлечения объектов недвижимости в налоговый оборот (%) (по состоянию на 01.04.2024) | L3: Общая площадь введенного в эксплуатацию жилья с учетом индивидуального жилищного строительства (по состоянию на 01.04.2024) | P3: Сводная оценка выполнения социально-экономических показателей | Q3: Годовое значение, тыс. рублей | R3: План распределения за период, тыс. рублей | S3: Распределение за отчетный период, тыс. рублей | T3: Отклонение от планируемого распределения, тыс. рублей | U3: Удержание дотаций в 2024 году в связи с исполнением показателей за 2023 год (2/5 от суммы взысканя), тыс. рублей | V3: Распределение за отчетный период с учетом удержания, тыс. рублей | W3: Ранее предоставленные дотации в 2024 году, тыс. рублей | AD3: Распределение дотаций за июнь за вычетом ранее предоставленных дотаций, тыс. рублей | AE3: Соблюдение условий предоставления дотаций*: | AH3: Распределение дотаций за июнь с учетом выполнения условий предоставления дотаций
AE4: непривлечение кредитов кредитных организаций в июне 2024 года | AG4: неувеличение объема муниципального долга в части кредитов кредитных организаций в июне 2024 года (не применяется если объем долга на 01.07.2024 не превышает его объем по состоянию на начало 2024 года)
W5: досрочное перечисление (распоряжение МУФ СО от 16.01.2024 № 01-08/2) | X5: за январь | Y5: досрочное перечисление (распоряжение МУФ СО от 22.02.2024 № 01-08/12) | Z5: за февраль | AA5: за март | AB5: за апрель | AC5: за май | AE5: МО у которых доля дотаций на выравнивание бюджетной обеспеченности в доходах бюджета (без учета субвенций) за 2023 год > 15 % | AF5: МО, муниципальный долг которых на 01.07.2024 > 90% от утвержденного общего годового объема доходов без учета утвержденного объема безвозмездных поступлений
B6: Исполнение | C6: Вес | D6: Прогнозное значение | E6: Фактически сложившийся уровень | F6: Исполнение с уч. корректир. макс. перевыполнения | G6: Вес | H6: Прогнозное значение | I6: Фактически сложившийся уровень | J6: Исполнение с уч. корректир. макс. перевыполнения | K6: Вес | L6: Прогнозное значение | M6: Фактически сложившийся уровень | N6: Исполнение с уч. корректир. макс. перевыполнения | O6: Вес
A7: 1 | B7: 2 | C7: 3 | D7: 4 | E7: 5 | F7: 6=5/4 | G7: 7 | H7: 8 | I7: 9 | J7: 10=9/8 | K7: 11 | L7: 12 | M7: 13 | N7: 14=13/12 | O7: 15 | P7: 16 | Q7: 17 | R7: 18=17/11мес.*6 | S7: 19=16*18 | T7: 20=19-18 | U7: 21 | V7: 22=19-21 | W7: 23 | X7: 24 | Y7: 25 | Z7: 26 | AA7: 27 | AB7: 28 | AD7: 29=22-(23+...+28) | AE7: 30 | AF7: 31 | AG7: 32 | AH7: 33
A8: Городские округа (городской округ с внутригородским делением) | L8: =SUM(L9:L18) -> 392984 | M8: =SUM(M9:M18) -> 314420 | N8: =IF(M8/L8>1.2,IF((M8/L8-1.2)*0.1+1.2>1.3,1.3,(M8/L8-1.2)*0.1+1.2),M8/L8) -> 0.80008346 | Q8: =SUM(Q9:Q18) -> 1909020 | R8: =SUM(R9:R18) -> 1041283.8 | S8: =SUM(S9:S18) -> 937847 | T8: =SUM(T9:T18) -> -103436.8 | U8: =SUM(U9:U18) -> 26188.9 | V8: =SUM(V9:V18) -> 911658.1 | W8: =SUM(W9:W18) -> 0 | X8: =SUM(X9:X18) -> 173158.3 | ... AD8: =SUM(AD9:AD18) -> 120554 | AH8: =SUM(AH9:AH18) -> 120554
A9: Самара | B9: 1 | C9: 10 | D9: н/д | E9: н/д | F9: н/д | G9: 15 | H9: 180 | I9: 166.26 | J9: =IF(K9=0,0,IF(H9=0,1,IF(I9<0,0,IF(I9/H9>1.2,IF((I9/H9-1.2)*0.1+1.2>1.3,1.3,(I9/H9-1.2)*0.1+1.2),I9/H9)))) -> 0.92366667 | K9: 20 | L9: 294317 | M9: 240499 | N9: =IF(O9=0,0,IF(L9=0,1,IF(M9<0,0,IF(M9/L9>1.2,IF((M9/L9-1.2)*0.1+1.2>1.3,1.3,(M9/L9-1.2)*0.1+1.2),M9/L9)))) -> 0.81714274 | O9: 15 | P9: =(B9*C9+J9*K9+N9*O9)/(C9+K9+O9) -> 0.90512165 | Q9: =511476+4278 -> 515754 | R9: =ROUND(Q9/11*6,1) -> 281320.4 | S9: =ROUND(P9*R9,1) -> 254629.2 | T9: =S9-R9 -> -26691.2 | U9: 5787.7 | V9: =S9-U9 -> 248841.5 | X9: 46497.8 | Z9: 46497.8 | AA9: 47664.6 | AB9: 37342.6 | AC9: 31294.2 | AD9: =ROUND(V9-SUM(W9:AC9),1) -> 39544.5 | AH9: =IF(OR(AE9="+",AF9="+",AG9="+"),0,IF(AD9<0,0,AD9)) -> 39544.5
A10: Тольятти | B10: 1 | C10: 10 | D10: н/д | E10: н/д | F10: н/д | G10: 15 | H10: 195 | I10: 194.1 | J10: =IF(K10=0,0,IF(H10=0,1,IF(I10<0,0,IF(I10/H10>1.2,IF((I10/H10-1.2)*0.1+1.2>1.3,1.3,(I10/H10-1.2)*0.1+1.2),I10/H10)))) -> 0.99538462 | K10: 20 | L10: 57899 | M10: 12494 | N10: =IF(O10=0,0,IF(L10=0,1,IF(M10<0,0,IF(M10/L10>1.2,IF((M10/L10-1.2)*0.1+1.2>1.3,1.3,(M10/L10-1.2)*0.1+1.2),M10/L10)))) -> 0.21578956 | O10: 15 | P10: =(B10*C10+J10*K10+N10*O10)/(C10+K10+O10) -> 0.73654524 | Q10: 615720 | R10: =ROUND(Q10/11*6,1) -> 335847.3 | S10: =ROUND(P10*R10,1) -> 247366.7 | T10: =S10-R10 -> -88480.6 | U10: 11178.2 | V10: =S10-U10 -> 236188.5 | X10: 55974.5 | Z10: 55974.6 | AA10: 55974.5 | AB10: 55285.7 | AC10: 0 | AD10: =ROUND(V10-SUM(W10:AC10),1) -> 12979.2 | AH10: =IF(OR(AE10="+",AF10="+",AG10="+"),0,IF(AD10<0,0,AD10)) -> 12979.2
A11: Сызрань | B11: 1 | C11: 10 | D11: н/д | E11: н/д | F11: н/д | G11: 15 | H11: 195 | I11: 190.08 | J11: =IF(K11=0,0,IF(H11=0,1,IF(I11<0,0,IF(I11/H11>1.2,IF((I11/H11-1.2)*0.1+1.2>1.3,1.3,(I11/H11-1.2)*0.1+1.2),I11/H11)))) -> 0.97476923 | K11: 20 | L11: 9547 | M11: 9997 | N11: =IF(O11=0,0,IF(L11=0,1,IF(M11<0,0,IF(M11/L11>1.2,IF((M11/L11-1.2)*0.1+1.2>1.3,1.3,(M11/L11-1.2)*0.1+1.2),M11/L11)))) -> 1.0471352 | O11: 15 | P11: =(B11*C11+J11*K11+N11*O11)/(C11+K11+O11) -> 1.0044981 | Q11: 201240 | R11: =ROUND(Q11/11*6,1) -> 109767.3 | S11: =ROUND(P11*R11,1) -> 110261 | T11: =S11-R11 -> 493.7 | U11: 2770.9 | V11: =S11-U11 -> 107490.1 | X11: 18294.5 | Z11: 18294.6 | AA11: 18294.5 | AB11: 17063.7 | AC11: 18551.5 | AD11: =ROUND(V11-SUM(W11:AC11),1) -> 16991.3 | AH11: =IF(OR(AE11="+",AF11="+",AG11="+"),0,IF(AD11<0,0,AD11)) -> 16991.3
A12: Новокуйбышевск | B12: 1 | C12: 10 | D12: н/д | E12: н/д | F12: н/д | G12: 15 | H12: 195 | I12: 191.73 | J12: =IF(K12=0,0,IF(H12=0,1,IF(I12<0,0,IF(I12/H12>1.2,IF((I12/H12-1.2)*0.1+1.2>1.3,1.3,(I12/H12-1.2)*0.1+1.2),I12/H12)))) -> 0.98323077 | K12: 20 | L12: 6399 | M12: 9228 | N12: =IF(O12=0,0,IF(L12=0,1,IF(M12<0,0,IF(M12/L12>1.2,IF((M12/L12-1.2)*0.1+1.2>1.3,1.3,(M12/L12-1.2)*0.1+1.2),M12/L12)))) -> 1.22421 | O12: 15 | P12: =(B12*C12+J12*K12+N12*O12)/(C12+K12+O12) -> 1.0672837 | Q12: 114191 | R12: =ROUND(Q12/11*6,1) -> 62286 | S12: =ROUND(P12*R12,1) -> 66476.8 | T12: =S12-R12 -> 4190.8 | U12: 1821.5 | V12: =S12-U12 -> 64655.3 | X12: 10381 | Z12: 10381 | AA12: 10381 | AB12: 9916.8 | AC12: 13426.9 | AD12: =ROUND(V12-SUM(W12:AC12),1) -> 10168.6 | AH12: =IF(OR(AE12="+",AF12="+",AG12="+"),0,IF(AD12<0,0,AD12)) -> 10168.6
A13: Чапаевск | B13: 1 | C13: 10 | D13: н/д | E13: н/д | F13: н/д | G13: 15 | H13: 180 | I13: 167.09 | J13: =IF(K13=0,0,IF(H13=0,1,IF(I13<0,0,IF(I13/H13>1.2,IF((I13/H13-1.2)*0.1+1.2>1.3,1.3,(I13/H13-1.2)*0.1+1.2),I13/H13)))) -> 0.92827778 | K13: 20 | L13: 3182 | M13: 9847 | N13: =IF(O13=0,0,IF(L13=0,1,IF(M13<0,0,IF(M13/L13>1.2,IF((M13/L13-1.2)*0.1+1.2>1.3,1.3,(M13/L13-1.2)*0.1+1.2),M13/L13)))) -> 1.3 | O13: 15 | P13: =(B13*C13+J13*K13+N13*O13)/(C13+K13+O13) -> 1.0681235 | Q13: 94110 | R13: =ROUND(Q13/11*6,1) -> 51332.7 | S13: =ROUND(P13*R13,1) -> 54829.7 | T13: =S13-R13 -> 3497 | U13: 0 | V13: =S13-U13 -> 54829.7 | X13: 8555.5 | Z13: 8555.4 | AA13: 8555.5 | AB13: 6919.1 | AC13: 13105.9 | AD13: =ROUND(V13-SUM(W13:AC13),1) -> 9138.3 | AH13: =IF(OR(AE13="+",AF13="+",AG13="+"),0,IF(AD13<0,0,AD13)) -> 9138.3
A14: Отрадный | B14: 1 | C14: 10 | D14: н/д | E14: н/д | F14: н/д | G14: 15 | H14: 190 | I14: 180.61 | J14: =IF(K14=0,0,IF(H14=0,1,IF(I14<0,0,IF(I14/H14>1.2,IF((I14/H14-1.2)*0.1+1.2>1.3,1.3,(I14/H14-1.2)*0.1+1.2),I14/H14)))) -> 0.95057895 | K14: 20 | L14: 2475 | M14: 2115 | N14: =IF(O14=0,0,IF(L14=0,1,IF(M14<0,0,IF(M14/L14>1.2,IF((M14/L14-1.2)*0.1+1.2>1.3,1.3,(M14/L14-1.2)*0.1+1.2),M14/L14)))) -> 0.85454545 | O14: 15 | P14: =(B14*C14+J14*K14+N14*O14)/(C14+K14+O14) -> 0.92955024 | Q14: 55019 | R14: =ROUND(Q14/11*6,1) -> 30010.4 | S14: =ROUND(P14*R14,1) -> 27896.2 | T14: =S14-R14 -> -2114.2 | U14: 112.2 | V14: =S14-U14 -> 27784 | X14: 5001.7 | Z14: 5001.8 | AA14: 5001.7 | AB14: 4342.5 | AC14: 3843 | AD14: =ROUND(V14-SUM(W14:AC14),1) -> 4593.3 | AH14: =IF(OR(AE14="+",AF14="+",AG14="+"),0,IF(AD14<0,0,AD14)) -> 4593.3
A15: Жигулевск | B15: 1 | C15: 10 | D15: н/д | E15: н/д | F15: н/д | G15: 15 | H15: 195 | I15: 179.44 | J15: =IF(K15=0,0,IF(H15=0,1,IF(I15<0,0,IF(I15/H15>1.2,IF((I15/H15-1.2)*0.1+1.2>1.3,1.3,(I15/H15-1.2)*0.1+1.2),I15/H15)))) -> 0.92020513 | K15: 20 | L15: 3096 | M15: 5952 | N15: =IF(O15=0,0,IF(L15=0,1,IF(M15<0,0,IF(M15/L15>1.2,IF((M15/L15-1.2)*0.1+1.2>1.3,1.3,(M15/L15-1.2)*0.1+1.2),M15/L15)))) -> 1.2722481 | O15: 15 | P15: =(B15*C15+J15*K15+N15*O15)/(C15+K15+O15) -> 1.055285 | Q15: 87163 | R15: =ROUND(Q15/11*6,1) -> 47543.5 | S15: =ROUND(P15*R15,1) -> 50171.9 | T15: =S15-R15 -> 2628.4 | U15: 0 | V15: =S15-U15 -> 50171.9 | X15: 7923.9 | Z15: 7923.9 | AA15: 7923.9 | AB15: 6237.8 | AC15: 11800.4 | AD15: =ROUND(V15-SUM(W15:AC15),1) -> 8362 | AH15: =IF(OR(AE15="+",AF15="+",AG15="+"),0,IF(AD15<0,0,AD15)) -> 8362
A16: Октябрьск | B16: 1 | C16: 10 | D16: н/д | E16: н/д | F16: н/д | G16: 15 | H16: 195 | I16: 193.81 | J16: =IF(K16=0,0,IF(H16=0,1,IF(I16<0,0,IF(I16/H16>1.2,IF((I16/H16-1.2)*0.1+1.2>1.3,1.3,(I16/H16-1.2)*0.1+1.2),I16/H16)))) -> 0.99389744 | K16: 20 | L16: 1533 | M16: 1947 | N16: =IF(O16=0,0,IF(L16=0,1,IF(M16<0,0,IF(M16/L16>1.2,IF((M16/L16-1.2)*0.1+1.2>1.3,1.3,(M16/L16-1.2)*0.1+1.2),M16/L16)))) -> 1.2070059 | O16: 15 | P16: =(B16*C16+J16*K16+N16*O16)/(C16+K16+O16) -> 1.0662897 | Q16: 78806 | R16: =ROUND(Q16/11*6,1) -> 42985.1 | S16: =ROUND(P16*R16,1) -> 45834.6 | T16: =S16-R16 -> 2849.5 | U16: 2137.5 | V16: =S16-U16 -> 43697.1 | X16: 7164.2 | Z16: 7164.2 | AA16: 7164.1 | AB16: 7047.6 | AC16: 8586.6 | AD16: =ROUND(V16-SUM(W16:AC16),1) -> 6570.4 | AH16: =IF(OR(AE16="+",AF16="+",AG16="+"),0,IF(AD16<0,0,AD16)) -> 6570.4
A17: Кинель | B17: 1 | C17: 10 | D17: н/д | E17: н/д | F17: н/д | G17: 15 | H17: 190 | I17: 192.13 | J17: =IF(K17=0,0,IF(H17=0,1,IF(I17<0,0,IF(I17/H17>1.2,IF((I17/H17-1.2)*0.1+1.2>1.3,1.3,(I17/H17-1.2)*0.1+1.2),I17/H17)))) -> 1.0112105 | K17: 20 | L17: 12431 | M17: 21079 | N17: =IF(O17=0,0,IF(L17=0,1,IF(M17<0,0,IF(M17/L17>1.2,IF((M17/L17-1.2)*0.1+1.2>1.3,1.3,(M17/L17-1.2)*0.1+1.2),M17/L17)))) -> 1.249568 | O17: 15 | P17: =(B17*C17+J17*K17+N17*O17)/(C17+K17+O17) -> 1.0881718 | Q17: 88861 | R17: =ROUND(Q17/11*6,1) -> 48469.6 | S17: =ROUND(P17*R17,1) -> 52743.3 | T17: =S17-R17 -> 4273.7 | U17: 806.4 | V17: =S17-U17 -> 51936.9 | X17: 8078.3 | Z17: 8078.2 | AA17: 8078.3 | AB17: 8319.8 | AC17: 10995 | AD17: =ROUND(V17-SUM(W17:AC17),1) -> 8387.3 | AH17: =IF(OR(AE17="+",AF17="+",AG17="+"),0,IF(AD17<0,0,AD17)) -> 8387.3
A18: Похвистнево | B18: 1 | C18: 10 | D18: н/д | E18: н/д | F18: н/д | G18: 15 | H18: 190 | I18: 192.03 | J18: =IF(K18=0,0,IF(H18=0,1,IF(I18<0,0,IF(I18/H18>1.2,IF((I18/H18-1.2)*0.1+1.2>1.3,1.3,(I18/H18-1.2)*0.1+1.2),I18/H18)))) -> 1.0106842 | K18: 20 | L18: 2105 | M18: 1262 | N18: =IF(O18=0,0,IF(L18=0,1,IF(M18<0,0,IF(M18/L18>1.2,IF((M18/L18-1.2)*0.1+1.2>1.3,1.3,(M18/L18-1.2)*0.1+1.2),M18/L18)))) -> 0.59952494 | O18: 15 | P18: =(B18*C18+J18*K18+N18*O18)/(C18+K18+O18) -> 0.87125685 | Q18: 58156 | R18: =ROUND(Q18/11*6,1) -> 31721.5 | S18: =ROUND(P18*R18,1) -> 27637.6 | T18: =S18-R18 -> -4083.9 | U18: 1574.5 | V18: =S18-U18 -> 26063.1 | X18: 5286.9 | Z18: 5286.9 | AA18: 5286.9 | AB18: 5437.5 | AC18: 945.8 | AD18: =ROUND(V18-SUM(W18:AC18),1) -> 3819.1 | AH18: =IF(OR(AE18="+",AF18="+",AG18="+"),0,IF(AD18<0,0,AD18)) -> 3819.1
A19: Муниципальные районы | L19: =SUM(L20:L46) -> 170169 | M19: =SUM(M20:M46) -> 272691 | N19: =IF(M19/L19>1.2,IF((M19/L19-1.2)*0.1+1.2>1.3,1.3,(M19/L19-1.2)*0.1+1.2),M19/L19) -> 1.2402472 | Q19: =SUM(Q20:Q46) -> 1420708 | R19: =SUM(R20:R46) -> 774931.3 | S19: =SUM(S20:S46) -> 773772.2 | T19: =SUM(T20:T46) -> -1159.1 | U19: =SUM(U20:U46) -> 11113.1 | V19: =SUM(V20:V46) -> 762659.1 | W19: =SUM(W20:W46) -> 7282.6 | X19: =SUM(X20:X46) -> 125631.7 | ... AD19: =SUM(AD20:AD46) -> 123404.9 | AH19: =SUM(AH20:AH46) -> 123404.9
A20: Алексеевский | B20: 1 | C20: 10 | D20: н/д | E20: н/д | F20: н/д | G20: 10 | H20: 195 | I20: 180.82 | J20: =IF(K20=0,0,IF(H20=0,1,IF(I20<0,0,IF(I20/H20>1.2,IF((I20/H20-1.2)*0.1+1.2>1.3,1.3,(I20/H20-1.2)*0.1+1.2),I20/H20)))) -> 0.92728205 | K20: 15 | L20: 688 | M20: 543 | N20: =IF(O20=0,0,IF(L20=0,1,IF(M20<0,0,IF(M20/L20>1.2,IF((M20/L20-1.2)*0.1+1.2>1.3,1.3,(M20/L20-1.2)*0.1+1.2),M20/L20)))) -> 0.78924419 | O20: 5 | P20: =(B20*C20+J20*K20+N20*O20)/(C20+K20+O20) -> 0.92851506 | Q20: 33106 | R20: =ROUND(Q20/11*6,1) -> 18057.8 | S20: =ROUND(P20*R20,1) -> 16766.9 | T20: =S20-R20 -> -1290.9 | U20: 576.8 | V20: =S20-U20 -> 16190.1 | X20: 3009.6 | Z20: 3009.7 | AA20: 3009.6 | AB20: 2484.4 | AC20: 2170.8 | AD20: =ROUND(V20-SUM(W20:AC20),1) -> 2506 | AH20: =IF(OR(AE20="+",AF20="+",AG20="+"),0,IF(AD20<0,0,AD20)) -> 2506
A21: Безенчукский | B21: 1 | C21: 10 | D21: н/д | E21: н/д | F21: н/д | G21: 10 | H21: 195 | I21: 196.36 | J21: =IF(K21=0,0,IF(H21=0,1,IF(I21<0,0,IF(I21/H21>1.2,IF((I21/H21-1.2)*0.1+1.2>1.3,1.3,(I21/H21-1.2)*0.1+1.2),I21/H21)))) -> 1.0069744 | K21: 15 | L21: 3878 | M21: 3336 | N21: =IF(O21=0,0,IF(L21=0,1,IF(M21<0,0,IF(M21/L21>1.2,IF((M21/L21-1.2)*0.1+1.2>1.3,1.3,(M21/L21-1.2)*0.1+1.2),M21/L21)))) -> 0.86023724 | O21: 5 | P21: =(B21*C21+J21*K21+N21*O21)/(C21+K21+O21) -> 0.98019339 | Q21: 61751 | R21: =ROUND(Q21/11*6,1) -> 33682.4 | S21: =ROUND(P21*R21,1) -> 33015.3 | T21: =S21-R21 -> -667.1 | U21: 655.8 | V21: =S21-U21 -> 32359.5 | X21: 5613.7 | Z21: 5613.8 | AA21: 5613.7 | AB21: 5707.7 | AC21: 4635.9 | AD21: =ROUND(V21-SUM(W21:AC21),1) -> 5174.7 | AH21: =IF(OR(AE21="+",AF21="+",AG21="+"),0,IF(AD21<0,0,AD21)) -> 5174.7
A22: Богатовский | B22: 1 | C22: 10 | D22: н/д | E22: н/д | F22: н/д | G22: 10 | H22: 190 | I22: 188.57 | J22: =IF(K22=0,0,IF(H22=0,1,IF(I22<0,0,IF(I22/H22>1.2,IF((I22/H22-1.2)*0.1+1.2>1.3,1.3,(I22/H22-1.2)*0.1+1.2),I22/H22)))) -> 0.99247368 | K22: 15 | L22: 1797 | M22: 1854 | N22: =IF(O22=0,0,IF(L22=0,1,IF(M22<0,0,IF(M22/L22>1.2,IF((M22/L22-1.2)*0.1+1.2>1.3,1.3,(M22/L22-1.2)*0.1+1.2),M22/L22)))) -> 1.0317195 | O22: 5 | P22: =(B22*C22+J22*K22+N22*O22)/(C22+K22+O22) -> 1.0015234 | Q22: 40986 | R22: =ROUND(Q22/11*6,1) -> 22356 | S22: =ROUND(P22*R22,1) -> 22390.1 | T22: =S22-R22 -> 34.1 | U22: 197.1 | V22: =S22-U22 -> 22193 | X22: 3726 | Z22: 3726 | AA22: 3726 | AB22: 3658.7 | AC22: 3723.1 | AD22: =ROUND(V22-SUM(W22:AC22),1) -> 3633.2 | AH22: =IF(OR(AE22="+",AF22="+",AG22="+"),0,IF(AD22<0,0,AD22)) -> 3633.2
A23: Большеглушицкий | B23: 1 | C23: 10 | D23: н/д | E23: н/д | F23: н/д | G23: 10 | H23: 195 | I23: 196.33 | J23: =IF(K23=0,0,IF(H23=0,1,IF(I23<0,0,IF(I23/H23>1.2,IF((I23/H23-1.2)*0.1+1.2>1.3,1.3,(I23/H23-1.2)*0.1+1.2),I23/H23)))) -> 1.0068205 | K23: 15 | L23: 1135 | M23: 2407 | N23: =IF(O23=0,0,IF(L23=0,1,IF(M23<0,0,IF(M23/L23>1.2,IF((M23/L23-1.2)*0.1+1.2>1.3,1.3,(M23/L23-1.2)*0.1+1.2),M23/L23)))) -> 1.2920705 | O23: 5 | P23: =(B23*C23+J23*K23+N23*O23)/(C23+K23+O23) -> 1.0520887 | Q23: 45530 | R23: =ROUND(Q23/11*6,1) -> 24834.5 | S23: =ROUND(P23*R23,1) -> 26128.1 | T23: =S23-R23 -> 1293.6 | U23: 702.1 | V23: =S23-U23 -> 25426 | X23: 4139.1 | Z23: 4139.1 | AA23: 4139.1 | AB23: 4206.9 | AC23: 4798.3 | AD23: =ROUND(V23-SUM(W23:AC23),1) -> 4003.5 | AH23: =IF(OR(AE23="+",AF23="+",AG23="+"),0,IF(AD23<0,0,AD23)) -> 4003.5
A24: Большечерниговский | B24: 1 | C24: 10 | D24: н/д | E24: н/д | F24: н/д | G24: 10 | H24: 190 | I24: 170.05 | J24: =IF(K24=0,0,IF(H24=0,1,IF(I24<0,0,IF(I24/H24>1.2,IF((I24/H24-1.2)*0.1+1.2>1.3,1.3,(I24/H24-1.2)*0.1+1.2),I24/H24)))) -> 0.895 | K24: 15 | L24: 827 | M24: 754 | N24: =IF(O24=0,0,IF(L24=0,1,IF(M24<0,0,IF(M24/L24>1.2,IF((M24/L24-1.2)*0.1+1.2>1.3,1.3,(M24/L24-1.2)*0.1+1.2),M24/L24)))) -> 0.91172914 | O24: 5 | P24: =(B24*C24+J24*K24+N24*O24)/(C24+K24+O24) -> 0.93278819 | Q24: 44779 | R24: =ROUND(Q24/11*6,1) -> 24424.9 | S24: =ROUND(P24*R24,1) -> 22783.3 | T24: =S24-R24 -> -1641.6 | U24: 0 | V24: =S24-U24 -> 22783.3 | X24: 4070.8 | Z24: 4070.8 | AA24: 4070.9 | AB24: 3045 | AC24: 3728.6 | AD24: =ROUND(V24-SUM(W24:AC24),1) -> 3797.2 | AH24: =IF(OR(AE24="+",AF24="+",AG24="+"),0,IF(AD24<0,0,AD24)) -> 3797.2
A25: Борский | B25: 1 | C25: 10 | D25: н/д | E25: н/д | F25: н/д | G25: 10 | H25: 195 | I25: 192.04 | J25: =IF(K25=0,0,IF(H25=0,1,IF(I25<0,0,IF(I25/H25>1.2,IF((I25/H25-1.2)*0.1+1.2>1.3,1.3,(I25/H25-1.2)*0.1+1.2),I25/H25)))) -> 0.98482051 | K25: 15 | L25: 2694 | M25: 3893 | N25: =IF(O25=0,0,IF(L25=0,1,IF(M25<0,0,IF(M25/L25>1.2,IF((M25/L25-1.2)*0.1+1.2>1.3,1.3,(M25/L25-1.2)*0.1+1.2),M25/L25)))) -> 1.2245063 | O25: 5 | P25: =(B25*C25+J25*K25+N25*O25)/(C25+K25+O25) -> 1.029828 | Q25: 59546 | R25: =ROUND(Q25/11*6,1) -> 32479.6 | S25: =ROUND(P25*R25,1) -> 33448.4 | T25: =S25-R25 -> 968.8 | U25: 0 | V25: =S25-U25 -> 33448.4 | X25: 5413.3 | Z25: 5413.2 | AA25: 5413.3 | AB25: 5216.1 | AC25: 6417.8 | AD25: =ROUND(V25-SUM(W25:AC25),1) -> 5574.7 | AH25: =IF(OR(AE25="+",AF25="+",AG25="+"),0,IF(AD25<0,0,AD25)) -> 5574.7
A26: Волжский | B26: 1 | C26: 10 | D26: н/д | E26: н/д | F26: н/д | G26: 10 | H26: 180 | I26: 178.81 | J26: =IF(K26=0,0,IF(H26=0,1,IF(I26<0,0,IF(I26/H26>1.2,IF((I26/H26-1.2)*0.1+1.2>1.3,1.3,(I26/H26-1.2)*0.1+1.2),I26/H26)))) -> 0.99338889 | K26: 15 | L26: 55134 | M26: 72065 | N26: =IF(O26=0,0,IF(L26=0,1,IF(M26<0,0,IF(M26/L26>1.2,IF((M26/L26-1.2)*0.1+1.2>1.3,1.3,(M26/L26-1.2)*0.1+1.2),M26/L26)))) -> 1.2107088 | O26: 5 | P26: =(B26*C26+J26*K26+N26*O26)/(C26+K26+O26) -> 1.0318126 | Q26: =93484+2347 -> 95831 | R26: =ROUND(Q26/11*6,1) -> 52271.5 | S26: =ROUND(P26*R26,1) -> 53934.4 | T26: =S26-R26 -> 1662.9 | U26: 0 | V26: =S26-U26 -> 53934.4 | X26: 8498.5 | Z26: 8498.6 | AA26: 9138.6 | AB26: 8573.7 | AC26: 10235.8 | AD26: =ROUND(V26-SUM(W26:AC26),1) -> 8989.2 | AH26: =IF(OR(AE26="+",AF26="+",AG26="+"),0,IF(AD26<0,0,AD26)) -> 8989.2
A27: Елховский | B27: 1 | C27: 10 | D27: н/д | E27: н/д | F27: н/д | G27: 10 | H27: 190 | I27: 181.2 | J27: =IF(K27=0,0,IF(H27=0,1,IF(I27<0,0,IF(I27/H27>1.2,IF((I27/H27-1.2)*0.1+1.2>1.3,1.3,(I27/H27-1.2)*0.1+1.2),I27/H27)))) -> 0.95368421 | K27: 15 | L27: 743 | M27: 1369 | N27: =IF(O27=0,0,IF(L27=0,1,IF(M27<0,0,IF(M27/L27>1.2,IF((M27/L27-1.2)*0.1+1.2>1.3,1.3,(M27/L27-1.2)*0.1+1.2),M27/L27)))) -> 1.264253 | O27: 5 | P27: =(B27*C27+J27*K27+N27*O27)/(C27+K27+O27) -> 1.0208843 | Q27: 24800 | R27: =ROUND(Q27/11*6,1) -> 13527.3 | S27: =ROUND(P27*R27,1) -> 13809.8 | T27: =S27-R27 -> 282.5 | U27: 0 | V27: =S27-U27 -> 13809.8 | X27: 2254.5 | Z27: 2254.6 | AA27: 2254.5 | AB27: 2004 | AC27: 2740.5 | AD27: =ROUND(V27-SUM(W27:AC27),1) -> 2301.7 | AH27: =IF(OR(AE27="+",AF27="+",AG27="+"),0,IF(AD27<0,0,AD27)) -> 2301.7
A28: Исаклинский | B28: 1 | C28: 10 | D28: н/д | E28: н/д | F28: н/д | G28: 10 | H28: 195 | I28: 196.13 | J28: =IF(K28=0,0,IF(H28=0,1,IF(I28<0,0,IF(I28/H28>1.2,IF((I28/H28-1.2)*0.1+1.2>1.3,1.3,(I28/H28-1.2)*0.1+1.2),I28/H28)))) -> 1.0057949 | K28: 15 | L28: 1273 | M28: 930 | N28: =IF(O28=0,0,IF(L28=0,1,IF(M28<0,0,IF(M28/L28>1.2,IF((M28/L28-1.2)*0.1+1.2>1.3,1.3,(M28/L28-1.2)*0.1+1.2),M28/L28)))) -> 0.73055774 | O28: 5 | P28: =(B28*C28+J28*K28+N28*O28)/(C28+K28+O28) -> 0.95799039 | Q28: 46312 | R28: =ROUND(Q28/11*6,1) -> 25261.1 | S28: =ROUND(P28*R28,1) -> 24199.9 | T28: =S28-R28 -> -1061.2 | U28: 859.3 | V28: =S28-U28 -> 23340.6 | X28: 4210.2 | Z28: 4210.2 | AA28: 4210.1 | AB28: 4268.8 | AC28: 2837.6 | AD28: =ROUND(V28-SUM(W28:AC28),1) -> 3603.7 | AH28: =IF(OR(AE28="+",AF28="+",AG28="+"),0,IF(AD28<0,0,AD28)) -> 3603.7
A29: Камышлинский | B29: 1 | C29: 10 | D29: н/д | E29: н/д | F29: н/д | G29: 10 | H29: 180 | I29: 185.74 | J29: =IF(K29=0,0,IF(H29=0,1,IF(I29<0,0,IF(I29/H29>1.2,IF((I29/H29-1.2)*0.1+1.2>1.3,1.3,(I29/H29-1.2)*0.1+1.2),I29/H29)))) -> 1.0318889 | K29: 15 | L29: 770 | M29: 601 | N29: =IF(O29=0,0,IF(L29=0,1,IF(M29<0,0,IF(M29/L29>1.2,IF((M29/L29-1.2)*0.1+1.2>1.3,1.3,(M29/L29-1.2)*0.1+1.2),M29/L29)))) -> 0.78051948 | O29: 5 | P29: =(B29*C29+J29*K29+N29*O29)/(C29+K29+O29) -> 0.97936436 | Q29: 31914 | R29: =ROUND(Q29/11*6,1) -> 17407.6 | S29: =ROUND(P29*R29,1) -> 17048.4 | T29: =S29-R29 -> -359.2 | U29: 127.9 | V29: =S29-U29 -> 16920.5 | X29: 2901.3 | Z29: 2901.2 | AA29: 2901.3 | AB29: 3123.3 | AC29: 2316.1 | AD29: =ROUND(V29-SUM(W29:AC29),1) -> 2777.3 | AH29: =IF(OR(AE29="+",AF29="+",AG29="+"),0,IF(AD29<0,0,AD29)) -> 2777.3
A30: Кинельский | B30: 1 | C30: 10 | D30: н/д | E30: н/д | F30: н/д | G30: 10 | H30: 200 | I30: 200 | J30: =IF(K30=0,0,IF(H30=0,1,IF(I30<0,0,IF(I30/H30>1.2,IF((I30/H30-1.2)*0.1+1.2>1.3,1.3,(I30/H30-1.2)*0.1+1.2),I30/H30)))) -> 1 | K30: 15 | L30: 7478 | M30: 10453 | N30: =IF(O30=0,0,IF(L30=0,1,IF(M30<0,0,IF(M30/L30>1.2,IF((M30/L30-1.2)*0.1+1.2>1.3,1.3,(M30/L30-1.2)*0.1+1.2),M30/L30)))) -> 1.2197834 | O30: 5 | P30: =(B30*C30+J30*K30+N30*O30)/(C30+K30+O30) -> 1.0366306 | Q30: 35651 | R30: =ROUND(Q30/11*6,1) -> 19446 | S30: =ROUND(P30*R30,1) -> 20158.3 | T30: =S30-R30 -> 712.3 | U30: 66.7 | V30: =S30-U30 -> 20091.6 | X30: 3241 | Z30: 3241 | AA30: 3241 | AB30: 3241 | AC30: 3801.3 | AD30: =ROUND(V30-SUM(W30:AC30),1) -> 3326.3 | AH30: =IF(OR(AE30="+",AF30="+",AG30="+"),0,IF(AD30<0,0,AD30)) -> 3326.3
A31: Кинель-Черкасский | B31: 1 | C31: 10 | D31: н/д | E31: н/д | F31: н/д | G31: 10 | H31: 195 | I31: 193.67 | J31: =IF(K31=0,0,IF(H31=0,1,IF(I31<0,0,IF(I31/H31>1.2,IF((I31/H31-1.2)*0.1+1.2>1.3,1.3,(I31/H31-1.2)*0.1+1.2),I31/H31)))) -> 0.99317949 | K31: 15 | L31: 5484 | M31: 6263 | N31: =IF(O31=0,0,IF(L31=0,1,IF(M31<0,0,IF(M31/L31>1.2,IF((M31/L31-1.2)*0.1+1.2>1.3,1.3,(M31/L31-1.2)*0.1+1.2),M31/L31)))) -> 1.1420496 | O31: 5 | P31: =(B31*C31+J31*K31+N31*O31)/(C31+K31+O31) -> 1.0202647 | Q31: 79940 | R31: =ROUND(Q31/11*6,1) -> 43603.6 | S31: =ROUND(P31*R31,1) -> 44487.2 | T31: =S31-R31 -> 883.6 | U31: 0 | V31: =S31-U31 -> 44487.2 | X31: 7267.3 | Z31: 7267.2 | AA31: 7267.3 | AB31: 7148.3 | AC31: 8122.6 | AD31: =ROUND(V31-SUM(W31:AC31),1) -> 7414.5 | AH31: =IF(OR(AE31="+",AF31="+",AG31="+"),0,IF(AD31<0,0,AD31)) -> 7414.5
A32: Клявлинский | B32: 1 | C32: 10 | D32: н/д | E32: н/д | F32: н/д | G32: 10 | H32: 195 | I32: 196.8 | J32: =IF(K32=0,0,IF(H32=0,1,IF(I32<0,0,IF(I32/H32>1.2,IF((I32/H32-1.2)*0.1+1.2>1.3,1.3,(I32/H32-1.2)*0.1+1.2),I32/H32)))) -> 1.0092308 | K32: 15 | L32: 1050 | M32: 450 | N32: =IF(O32=0,0,IF(L32=0,1,IF(M32<0,0,IF(M32/L32>1.2,IF((M32/L32-1.2)*0.1+1.2>1.3,1.3,(M32/L32-1.2)*0.1+1.2),M32/L32)))) -> 0.42857143 | O32: 5 | P32: =(B32*C32+J32*K32+N32*O32)/(C32+K32+O32) -> 0.90937729 | Q32: 36413 | R32: =ROUND(Q32/11*6,1) -> 19861.6 | S32: =ROUND(P32*R32,1) -> 18061.7 | T32: =S32-R32 -> -1799.9 | U32: 748.1 | V32: =S32-U32 -> 17313.6 | W32: 7282.6 | X32: 0 | Z32: 0 | AA32: 2648.2 | AB32: 3383.6 | AC32: 1363.1 | AD32: =ROUND(V32-SUM(W32:AC32),1) -> 2636.1 | AH32: =IF(OR(AE32="+",AF32="+",AG32="+"),0,IF(AD32<0,0,AD32)) -> 2636.1
A33: Кошкинский | B33: 1 | C33: 10 | D33: н/д | E33: н/д | F33: н/д | G33: 10 | H33: 195 | I33: 176.29 | J33: =IF(K33=0,0,IF(H33=0,1,IF(I33<0,0,IF(I33/H33>1.2,IF((I33/H33-1.2)*0.1+1.2>1.3,1.3,(I33/H33-1.2)*0.1+1.2),I33/H33)))) -> 0.90405128 | K33: 15 | L33: 1580 | M33: 2325 | N33: =IF(O33=0,0,IF(L33=0,1,IF(M33<0,0,IF(M33/L33>1.2,IF((M33/L33-1.2)*0.1+1.2>1.3,1.3,(M33/L33-1.2)*0.1+1.2),M33/L33)))) -> 1.2271519 | O33: 5 | P33: =(B33*C33+J33*K33+N33*O33)/(C33+K33+O33) -> 0.98988429 | Q33: 52869 | R33: =ROUND(Q33/11*6,1) -> 28837.6 | S33: =ROUND(P33*R33,1) -> 28545.9 | T33: =S33-R33 -> -291.7 | U33: 69.2 | V33: =S33-U33 -> 28476.7 | X33: 4806.3 | Z33: 4806.2 | AA33: 4806.3 | AB33: 3699.5 | AC33: 5635.4 | AD33: =ROUND(V33-SUM(W33:AC33),1) -> 4723 | AH33: =IF(OR(AE33="+",AF33="+",AG33="+"),0,IF(AD33<0,0,AD33)) -> 4723
A34: Красноармейский | B34: 1 | C34: 10 | D34: н/д | E34: н/д | F34: н/д | G34: 10 | H34: 195 | I34: 194.94 | J34: =IF(K34=0,0,IF(H34=0,1,IF(I34<0,0,IF(I34/H34>1.2,IF((I34/H34-1.2)*0.1+1.2>1.3,1.3,(I34/H34-1.2)*0.1+1.2),I34/H34)))) -> 0.99969231 | K34: 15 | L34: 1287 | M34: 1885 | N34: =IF(O34=0,0,IF(L34=0,1,IF(M34<0,0,IF(M34/L34>1.2,IF((M34/L34-1.2)*0.1+1.2>1.3,1.3,(M34/L34-1.2)*0.1+1.2),M34/L34)))) -> 1.2264646 | O34: 5 | P34: =(B34*C34+J34*K34+N34*O34)/(C34+K34+O34) -> 1.0375903 | Q34: 48805 | R34: =ROUND(Q34/11*6,1) -> 26620.9 | S34: =ROUND(P34*R34,1) -> 27621.6 | T34: =S34-R34 -> 1000.7 | U34: 580.5 | V34: =S34-U34 -> 27041.1 | X34: 4436.8 | Z34: 4436.8 | AA34: 4436.9 | AB34: 4433.5 | AC34: 4983.8 | AD34: =ROUND(V34-SUM(W34:AC34),1) -> 4313.3 | AH34: =IF(OR(AE34="+",AF34="+",AG34="+"),0,IF(AD34<0,0,AD34)) -> 4313.3
A35: Красноярский | B35: 1 | C35: 10 | D35: н/д | E35: н/д | F35: н/д | G35: 10 | H35: 190 | I35: 180.8 | J35: =IF(K35=0,0,IF(H35=0,1,IF(I35<0,0,IF(I35/H35>1.2,IF((I35/H35-1.2)*0.1+1.2>1.3,1.3,(I35/H35-1.2)*0.1+1.2),I35/H35)))) -> 0.95157895 | K35: 15 | L35: 24809 | M35: 56422 | N35: =IF(O35=0,0,IF(L35=0,1,IF(M35<0,0,IF(M35/L35>1.2,IF((M35/L35-1.2)*0.1+1.2>1.3,1.3,(M35/L35-1.2)*0.1+1.2),M35/L35)))) -> 1.3 | O35: 5 | P35: =(B35*C35+J35*K35+N35*O35)/(C35+K35+O35) -> 1.0257895 | Q35: 65004 | R35: =ROUND(Q35/11*6,1) -> 35456.7 | S35: =ROUND(P35*R35,1) -> 36371.1 | T35: =S35-R35 -> 914.4 | U35: 669.5 | V35: =S35-U35 -> 35701.6 | X35: 5909.5 | Z35: 5909.4 | AA35: 5909.5 | AB35: 5222.7 | AC35: 7023.4 | AD35: =ROUND(V35-SUM(W35:AC35),1) -> 5727.1 | AH35: =IF(OR(AE35="+",AF35="+",AG35="+"),0,IF(AD35<0,0,AD35)) -> 5727.1
A36: Нефтегорский | B36: 1 | C36: 10 | D36: н/д | E36: н/д | F36: н/д | G36: 10 | H36: 190 | I36: 186.74 | J36: =IF(K36=0,0,IF(H36=0,1,IF(I36<0,0,IF(I36/H36>1.2,IF((I36/H36-1.2)*0.1+1.2>1.3,1.3,(I36/H36-1.2)*0.1+1.2),I36/H36)))) -> 0.98284211 | K36: 15 | L36: 2084 | M36: 2456 | N36: =IF(O36=0,0,IF(L36=0,1,IF(M36<0,0,IF(M36/L36>1.2,IF((M36/L36-1.2)*0.1+1.2>1.3,1.3,(M36/L36-1.2)*0.1+1.2),M36/L36)))) -> 1.1785029 | O36: 5 | P36: =(B36*C36+J36*K36+N36*O36)/(C36+K36+O36) -> 1.0211715 | Q36: 56653 | R36: =ROUND(Q36/11*6,1) -> 30901.6 | S36: =ROUND(P36*R36,1) -> 31555.8 | T36: =S36-R36 -> 654.2 | U36: 0 | V36: =S36-U36 -> 31555.8 | X36: 5150.3 | Z36: 5150.2 | AA36: 5150.3 | AB36: 4938.2 | AC36: 5907.6 | AD36: =ROUND(V36-SUM(W36:AC36),1) -> 5259.2 | AH36: =IF(OR(AE36="+",AF36="+",AG36="+"),0,IF(AD36<0,0,AD36)) -> 5259.2
A37: Пестравский | B37: 1 | C37: 10 | D37: н/д | E37: н/д | F37: н/д | G37: 10 | H37: 180 | I37: 125.3 | J37: =IF(K37=0,0,IF(H37=0,1,IF(I37<0,0,IF(I37/H37>1.2,IF((I37/H37-1.2)*0.1+1.2>1.3,1.3,(I37/H37-1.2)*0.1+1.2),I37/H37)))) -> 0.69611111 | K37: 15 | L37: 806 | M37: 1336 | N37: =IF(O37=0,0,IF(L37=0,1,IF(M37<0,0,IF(M37/L37>1.2,IF((M37/L37-1.2)*0.1+1.2>1.3,1.3,(M37/L37-1.2)*0.1+1.2),M37/L37)))) -> 1.2457568 | O37: 5 | P37: =(B37*C37+J37*K37+N37*O37)/(C37+K37+O37) -> 0.88901503 | Q37: 31485 | R37: =ROUND(Q37/11*6,1) -> 17173.6 | S37: =ROUND(P37*R37,1) -> 15267.6 | T37: =S37-R37 -> -1906 | U37: 563.8 | V37: =S37-U37 -> 14703.8 | X37: 2862.3 | Z37: 2862.2 | AA37: 2862.3 | AB37: 774.7 | AC37: 3079.6 | AD37: =ROUND(V37-SUM(W37:AC37),1) -> 2262.7 | AH37: =IF(OR(AE37="+",AF37="+",AG37="+"),0,IF(AD37<0,0,AD37)) -> 2262.7
A38: Похвистневский | B38: 1 | C38: 10 | D38: н/д | E38: н/д | F38: н/д | G38: 10 | H38: 190 | I38: 186.32 | J38: =IF(K38=0,0,IF(H38=0,1,IF(I38<0,0,IF(I38/H38>1.2,IF((I38/H38-1.2)*0.1+1.2>1.3,1.3,(I38/H38-1.2)*0.1+1.2),I38/H38)))) -> 0.98063158 | K38: 15 | L38: 4429 | M38: 2362 | N38: =IF(O38=0,0,IF(L38=0,1,IF(M38<0,0,IF(M38/L38>1.2,IF((M38/L38-1.2)*0.1+1.2>1.3,1.3,(M38/L38-1.2)*0.1+1.2),M38/L38)))) -> 0.53330323 | O38: 5 | P38: =(B38*C38+J38*K38+N38*O38)/(C38+K38+O38) -> 0.91253299 | Q38: 73745 | R38: =ROUND(Q38/11*6,1) -> 40224.5 | S38: =ROUND(P38*R38,1) -> 36706.2 | T38: =S38-R38 -> -3518.3 | U38: 1099.9 | V38: =S38-U38 -> 35606.3 | X38: 6704.1 | Z38: 6704.1 | AA38: 6704.1 | AB38: 6392.5 | AC38: 3533.8 | AD38: =ROUND(V38-SUM(W38:AC38),1) -> 5567.7 | AH38: =IF(OR(AE38="+",AF38="+",AG38="+"),0,IF(AD38<0,0,AD38)) -> 5567.7
A39: Приволжский | B39: 1 | C39: 10 | D39: н/д | E39: н/д | F39: н/д | G39: 10 | H39: 195 | I39: 197.7 | J39: =IF(K39=0,0,IF(H39=0,1,IF(I39<0,0,IF(I39/H39>1.2,IF((I39/H39-1.2)*0.1+1.2>1.3,1.3,(I39/H39-1.2)*0.1+1.2),I39/H39)))) -> 1.0138462 | K39: 15 | L39: 1453 | M39: 1495 | N39: =IF(O39=0,0,IF(L39=0,1,IF(M39<0,0,IF(M39/L39>1.2,IF((M39/L39-1.2)*0.1+1.2>1.3,1.3,(M39/L39-1.2)*0.1+1.2),M39/L39)))) -> 1.0289057 | O39: 5 | P39: =(B39*C39+J39*K39+N39*O39)/(C39+K39+O39) -> 1.0117407 | Q39: 58006 | R39: =ROUND(Q39/11*6,1) -> 31639.6 | S39: =ROUND(P39*R39,1) -> 32011.1 | T39: =S39-R39 -> 371.5 | U39: 0 | V39: =S39-U39 -> 32011.1 | X39: 5273.3 | Z39: 5273.2 | AA39: 5273.3 | AB39: 5448.5 | AC39: 5407.7 | AD39: =ROUND(V39-SUM(W39:AC39),1) -> 5335.1 | AH39: =IF(OR(AE39="+",AF39="+",AG39="+"),0,IF(AD39<0,0,AD39)) -> 5335.1
A40: Сергиевский | B40: 1 | C40: 10 | D40: н/д | E40: н/д | F40: н/д | G40: 10 | H40: 190 | I40: 194.01 | J40: =IF(K40=0,0,IF(H40=0,1,IF(I40<0,0,IF(I40/H40>1.2,IF((I40/H40-1.2)*0.1+1.2>1.3,1.3,(I40/H40-1.2)*0.1+1.2),I40/H40)))) -> 1.0211053 | K40: 15 | L40: 4075 | M40: 5047 | N40: =IF(O40=0,0,IF(L40=0,1,IF(M40<0,0,IF(M40/L40>1.2,IF((M40/L40-1.2)*0.1+1.2>1.3,1.3,(M40/L40-1.2)*0.1+1.2),M40/L40)))) -> 1.2038528 | O40: 5 | P40: =(B40*C40+J40*K40+N40*O40)/(C40+K40+O40) -> 1.0445281 | Q40: 62185 | R40: =ROUND(Q40/11*6,1) -> 33919.1 | S40: =ROUND(P40*R40,1) -> 35429.5 | T40: =S40-R40 -> 1510.4 | U40: 2105.3 | V40: =S40-U40 -> 33324.2 | X40: 5653.2 | Y40: 12100 | Z40: 0 | AA40: 0 | AB40: 5145.8 | AC40: 5572.9 | AD40: =ROUND(V40-SUM(W40:AC40),1) -> 4852.3 | AH40: =IF(OR(AE40="+",AF40="+",AG40="+"),0,IF(AD40<0,0,AD40)) -> 4852.3
...

Sheet Плюсы и минусы
A1: Факторный анализ влияния отдельных показателей на итоговое распределение за 6 месяцев 2024 года
O2: тыс. рублей
A3: Наименование муниципального образования | B3: +/- по итогам отчётного периода | C3: Отсутствие просроченной кредиторской задолженности бюджета городского округа, консолидированного бюджета городского округа с внутригородским делением, консолидированного бюджета муниципального района по состоянию на конец отчетного периода | F3: Объем алкогольной продукции, зафиксированный в единой государственной автоматизированной информационной системе | I3: Эффективность вовлечения объектов недвижимости в налоговый оборот | L3: Общая площадь введенного в эксплуатацию жилья с учетом индивидуального жилищного строительства | O3: Общая сумма весов влияния
C4: Отклонение от прогноза | D4: Вес влияния на результат | E4: + / - (5)=(2)*(4)/(15) | F4: Отклонение от прогноза | G4: Вес влияния на результат | H4: + / - (8)=(2)*(6)/(15) | I4: Отклонение от прогноза | J4: Вес влияния на результат | K4: + / - (11)=(2)*(9)/(15) | L4: Отклонение от прогноза | M4: Вес влияния на результат | N4: + / - (14)=(2)*(12)/(15)
A5: 1 | B5: 2 | C5: 3 | D5: 4 | E5: 5 | F5: 6 | G5: 7 | H5: 8 | I5: 9 | J5: 10 | K5: 11 | L5: 12 | M5: 13 | N5: 14 | O5: 15
A6: Городские округа | B6: =SUM(B7:B16) -> -103436.8 | E6: =SUM(E7:E16) -> 0 | H6: =SUM(H7:H16) -> 0 | K6: =SUM(K7:K16) -> -15634.002 | N6: =SUM(N7:N16) -> -87802.798
A7: Самара | B7: ='Расчет дотаций'!T9 -> -26691.2 | C7: ='Расчет дотаций'!B9-1 -> 0 | D7: =C7*'Расчет дотаций'!C9 -> 0 | E7: =$B7*D7/$O7 -> 0 | F7: н/д | G7: н/д | H7: н/д | I7: ='Расчет дотаций'!J9-1 -> -0.076333333 | J7: =I7*'Расчет дотаций'!K9 -> -1.5266667 | K7: =$B7*J7/$O7 -> -9544.05 | L7: ='Расчет дотаций'!N9-1 -> -0.18285726 | M7: =L7*'Расчет дотаций'!O9 -> -2.7428589 | N7: =$B7*M7/$O7 -> -17147.15 | O7: =D7+J7+M7 -> -4.2695256
A8: Тольятти | B8: ='Расчет дотаций'!T10 -> -88480.6 | C8: ='Расчет дотаций'!B10-1 -> 0 | D8: =C8*'Расчет дотаций'!C10 -> 0 | E8: =$B8*D8/$O8 -> 0 | F8: н/д | G8: н/д | H8: н/д | I8: ='Расчет дотаций'!J10-1 -> -0.0046153846 | J8: =I8*'Расчет дотаций'!K10 -> -0.092307692 | K8: =$B8*J8/$O8 -> -688.91777 | L8: ='Расчет дотаций'!N10-1 -> -0.78421044 | M8: =L8*'Расчет дотаций'!O10 -> -11.763157 | N8: =$B8*M8/$O8 -> -87791.682 | O8: =D8+J8+M8 -> -11.855464
A9: Сызрань | B9: ='Расчет дотаций'!T11 -> 493.7 | C9: ='Расчет дотаций'!B11-1 -> 0 | D9: =C9*'Расчет дотаций'!C11 -> 0 | E9: =$B9*D9/$O9 -> 0 | F9: н/д | G9: н/д | H9: н/д | I9: ='Расчет дотаций'!J11-1 -> -0.025230769 | J9: =I9*'Расчет дотаций'!K11 -> -0.50461538 | K9: =$B9*J9/$O9 -> -1230.7935 | L9: ='Расчет дотаций'!N11-1 -> 0.047135226 | M9: =L9*'Расчет дотаций'!O11 -> 0.70702839 | N9: =$B9*M9/$O9 -> 1724.4935 | O9: =D9+J9+M9 -> 0.202413
A10: Новокуйбышевск | B10: ='Расчет дотаций'!T12 -> 4190.8 | C10: ='Расчет дотаций'!B12-1 -> 0 | D10: =C10*'Расчет дотаций'!C12 -> 0 | E10: =$B10*D10/$O10 -> 0 | F10: н/д | G10: н/д | H10: н/д | I10: ='Расчет дотаций'!J12-1 -> -0.016769231 | J10: =I10*'Расчет дотаций'!K12 -> -0.33538462 | K10: =$B10*J10/$O10 -> -464.21352 | L10: ='Расчет дотаций'!N12-1 -> 0.22421003 | M10: =L10*'Расчет дотаций'!O12 -> 3.3631505 | N10: =$B10*M10/$O10 -> 4655.0135 | O10: =D10+J10+M10 -> 3.0277659
A11: Чапаевск | B11: ='Расчет дотаций'!T13 -> 3497 | C11: ='Расчет дотаций'!B13-1 -> 0 | D11: =C11*'Расчет дотаций'!C13 -> 0 | E11: =$B11*D11/$O11 -> 0 | F11: н/д | G11: н/д | H11: н/д | I11: ='Расчет дотаций'!J13-1 -> -0.071722222 | J11: =I11*'Расчет дотаций'!K13 -> -1.4344444 | K11: =$B11*J11/$O11 -> -1636.3273 | L11: ='Расчет дотаций'!N13-1 -> 0.3 | M11: =L11*'Расчет дотаций'!O13 -> 4.5 | N11: =$B11*M11/$O11 -> 5133.3273 | O11: =D11+J11+M11 -> 3.0655556
A12: Отрадный | B12: ='Расчет дотаций'!T14 -> -2114.2 | C12: ='Расчет дотаций'!B14-1 -> 0 | D12: =C12*'Расчет дотаций'!C14 -> 0 | E12: =$B12*D12/$O12 -> 0 | F12: н/д | G12: н/д | H12: н/д | I12: ='Расчет дотаций'!J14-1 -> -0.049421053 | J12: =I12*'Расчет дотаций'!K14 -> -0.98842105 | K12: =$B12*J12/$O12 -> -659.16785 | L12: ='Расчет дотаций'!N14-1 -> -0.14545455 | M12: =L12*'Расчет дотаций'!O14 -> -2.1818182 | N12: =$B12*M12/$O12 -> -1455.0321 | O12: =D12+J12+M12 -> -3.1702392
A13: Жигулевск | B13: ='Расчет дотаций'!T15 -> 2628.4 | C13: ='Расчет дотаций'!B15-1 -> 0 | D13: =C13*'Расчет дотаций'!C15 -> 0 | E13: =$B13*D13/$O13 -> 0 | F13: н/д | G13: н/д | H13: н/д | I13: ='Расчет дотаций'!J15-1 -> -0.079794872 | J13: =I13*'Расчет дотаций'!K15 -> -1.5958974 | K13: =$B13*J13/$O13 -> -1686.0749 | L13: ='Расчет дотаций'!N15-1 -> 0.27224806 | M13: =L13*'Расчет дотаций'!O15 -> 4.0837209 | N13: =$B13*M13/$O13 -> 4314.4749 | O13: =D13+J13+M13 -> 2.4878235
A14: Октябрьск | B14: ='Расчет дотаций'!T16 -> 2849.5 | C14: ='Расчет дотаций'!B16-1 -> 0 | D14: =C14*'Расчет дотаций'!C16 -> 0 | E14: =$B14*D14/$O14 -> 0 | F14: н/д | G14: н/д | H14: н/д | I14: ='Расчет дотаций'!J16-1 -> -0.0061025641 | J14: =I14*'Расчет дотаций'!K16 -> -0.12205128 | K14: =$B14*J14/$O14 -> -116.58761 | L14: ='Расчет дотаций'!N16-1 -> 0.20700587 | M14: =L14*'Расчет дотаций'!O16 -> 3.1050881 | N14: =$B14*M14/$O14 -> 2966.0876 | O14: =D14+J14+M14 -> 2.9830368
A15: Кинель | B15: ='Расчет дотаций'!T17 -> 4273.7 | C15: ='Расчет дотаций'!B17-1 -> 0 | D15: =C15*'Расчет дотаций'!C17 -> 0 | E15: =$B15*D15/$O15 -> 0 | F15: н/д | G15: н/д | H15: н/д | I15: ='Расчет дотаций'!J17-1 -> 0.011210526 | J15: =I15*'Расчет дотаций'!K17 -> 0.22421053 | K15: =$B15*J15/$O15 -> 241.50039 | L15: ='Расчет дотаций'!N17-1 -> 0.24956802 | M15: =L15*'Расчет дотаций'!O17 -> 3.7435202 | N15: =$B15*M15/$O15 -> 4032.1996 | O15: =D15+J15+M15 -> 3.9677308
A16: Похвистнево | B16: ='Расчет дотаций'!T18 -> -4083.9 | C16: ='Расчет дотаций'!B18-1 -> 0 | D16: =C16*'Расчет дотаций'!C18 -> 0 | E16: =$B16*D16/$O16 -> 0 | F16: н/д | G16: н/д | H16: н/д | I16: ='Расчет дотаций'!J18-1 -> 0.010684211 | J16: =I16*'Расчет дотаций'!K18 -> 0.21368421 | K16: =$B16*J16/$O16 -> 150.6298 | L16: ='Расчет дотаций'!N18-1 -> -0.40047506 | M16: =L16*'Расчет дотаций'!O18 -> -6.0071259 | N16: =$B16*M16/$O16 -> -4234.5298 | O16: =D16+J16+M16 -> -5.7934417
A17: Муниципальные районы | B17: =SUM(B18:B44) -> -1159.1 | E17: =SUM(E18:E44) -> 0 | H17: =SUM(H18:H44) -> 0 | K17: =SUM(K18:K44) -> -9554.114 | N17: =SUM(N18:N44) -> 8395.014
A18: Алексеевский | B18: ='Расчет дотаций'!T20 -> -1290.9 | C18: ='Расчет дотаций'!B20-1 -> 0 | D18: =C18*'Расчет дотаций'!C20 -> 0 | E18: =$B18*D18/$O18 -> 0 | F18: н/д | G18: н/д | H18: н/д | I18: ='Расчет дотаций'!J20-1 -> -0.072717949 | J18: =I18*'Расчет дотаций'!K20 -> -1.0907692 | K18: =$B18*J18/$O18 -> -656.58302 | L18: ='Расчет дотаций'!N20-1 -> -0.21075581 | M18: =L18*'Расчет дотаций'!O20 -> -1.0537791 | N18: =$B18*M18/$O18 -> -634.31698 | O18: =D18+J18+M18 -> -2.1445483
A19: Безенчукский | B19: ='Расчет дотаций'!T21 -> -667.1 | C19: ='Расчет дотаций'!B21-1 -> 0 | D19: =C19*'Расчет дотаций'!C21 -> 0 | E19: =$B19*D19/$O19 -> 0 | F19: н/д | G19: н/д | H19: н/д | I19: ='Расчет дотаций'!J21-1 -> 0.006974359 | J19: =I19*'Расчет дотаций'!K21 -> 0.10461538 | K19: =$B19*J19/$O19 -> 117.45053 | L19: ='Расчет дотаций'!N21-1 -> -0.13976276 | M19: =L19*'Расчет дотаций'!O21 -> -0.69881382 | N19: =$B19*M19/$O19 -> -784.55053 | O19: =D19+J19+M19 -> -0.59419844
A20: Богатовский | B20: ='Расчет дотаций'!T22 -> 34.1 | C20: ='Расчет дотаций'!B22-1 -> 0 | D20: =C20*'Расчет дотаций'!C22 -> 0 | E20: =$B20*D20/$O20 -> 0 | F20: н/д | G20: н/д | H20: н/д | I20: ='Расчет дотаций'!J22-1 -> -0.0075263158 | J20: =I20*'Расчет дотаций'!K22 -> -0.11289474 | K20: =$B20*J20/$O20 -> -84.233349 | L20: ='Расчет дотаций'!N22-1 -> 0.031719533 | M20: =L20*'Расчет дотаций'!O22 -> 0.15859766 | N20: =$B20*M20/$O20 -> 118.33335 | O20: =D20+J20+M20 -> 0.045702926
A21: Большеглушицкий | B21: ='Расчет дотаций'!T23 -> 1293.6 | C21: ='Расчет дотаций'!B23-1 -> 0 | D21: =C21*'Расчет дотаций'!C23 -> 0 | E21: =$B21*D21/$O21 -> 0 | F21: н/д | G21: н/д | H21: н/д | I21: ='Расчет дотаций'!J23-1 -> 0.0068205128 | J21: =I21*'Расчет дотаций'!K23 -> 0.10230769 | K21: =$B21*J21/$O21 -> 84.692269 | L21: ='Расчет дотаций'!N23-1 -> 0.29207048 | M21: =L21*'Расчет дотаций'!O23 -> 1.4603524 | N21: =$B21*M21/$O21 -> 1208.9077 | O21: =D21+J21+M21 -> 1.5626601
A22: Большечерниговский | B22: ='Расчет дотаций'!T24 -> -1641.6 | C22: ='Расчет дотаций'!B24-1 -> 0 | D22: =C22*'Расчет дотаций'!C24 -> 0 | E22: =$B22*D22/$O22 -> 0 | F22: н/д | G22: н/д | H22: н/д | I22: ='Расчет дотаций'!J24-1 -> -0.105 | J22: =I22*'Расчет дотаций'!K24 -> -1.575 | K22: =$B22*J22/$O22 -> -1282.2747 | L22: ='Расчет дотаций'!N24-1 -> -0.088270859 | M22: =L22*'Расчет дотаций'!O24 -> -0.44135429 | N22: =$B22*M22/$O22 -> -359.32535 | O22: =D22+J22+M22 -> -2.0163543
A23: Борский | B23: ='Расчет дотаций'!T25 -> 968.8 | C23: ='Расчет дотаций'!B25-1 -> 0 | D23: =C23*'Расчет дотаций'!C25 -> 0 | E23: =$B23*D23/$O23 -> 0 | F23: н/д | G23: н/д | H23: н/д | I23: ='Расчет дотаций'!J25-1 -> -0.015179487 | J23: =I23*'Расчет дотаций'!K25 -> -0.22769231 | K23: =$B23*J23/$O23 -> -246.51166 | L23: ='Расчет дотаций'!N25-1 -> 0.22450631 | M23: =L23*'Расчет дотаций'!O25 -> 1.1225316 | N23: =$B23*M23/$O23 -> 1215.3117 | O23: =D23+J23+M23 -> 0.89483924
A24: Волжский | B24: ='Расчет дотаций'!T26 -> 1662.9 | C24: ='Расчет дотаций'!B26-1 -> 0 | D24: =C24*'Расчет дотаций'!C26 -> 0 | E24: =$B24*D24/$O24 -> 0 | F24: н/д | G24: н/д | H24: н/д | I24: ='Расчет дотаций'!J26-1 -> -0.0066111111 | J24: =I24*'Расчет дотаций'!K26 -> -0.099166667 | K24: =$B24*J24/$O24 -> -172.78725 | L24: ='Расчет дотаций'!N26-1 -> 0.21070882 | M24: =L24*'Расчет дотаций'!O26 -> 1.0535441 | N24: =$B24*M24/$O24 -> 1835.6872 | O24: =D24+J24+M24 -> 0.95437743
A25: Елховский | B25: ='Расчет дотаций'!T27 -> 282.5 | C25: ='Расчет дотаций'!B27-1 -> 0 | D25: =C25*'Расчет дотаций'!C27 -> 0 | E25: =$B25*D25/$O25 -> 0 | F25: н/д | G25: н/д | H25: н/д | I25: ='Расчет дотаций'!J27-1 -> -0.046315789 | J25: =I25*'Расчет дотаций'!K27 -> -0.69473684 | K25: =$B25*J25/$O25 -> -313.25506 | L25: ='Расчет дотаций'!N27-1 -> 0.26425303 | M25: =L25*'Расчет дотаций'!O27 -> 1.3212651 | N25: =$B25*M25/$O25 -> 595.75506 | O25: =D25+J25+M25 -> 0.6265283
A26: Исаклинский | B26: ='Расчет дотаций'!T28 -> -1061.2 | C26: ='Расчет дотаций'!B28-1 -> 0 | D26: =C26*'Расчет дотаций'!C28 -> 0 | E26: =$B26*D26/$O26 -> 0 | F26: н/д | G26: н/д | H26: н/д | I26: ='Расчет дотаций'!J28-1 -> 0.0057948718 | J26: =I26*'Расчет дотаций'!K28 -> 0.086923077 | K26: =$B26*J26/$O26 -> 73.191804 | L26: ='Расчет дотаций'!N28-1 -> -0.26944226 | M26: =L26*'Расчет дотаций'!O28 -> -1.3472113 | N26: =$B26*M26/$O26 -> -1134.3918 | O26: =D26+J26+M26 -> -1.2602882
A27: Камышлинский | B27: ='Расчет дотаций'!T29 -> -359.2 | C27: ='Расчет дотаций'!B29-1 -> 0 | D27: =C27*'Расчет дотаций'!C29 -> 0 | E27: =$B27*D27/$O27 -> 0 | F27: н/д | G27: н/д | H27: н/д | I27: ='Расчет дотаций'!J29-1 -> 0.031888889 | J27: =I27*'Расчет дотаций'!K29 -> 0.47833333 | K27: =$B27*J27/$O27 -> 277.54137 | L27: ='Расчет дотаций'!N29-1 -> -0.21948052 | M27: =L27*'Расчет дотаций'!O29 -> -1.0974026 | N27: =$B27*M27/$O27 -> -636.74137 | O27: =D27+J27+M27 -> -0.61906926
A28: Кинельский | B28: ='Расчет дотаций'!T30 -> 712.3 | C28: ='Расчет дотаций'!B30-1 -> 0 | D28: =C28*'Расчет дотаций'!C30 -> 0 | E28: =$B28*D28/$O28 -> 0 | F28: н/д | G28: н/д | H28: н/д | I28: ='Расчет дотаций'!J30-1 -> 0 | J28: =I28*'Расчет дотаций'!K30 -> 0 | K28: =$B28*J28/$O28 -> 0 | L28: ='Расчет дотаций'!N30-1 -> 0.21978336 | M28: =L28*'Расчет дотаций'!O30 -> 1.0989168 | N28: =$B28*M28/$O28 -> 712.3 | O28: =D28+J28+M28 -> 1.0989168
A29: Кинель-Черкасский | B29: ='Расчет дотаций'!T31 -> 883.6 | C29: ='Расчет дотаций'!B31-1 -> 0 | D29: =C29*'Расчет дотаций'!C31 -> 0 | E29: =$B29*D29/$O29 -> 0 | F29: н/д | G29: н/д | H29: н/д | I29: ='Расчет дотаций'!J31-1 -> -0.0068205128 | J29: =I29*'Расчет дотаций'!K31 -> -0.10230769 | K29: =$B29*J29/$O29 -> -148.69729 | L29: ='Расчет дотаций'!N31-1 -> 0.1420496 | M29: =L29*'Расчет дотаций'!O31 -> 0.71024799 | N29: =$B29*M29/$O29 -> 1032.2973 | O29: =D29+J29+M29 -> 0.6079403
... A44: Шигонский | B44: ='Расчет дотаций'!T46 -> -1374.4 | C44: ='Расчет дотаций'!B46-1 -> 0 | D44: =C44*'Расчет дотаций'!C46 -> 0 | E44: =$B44*D44/$O44 -> 0 | F44: н/д | G44: н/д | H44: н/д | I44: ='Расчет дотаций'!J46-1 -> -0.044631579 | J44: =I44*'Расчет дотаций'!K46 -> -0.66947368 | K44: =$B44*J44/$O44 -> -823.29489 | L44: ='Расчет дотаций'!N46-1 -> -0.089627756 | M44: =L44*'Расчет дотаций'!O46 -> -0.44813878 | N44: =$B44*M44/$O44 -> -551.10511 | O44: =D44+J44+M44 -> -1.1176125
A45: ИТОГО | B45: =B6+B17 -> -104595.9 | E45: =E6+E17 -> 0 | H45: =H6+H17 -> 0 | K45: =K6+K17 -> -25188.116 | N45: =N6+N17 -> -79407.784
