Workbook

Sheet Расчет дотаций
B1: Распределение дотаций местным бюджетам на поддержку мер по обеспечению сбалансированности местных бюджетов
A2: За 2023 год
A3: Наименование муниципального образования | B3: Отсутствие просроченной кредиторской задолженности бюджета городского округа, консолидированного бюджета городского округа с внутригородским делением, консолидированного бюджета муниципального района по состоянию на конец отчетного периода | D3: Объем алкогольной продукции, зафиксированный в единой государственной автоматизированной информационной системе (дкл.) | H3: Эффективность вовлечения объектов недвижимости в налоговый оборот (%) | L3: Общая площадь введенного в эксплуатацию жилья с учетом индивидуального жилищного строительства (кв.м.) | P3: Валовой сбор зерна в весе после доработки (тыс. тонн) | T3: Производство молока во всех категориях хозяйств (тонн) | X3: Производство скота и птицы на убой (в живом весе) во всех категориях хозяйств (тонн) | AB3: Численность занятых в сфере малого и среднего предпринимательства (чел.) | AF3: Сводная оценка выполнения социально-экономических показателей | AG3: Годовое значение, тыс. рублей | AH3: Распределение за отчетный период, тыс. рублей | AI3: Отклонение от планируемого распределения, тыс. рублей | AJ3: Удержание дотаций в 2023 году в связи с исполнением показателей за 2022 год, тыс. рублей | AK3: Сумма не подлежащая перечислению при подведении итогов за 2023 год за превышение предельных значений уровня муниципального долга, установленных абзацами с восьмого по одиннадцатый п.5 Правил и условий предоставления дотаций | AL3: Распределение за отчетный период с учетом удержания и сумм, неподлежащих перечислению, тыс. рублей | AM3: Ранее предоставленные дотации в 2023 году, тыс. рублей | AZ3: Распределение дотаций за вычетом предоставленных дотаций за январь-ноябрь, тыс. рублей | BA3: Соблюдение условий предоставления дотаций*: | BE3: Распределение (+) / Взыскание (-) за отчётный период с учетом выполнения условий предоставления стимулирующих дотаций, тыс. рублей
BA4: Соблюдение норматива формирования расходов на содержание органов местного самоуправления | BB4: непривлечение кредитов кредитных организаций в декабре 2023 года | BD4: неувеличение объема муниципального долга в части кредитов кредитных организаций в декабре 2023 года (не применяется если объем долга на 01.01.2024 не превышает его объем по состоянию на начало 2023 года)
AM5: за январь | AN5: досрочное перечисление (распоряжение МУФ СО от 16.02.2023 № 01-08/14) | AO5: за февраль | AP5: досрочное перечисление (распоряжение МУФ СО от 04.04.2023 № 01-08/21) | AQ5: за март | AR5: за апрель | AS5: за май | AT5: за июнь | AU5: за июль | AV5: за август | AW5: за сентябрь | AX5: за октябрь | AY5: за ноябрь | BB5: МО у которых доля дотаций на выравнивание бюджетной обеспеченности в доходах бюджета (без учета субвенций) за 2022 год > 15 % | BC5: МО, муниципальный долг которых на 01.01.2024 > 90% от утвержденного общего годового объема доходов без учета утвержденного объема безвозмездных поступлений
B7: Исполнение | C7: Вес | D7: Прогнозное значение | E7: Фактически сложившийся уровень | F7: Исполнение с уч. корректир. макс. перевыполнения | G7: Вес | H7: Прогнозное значение | I7: Фактически сложившийся уровень | J7: Исполнение с уч. корректир. макс. перевыполнения | K7: Вес | L7: Прогнозное значение | M7: Фактически сложившийся уровень | N7: Исполнение с уч. корректир. макс. перевыполнения | O7: Вес | P7: Прогнозное значение | Q7: Фактически сложившийся уровень | R7: Исполнение с уч. корректир. макс. перевыполнения | S7: Вес | T7: Прогнозное значение | U7: Фактически сложившийся уровень | V7: Исполнение с уч. корректир. макс. перевыполнения | W7: Вес | X7: Прогнозное значение | Y7: Фактически сложившийся уровень | Z7: Исполнение с уч. корректир. макс. перевыполнения | AA7: Вес | AB7: Прогнозное значение | AC7: Фактически сложившийся уровень | AD7: Исполнение с уч. корректир. макс. перевыполнения | AE7: Вес
A8: 1 | B8: 2 | C8: 3 | D8: 4 | E8: 5 | F8: 6=5/4 | G8: 7 | H8: 8 | I8: 9 | J8: 10=9/8 | K8: 11 | L8: 12 | M8: 13 | N8: 14=13/12 | O8: 15 | P8: 16 | Q8: 17 | R8: 18=17/16 | S8: 19 | T8: 20 | U8: 21 | V8: 22=21/20 | W8: 23 | X8: 24 | Y8: 25 | Z8: 26=25/24 | AA8: 27 | AB8: 28 | AC8: 29 | AD8: 30=29/28 | AE8: 31 | AF8: 32 | AG8: 33 | AH8: 34=32*33 | AI8: 35=34-33 | AJ8: 36 | AK8: 37 | AL8: 38=34-36-37 | AM8: 39 | AN8: 40 | AO8: 41 | AP8: 42 | AQ8: 43 | AR8: 44 | AS8: 45 | AT8: 46 | AU8: 47 | AV8: 48 | AW8: 49 | AX8: 50 | AY8: 51 | AZ8: 52=38-(39+…+51) | BA8: 53 | BB8: 54 | BC8: 55 | BD8: 56 | BE8: 57
A9: Городские округа (городской округ с внутригородским делением) | D9: =SUM(D10:D19) -> 1810061 | E9: =SUM(E10:E19) -> 1796117.2 | F9: =IF(E9/D9>1.2,IF((E9/D9-1.2)*0.1+1.2>1.3,1.3,(E9/D9-1.2)*0.1+1.2),E9/D9) -> 0.99229651 | L9: =SUM(L10:L19) -> 1333195 | M9: =SUM(M10:M19) -> 974118 | N9: =IF(M9/L9>1.2,IF((M9/L9-1.2)*0.1+1.2>1.3,1.3,(M9/L9-1.2)*0.1+1.2),M9/L9) -> 0.73066431 | AB9: =SUM(AB10:AB19) -> 581333 | AC9: =SUM(AC10:AC19) -> 602859 | AD9: =IF(AC9/AB9>1.2,IF((AC9/AB9-1.2)*0.1+1.2>1.3,1.3,(AC9/AB9-1.2)*0.1+1.2),AC9/AB9) -> 1.0370287 | AG9: =SUM(AG10:AG19) -> 1862062 | AH9: =SUM(AH10:AH19) -> 1790109.3 | AI9: =SUM(AI10:AI19) -> -71952.7 | AJ9: =SUM(AJ10:AJ19) -> 75400 | AK9: =SUM(AK10:AK19) -> 3026.6 | AL9: =SUM(AL10:AL19) -> 1711682.7 | AM9: =SUM(AM10:AM19) -> 143262.1 | AN9: =SUM(AN10:AN19) -> 202244.4 | ... AZ9: =SUM(AZ10:AZ19) -> -60203 | BE9: =SUM(BE10:BE19) -> -60203 | BF9: =SUMIF(BE10:BE47,">0",BE10:BE47) -> 16859.8
A10: Самара | B10: 1 | C10: 10 | D10: 956120 | E10: 934723.46 | F10: =IF(G10=0,0,IF(D10=0,1,IF(E10<0,0,IF(E10/D10>1.2,IF((E10/D10-1.2)*0.1+1.2>1.3,1.3,(E10/D10-1.2)*0.1+1.2),E10/D10)))) -> 0.97762149 | G10: 15 | H10: 160 | I10: 174 | J10: =IF(K10=0,0,IF(H10=0,1,IF(I10<0,0,IF(I10/H10>1.2,IF((I10/H10-1.2)*0.1+1.2>1.3,1.3,(I10/H10-1.2)*0.1+1.2),I10/H10)))) -> 1.0875 | K10: 20 | L10: 902209 | M10: 673300 | N10: =IF(O10=0,0,IF(L10=0,1,IF(M10<0,0,IF(M10/L10>1.2,IF((M10/L10-1.2)*0.1+1.2>1.3,1.3,(M10/L10-1.2)*0.1+1.2),M10/L10)))) -> 0.74627941 | O10: 15 | P10: Х | Q10: Х | R10: Х | S10: Х | T10: Х | U10: Х | V10: Х | W10: Х | X10: Х | Y10: Х | Z10: Х | AA10: Х | AB10: 356585 | AC10: 359011 | AD10: =IF(AE10=0,0,IF(AB10=0,1,IF(AC10<0,0,IF(AC10/AB10>1.2,IF((AC10/AB10-1.2)*0.1+1.2>1.3,1.3,(AC10/AB10-1.2)*0.1+1.2),AC10/AB10)))) -> 1.0068034 | AE10: 17 | AF10: =(B10*C10+F10*G10+J10*K10+N10*O10+AD10*AE10)/(C10+G10+K10+O10+AE10) -> 0.97044379 | AG10: 465354 | AH10: =ROUND(AF10*AG10,1) -> 451599.9 | AI10: =AH10-AG10 -> -13754.1 | AJ10: 14192.1 | AL10: =AH10-AJ10-AK10 -> 437407.8 | AM10: 36922.9 | AN10: 81230.4 | AO10: 0 | AQ10: 0 | AR10: 24580.1 | AS10: 30006.5 | AT10: 0 | AU10: 63543.3 | AV10: 35782.2 | AW10: 37363.1 | AX10: 47991.4 | AY10: 94457.2 | AZ10: =ROUND(AL10-SUM(AM10:AY10),1) -> -14469.3 | BE10: =IF(AND(AZ10>0,OR(BA10="+",BB10="+",BC10="+",BD10="+")),0,AZ10) -> -14469.3 | BF10: =SUMIF(BE10:BE47,"<0",BE10:BE47)-BE20 -> -93254.9
A11: Тольятти | B11: 1 | C11: 10 | D11: 435642 | E11: 434988.05 | F11: =IF(G11=0,0,IF(D11=0,1,IF(E11<0,0,IF(E11/D11>1.2,IF((E11/D11-1.2)*0.1+1.2>1.3,1.3,(E11/D11-1.2)*0.1+1.2),E11/D11)))) -> 0.99849888 | G11: 15 | H11: 190 | I11: 190 | J11: =IF(K11=0,0,IF(H11=0,1,IF(I11<0,0,IF(I11/H11>1.2,IF((I11/H11-1.2)*0.1+1.2>1.3,1.3,(I11/H11-1.2)*0.1+1.2),I11/H11)))) -> 1 | K11: 20 | L11: 204481 | M11: 107454 | N11: =IF(O11=0,0,IF(L11=0,1,IF(M11<0,0,IF(M11/L11>1.2,IF((M11/L11-1.2)*0.1+1.2>1.3,1.3,(M11/L11-1.2)*0.1+1.2),M11/L11)))) -> 0.52549626 | O11: 15 | P11: Х | Q11: Х | R11: Х | S11: Х | T11: Х | U11: Х | V11: Х | W11: Х | X11: Х | Y11: Х | Z11: Х | AA11: Х | AB11: 153912 | AC11: 165200 | AD11: =IF(AE11=0,0,IF(AB11=0,1,IF(AC11<0,0,IF(AC11/AB11>1.2,IF((AC11/AB11-1.2)*0.1+1.2>1.3,1.3,(AC11/AB11-1.2)*0.1+1.2),AC11/AB11)))) -> 1.0733406 | AE11: 17 | AF11: =(B11*C11+F11*G11+J11*K11+N11*O11+AD11*AE11)/(C11+G11+K11+O11+AE11) -> 0.92346386 | AG11: 702070 | AH11: =ROUND(AF11*AG11,1) -> 648336.3 | AI11: =AH11-AG11 -> -53733.7 | AJ11: 33603.7 | AL11: =AH11-AJ11-AK11 -> 614732.6 | AM11: 51642.7 | AN11: 113614 | AO11: 0 | AQ11: 317.8 | AR11: 82048.6 | AS11: 48464.2 | AT11: 44969.7 | AU11: 9681.1 | AV11: 54906 | AW11: 55620.1 | AX11: 63648.2 | AY11: 117765.7 | AZ11: =ROUND(AL11-SUM(AM11:AY11),1) -> -27945.5 | BE11: =IF(AND(AZ11>0,OR(BA11="+",BB11="+",BC11="+",BD11="+")),0,AZ11) -> -27945.5
A12: Сызрань | B12: 1 | C12: 10 | D12: 132193 | E12: 133817.05 | F12: =IF(G12=0,0,IF(D12=0,1,IF(E12<0,0,IF(E12/D12>1.2,IF((E12/D12-1.2)*0.1+1.2>1.3,1.3,(E12/D12-1.2)*0.1+1.2),E12/D12)))) -> 1.0122855 | G12: 15 | H12: 190 | I12: 184 | J12: =IF(K12=0,0,IF(H12=0,1,IF(I12<0,0,IF(I12/H12>1.2,IF((I12/H12-1.2)*0.1+1.2>1.3,1.3,(I12/H12-1.2)*0.1+1.2),I12/H12)))) -> 0.96842105 | K12: 20 | L12: 53043 | M12: 38185 | N12: =IF(O12=0,0,IF(L12=0,1,IF(M12<0,0,IF(M12/L12>1.2,IF((M12/L12-1.2)*0.1+1.2>1.3,1.3,(M12/L12-1.2)*0.1+1.2),M12/L12)))) -> 0.71988764 | O12: 15 | P12: Х | Q12: Х | R12: Х | S12: Х | T12: Х | U12: Х | V12: Х | W12: Х | X12: Х | Y12: Х | Z12: Х | AA12: Х | AB12: 22681 | AC12: 24434 | AD12: =IF(AE12=0,0,IF(AB12=0,1,IF(AC12<0,0,IF(AC12/AB12>1.2,IF((AC12/AB12-1.2)*0.1+1.2>1.3,1.3,(AC12/AB12-1.2)*0.1+1.2),AC12/AB12)))) -> 1.0772894 | AE12: 17 | AF12: =(B12*C12+F12*G12+J12*K12+N12*O12+AD12*AE12)/(C12+G12+K12+O12+AE12) -> 0.95668749 | AG12: 187333 | AH12: =ROUND(AF12*AG12,1) -> 179219.1 | AI12: =AH12-AG12 -> -8113.9 | AJ12: 8438.9 | AL12: =AH12-AJ12-AK12 -> 170780.2 | AM12: 15744.1 | AO12: 15744.1 | AQ12: 14658.1 | AR12: 22368.9 | AS12: 13753.2 | AT12: 13874.8 | AU12: 6085.5 | AV12: 15809.7 | AW12: 15809.7 | AX12: 14156.6 | AY12: 29702.7 | AZ12: =ROUND(AL12-SUM(AM12:AY12),1) -> -6927.2 | BE12: =IF(AND(AZ12>0,OR(BA12="+",BB12="+",BC12="+",BD12="+")),0,AZ12) -> -6927.2
A13: Новокуйбышевск | B13: 1 | C13: 10 | D13: 80876 | E13: 80934.2 | F13: =IF(G13=0,0,IF(D13=0,1,IF(E13<0,0,IF(E13/D13>1.2,IF((E13/D13-1.2)*0.1+1.2>1.3,1.3,(E13/D13-1.2)*0.1+1.2),E13/D13)))) -> 1.0007196 | G13: 15 | H13: 190 | I13: 190 | J13: =IF(K13=0,0,IF(H13=0,1,IF(I13<0,0,IF(I13/H13>1.2,IF((I13/H13-1.2)*0.1+1.2>1.3,1.3,(I13/H13-1.2)*0.1+1.2),I13/H13)))) -> 1 | K13: 20 | L13: 35549 | M13: 23577 | N13: =IF(O13=0,0,IF(L13=0,1,IF(M13<0,0,IF(M13/L13>1.2,IF((M13/L13-1.2)*0.1+1.2>1.3,1.3,(M13/L13-1.2)*0.1+1.2),M13/L13)))) -> 0.66322541 | O13: 15 | P13: Х | Q13: Х | R13: Х | S13: Х | T13: Х | U13: Х | V13: Х | W13: Х | X13: Х | Y13: Х | Z13: Х | AA13: Х | AB13: 14508 | AC13: 15316 | AD13: =IF(AE13=0,0,IF(AB13=0,1,IF(AC13<0,0,IF(AC13/AB13>1.2,IF((AC13/AB13-1.2)*0.1+1.2>1.3,1.3,(AC13/AB13-1.2)*0.1+1.2),AC13/AB13)))) -> 1.0556934 | AE13: 17 | AF13: =(B13*C13+F13*G13+J13*K13+N13*O13+AD13*AE13)/(C13+G13+K13+O13+AE13) -> 0.94683069 | AG13: 99555 | AH13: =ROUND(AF13*AG13,1) -> 94261.7 | AI13: =AH13-AG13 -> -5293.3 | AJ13: 2139.3 | AL13: =AH13-AJ13-AK13 -> 92122.4 | AM13: 7847.2 | AO13: 7847.2 | AQ13: 8275.2 | AR13: 10518.5 | AS13: 7766.4 | AT13: 7763.6 | AU13: 6355.3 | AV13: 8358.9 | AW13: 8359 | AY13: 23584.8 | AZ13: =ROUND(AL13-SUM(AM13:AY13),1) -> -4553.7 | BD13: + | BE13: =IF(AND(AZ13>0,OR(BA13="+",BB13="+",BC13="+",BD13="+")),0,AZ13) -> -4553.7
A14: Чапаевск | B14: 1 | C14: 10 | D14: 42551 | E14: 45619.165 | F14: =IF(G14=0,0,IF(D14=0,1,IF(E14<0,0,IF(E14/D14>1.2,IF((E14/D14-1.2)*0.1+1.2>1.3,1.3,(E14/D14-1.2)*0.1+1.2),E14/D14)))) -> 1.0721056 | G14: 15 | H14: 162 | I14: 158 | J14: =IF(K14=0,0,IF(H14=0,1,IF(I14<0,0,IF(I14/H14>1.2,IF((I14/H14-1.2)*0.1+1.2>1.3,1.3,(I14/H14-1.2)*0.1+1.2),I14/H14)))) -> 0.97530864 | K14: 20 | L14: 17682 | M14: 29850 | N14: =IF(O14=0,0,IF(L14=0,1,IF(M14<0,0,IF(M14/L14>1.2,IF((M14/L14-1.2)*0.1+1.2>1.3,1.3,(M14/L14-1.2)*0.1+1.2),M14/L14)))) -> 1.2488157 | O14: 15 | P14: Х | Q14: Х | R14: Х | S14: Х | T14: Х | U14: Х | V14: Х | W14: Х | X14: Х | Y14: Х | Z14: Х | AA14: Х | AB14: 6442 | AC14: 8263 | AD14: =IF(AE14=0,0,IF(AB14=0,1,IF(AC14<0,0,IF(AC14/AB14>1.2,IF((AC14/AB14-1.2)*0.1+1.2>1.3,1.3,(AC14/AB14-1.2)*0.1+1.2),AC14/AB14)))) -> 1.2082676 | AE14: 17 | AF14: =(B14*C14+F14*G14+J14*K14+N14*O14+AD14*AE14)/(C14+G14+K14+O14+AE14) -> 1.102085 | AG14: 82801 | AH14: =ROUND(AF14*AG14,1) -> 91253.7 | AI14: =AH14-AG14 -> 8452.7 | AJ14: 0 | AL14: =AH14-AJ14-AK14 -> 91253.7 | AM14: 7160.5 | AO14: 7160.6 | AQ14: 7249.8 | AR14: 7625.9 | AS14: 7299.2 | AT14: 7370 | AU14: 6651.5 | AV14: 7216.8 | AW14: 7216.8 | AX14: 9608.9 | AY14: 11657.4 | AZ14: =ROUND(AL14-SUM(AM14:AY14),1) -> 5036.3 | BE14: =IF(AND(AZ14>0,OR(BA14="+",BB14="+",BC14="+",BD14="+")),0,AZ14) -> 5036.3
A15: Отрадный | B15: 1 | C15: 10 | D15: 39816 | E15: 40111.94 | F15: =IF(G15=0,0,IF(D15=0,1,IF(E15<0,0,IF(E15/D15>1.2,IF((E15/D15-1.2)*0.1+1.2>1.3,1.3,(E15/D15-1.2)*0.1+1.2),E15/D15)))) -> 1.0074327 | G15: 15 | H15: 160 | I15: 180 | J15: =IF(K15=0,0,IF(H15=0,1,IF(I15<0,0,IF(I15/H15>1.2,IF((I15/H15-1.2)*0.1+1.2>1.3,1.3,(I15/H15-1.2)*0.1+1.2),I15/H15)))) -> 1.125 | K15: 20 | L15: 13751 | M15: 10453 | N15: =IF(O15=0,0,IF(L15=0,1,IF(M15<0,0,IF(M15/L15>1.2,IF((M15/L15-1.2)*0.1+1.2>1.3,1.3,(M15/L15-1.2)*0.1+1.2),M15/L15)))) -> 0.7601629 | O15: 15 | P15: Х | Q15: Х | R15: Х | S15: Х | T15: Х | U15: Х | V15: Х | W15: Х | X15: Х | Y15: Х | Z15: Х | AA15: Х | AB15: 5724 | AC15: 5836 | AD15: =IF(AE15=0,0,IF(AB15=0,1,IF(AC15<0,0,IF(AC15/AB15>1.2,IF((AC15/AB15-1.2)*0.1+1.2>1.3,1.3,(AC15/AB15-1.2)*0.1+1.2),AC15/AB15)))) -> 1.0195667 | AE15: 17 | AF15: =(B15*C15+F15*G15+J15*K15+N15*O15+AD15*AE15)/(C15+G15+K15+O15+AE15) -> 0.99151387 | AG15: 49122 | AH15: =ROUND(AF15*AG15,1) -> 48705.1 | AI15: =AH15-AG15 -> -416.9 | AJ15: 2665.3 | AL15: =AH15-AJ15-AK15 -> 46039.8 | AM15: 4128.7 | AO15: 4162.2 | AQ15: 3928.3 | AR15: 3893.2 | AS15: 2962 | AT15: 2908.1 | AU15: 2183.5 | AV15: 3833 | AW15: 3833.1 | AX15: 6842 | AY15: 7646.2 | AZ15: =ROUND(AL15-SUM(AM15:AY15),1) -> -280.5 | BE15: =IF(AND(AZ15>0,OR(BA15="+",BB15="+",BC15="+",BD15="+")),0,AZ15) -> -280.5
A16: Жигулевск | B16: 1 | C16: 10 | D16: 41256 | E16: 41661.222 | F16: =IF(G16=0,0,IF(D16=0,1,IF(E16<0,0,IF(E16/D16>1.2,IF((E16/D16-1.2)*0.1+1.2>1.3,1.3,(E16/D16-1.2)*0.1+1.2),E16/D16)))) -> 1.0098221 | G16: 15 | H16: 190 | I16: 179 | J16: =IF(K16=0,0,IF(H16=0,1,IF(I16<0,0,IF(I16/H16>1.2,IF((I16/H16-1.2)*0.1+1.2>1.3,1.3,(I16/H16-1.2)*0.1+1.2),I16/H16)))) -> 0.94210526 | K16: 20 | L16: 17200 | M16: 13028 | N16: =IF(O16=0,0,IF(L16=0,1,IF(M16<0,0,IF(M16/L16>1.2,IF((M16/L16-1.2)*0.1+1.2>1.3,1.3,(M16/L16-1.2)*0.1+1.2),M16/L16)))) -> 0.75744186 | O16: 15 | P16: Х | Q16: Х | R16: Х | S16: Х | T16: Х | U16: Х | V16: Х | W16: Х | X16: Х | Y16: Х | Z16: Х | AA16: Х | AB16: 7263 | AC16: 8885 | AD16: =IF(AE16=0,0,IF(AB16=0,1,IF(AC16<0,0,IF(AC16/AB16>1.2,IF((AC16/AB16-1.2)*0.1+1.2>1.3,1.3,(AC16/AB16-1.2)*0.1+1.2),AC16/AB16)))) -> 1.2023324 | AE16: 17 | AF16: =(B16*C16+F16*G16+J16*K16+N16*O16+AD16*AE16)/(C16+G16+K16+O16+AE16) -> 0.98429501 | AG16: 87800 | AH16: =ROUND(AF16*AG16,1) -> 86421.1 | AI16: =AH16-AG16 -> -1378.9 | AJ16: 2263.7 | AL16: =AH16-AJ16-AK16 -> 84157.4 | AM16: 5992.3 | AO16: 5992.2 | AQ16: 5312.8 | AR16: 8559.2 | AS16: 5558.6 | AT16: 5673.7 | AU16: 953.1 | AV16: 5758 | AW16: 5757.9 | AX16: 23021.5 | AY16: 11345.1 | AZ16: =ROUND(AL16-SUM(AM16:AY16),1) -> 233 | BE16: =IF(AND(AZ16>0,OR(BA16="+",BB16="+",BC16="+",BD16="+")),0,AZ16) -> 233
A17: Октябрьск | B17: 1 | C17: 10 | D17: 14340 | E17: 14969.75 | F17: =IF(G17=0,0,IF(D17=0,1,IF(E17<0,0,IF(E17/D17>1.2,IF((E17/D17-1.2)*0.1+1.2>1.3,1.3,(E17/D17-1.2)*0.1+1.2),E17/D17)))) -> 1.0439156 | G17: 15 | H17: 190 | I17: 182 | J17: =IF(K17=0,0,IF(H17=0,1,IF(I17<0,0,IF(I17/H17>1.2,IF((I17/H17-1.2)*0.1+1.2>1.3,1.3,(I17/H17-1.2)*0.1+1.2),I17/H17)))) -> 0.95789474 | K17: 20 | L17: 8521 | M17: 7265 | N17: =IF(O17=0,0,IF(L17=0,1,IF(M17<0,0,IF(M17/L17>1.2,IF((M17/L17-1.2)*0.1+1.2>1.3,1.3,(M17/L17-1.2)*0.1+1.2),M17/L17)))) -> 0.85259946 | O17: 15 | P17: Х | Q17: Х | R17: Х | S17: Х | T17: Х | U17: Х | V17: Х | W17: Х | X17: Х | Y17: Х | Z17: Х | AA17: Х | AB17: 1854 | AC17: 2567 | AD17: =IF(AE17=0,0,IF(AB17=0,1,IF(AC17<0,0,IF(AC17/AB17>1.2,IF((AC17/AB17-1.2)*0.1+1.2>1.3,1.3,(AC17/AB17-1.2)*0.1+1.2),AC17/AB17)))) -> 1.2184574 | AE17: 17 | AF17: =(B17*C17+F17*G17+J17*K17+N17*O17+AD17*AE17)/(C17+G17+K17+O17+AE17) -> 1.017135 | AG17: 58145 | AH17: =ROUND(AF17*AG17,1) -> 59141.3 | AI17: =AH17-AG17 -> 996.3 | AJ17: 1754.4 | AK17: 3026.6 | AL17: =AH17-AJ17-AK17 -> 54360.3 | AM17: 4284.5 | AO17: 4284.4 | AQ17: 3901.4 | AR17: 4372.7 | AS17: 3509 | AT17: 3820.3 | AU17: 4666.6 | AV17: 4370.4 | AW17: 4370.6 | AX17: 13776.4 | AY17: 8347.8 | AZ17: =ROUND(AL17-SUM(AM17:AY17),1) -> -5343.8 | BE17: =IF(AND(AZ17>0,OR(BA17="+",BB17="+",BC17="+",BD17="+")),0,AZ17) -> -5343.8
A18: Кинель | B18: 1 | C18: 10 | D18: 47421 | E18: 49131.579 | F18: =IF(G18=0,0,IF(D18=0,1,IF(E18<0,0,IF(E18/D18>1.2,IF((E18/D18-1.2)*0.1+1.2>1.3,1.3,(E18/D18-1.2)*0.1+1.2),E18/D18)))) -> 1.0360722 | G18: 15 | H18: 160 | I18: 176 | J18: =IF(K18=0,0,IF(H18=0,1,IF(I18<0,0,IF(I18/H18>1.2,IF((I18/H18-1.2)*0.1+1.2>1.3,1.3,(I18/H18-1.2)*0.1+1.2),I18/H18)))) -> 1.1 | K18: 20 | L18: 69065 | M18: 64415 | N18: =IF(O18=0,0,IF(L18=0,1,IF(M18<0,0,IF(M18/L18>1.2,IF((M18/L18-1.2)*0.1+1.2>1.3,1.3,(M18/L18-1.2)*0.1+1.2),M18/L18)))) -> 0.93267212 | O18: 15 | P18: Х | Q18: Х | R18: Х | S18: Х | T18: Х | U18: Х | V18: Х | W18: Х | X18: Х | Y18: Х | Z18: Х | AA18: Х | AB18: 9525 | AC18: 10242 | AD18: =IF(AE18=0,0,IF(AB18=0,1,IF(AC18<0,0,IF(AC18/AB18>1.2,IF((AC18/AB18-1.2)*0.1+1.2>1.3,1.3,(AC18/AB18-1.2)*0.1+1.2),AC18/AB18)))) -> 1.0752756 | AE18: 17 | AF18: =(B18*C18+F18*G18+J18*K18+N18*O18+AD18*AE18)/(C18+G18+K18+O18+AE18) -> 1.0365045 | AG18: 77383 | AH18: =ROUND(AF18*AG18,1) -> 80207.8 | AI18: =AH18-AG18 -> 2824.8 | AJ18: 4075.8 | AL18: =AH18-AJ18-AK18 -> 76132 | AM18: 6137.1 | AO18: 6137.1 | AQ18: 5165.5 | AR18: 3991.2 | AS18: 3727.5 | AT18: 4341.3 | AU18: 9863.7 | AV18: 6205.7 | AW18: 6205.6 | AX18: 15723.4 | AY18: 10650 | AZ18: =ROUND(AL18-SUM(AM18:AY18),1) -> -2016.1 | BE18: =IF(AND(AZ18>0,OR(BA18="+",BB18="+",BC18="+",BD18="+")),0,AZ18) -> -2016.1
A19: Похвистнево | B19: 1 | C19: 10 | D19: 19846 | E19: 20160.801 | F19: =IF(G19=0,0,IF(D19=0,1,IF(E19<0,0,IF(E19/D19>1.2,IF((E19/D19-1.2)*0.1+1.2>1.3,1.3,(E19/D19-1.2)*0.1+1.2),E19/D19)))) -> 1.0158622 | G19: 15 | H19: 160 | I19: 179.7 | J19: =IF(K19=0,0,IF(H19=0,1,IF(I19<0,0,IF(I19/H19>1.2,IF((I19/H19-1.2)*0.1+1.2>1.3,1.3,(I19/H19-1.2)*0.1+1.2),I19/H19)))) -> 1.123125 | K19: 20 | L19: 11694 | M19: 6591 | N19: =IF(O19=0,0,IF(L19=0,1,IF(M19<0,0,IF(M19/L19>1.2,IF((M19/L19-1.2)*0.1+1.2>1.3,1.3,(M19/L19-1.2)*0.1+1.2),M19/L19)))) -> 0.56362237 | O19: 15 | P19: Х | Q19: Х | R19: Х | S19: Х | T19: Х | U19: Х | V19: Х | W19: Х | X19: Х | Y19: Х | Z19: Х | AA19: Х | AB19: 2839 | AC19: 3105 | AD19: =IF(AE19=0,0,IF(AB19=0,1,IF(AC19<0,0,IF(AC19/AB19>1.2,IF((AC19/AB19-1.2)*0.1+1.2>1.3,1.3,(AC19/AB19-1.2)*0.1+1.2),AC19/AB19)))) -> 1.093695 | AE19: 17 | AF19: =(B19*C19+F19*G19+J19*K19+N19*O19+AD19*AE19)/(C19+G19+K19+O19+AE19) -> 0.97074783 | AG19: 52499 | AH19: =ROUND(AF19*AG19,1) -> 50963.3 | AI19: =AH19-AG19 -> -1535.7 | AJ19: 6266.8 | AL19: =AH19-AJ19-AK19 -> 44696.5 | AM19: 3402.1 | AN19: 7400 | AO19: 0 | AQ19: 0 | AR19: 0 | AS19: 4632.7 | AT19: 1191.8 | AU19: 1955.4 | AV19: 3549.8 | AW19: 3549.9 | AX19: 15802.1 | AY19: 7148.9 | AZ19: =ROUND(AL19-SUM(AM19:AY19),1) -> -3936.2 | BE19: =IF(AND(AZ19>0,OR(BA19="+",BB19="+",BC19="+",BD19="+")),0,AZ19) -> -3936.2
A20: Муниципальные районы | D20: =SUM(D21:D47) -> 376016 | E20: =SUM(E21:E47) -> 412963.53 | F20: =IF(E20/D20>1.2,IF((E20/D20-1.2)*0.1+1.2>1.3,1.3,(E20/D20-1.2)*0.1+1.2),E20/D20) -> 1.0982605 | L20: =SUM(L21:L47) -> 897464 | M20: =SUM(M21:M47) -> 964067 | N20: =IF(M20/L20>1.2,IF((M20/L20-1.2)*0.1+1.2>1.3,1.3,(M20/L20-1.2)*0.1+1.2),M20/L20) -> 1.0742124 | P20: =SUM(P21:P47) -> 2391.4 | Q20: =SUM(Q21:Q47) -> 2753 | R20: =IF(Q20/P20>1.2,IF((Q20/P20-1.2)*0.1+1.2>1.3,1.3,(Q20/P20-1.2)*0.1+1.2),Q20/P20) -> 1.1512085 | T20: =SUM(T21:T47) -> 456807.4 | U20: =SUM(U21:U47) -> 455195.62 | V20: =IF(U20/T20>1.2,IF((U20/T20-1.2)*0.1+1.2>1.3,1.3,(U20/T20-1.2)*0.1+1.2),U20/T20) -> 0.99647164 | X20: =SUM(X21:X47) -> 135776.9 | Y20: =SUM(Y21:Y47) -> 141712.61 | Z20: =IF(Y20/X20>1.2,IF((Y20/X20-1.2)*0.1+1.2>1.3,1.3,(Y20/X20-1.2)*0.1+1.2),Y20/X20) -> 1.0437166 | AB20: =SUM(AB21:AB47) -> 97139 | AC20: =SUM(AC21:AC47) -> 116105 | AD20: =IF(AC20/AB20>1.2,IF((AC20/AB20-1.2)*0.1+1.2>1.3,1.3,(AC20/AB20-1.2)*0.1+1.2),AC20/AB20) -> 1.195246 | AG20: =SUM(AG21:AG47) -> 1417873 | AH20: =SUM(AH21:AH47) -> 1463733.4 | AI20: =SUM(AI21:AI47) -> 45860.4 | AJ20: =SUM(AJ21:AJ47) -> 54048.4 | AK20: =SUM(AK21:AK47) -> 0 | AL20: =SUM(AL21:AL47) -> 1409685 | AM20: =SUM(AM21:AM47) -> 110482.4 | AN20: =SUM(AN21:AN47) -> 11376.8 | ... AZ20: =SUM(AZ21:AZ47) -> -16192.1 | BE20: =SUM(BE21:BE47) -> -16192.1
A21: Алексеевский | B21: 1 | C21: 10 | D21: 3024 | E21: 3370.716 | F21: =IF(G21=0,0,IF(D21=0,1,IF(E21<0,0,IF(E21/D21>1.2,IF((E21/D21-1.2)*0.1+1.2>1.3,1.3,(E21/D21-1.2)*0.1+1.2),E21/D21)))) -> 1.1146548 | G21: 10 | H21: 190 | I21: 182.6 | J21: =IF(K21=0,0,IF(H21=0,1,IF(I21<0,0,IF(I21/H21>1.2,IF((I21/H21-1.2)*0.1+1.2>1.3,1.3,(I21/H21-1.2)*0.1+1.2),I21/H21)))) -> 0.96105263 | K21: 15 | L21: 3825 | M21: 967 | N21: =IF(O21=0,0,IF(L21=0,1,IF(M21<0,0,IF(M21/L21>1.2,IF((M21/L21-1.2)*0.1+1.2>1.3,1.3,(M21/L21-1.2)*0.1+1.2),M21/L21)))) -> 0.25281046 | O21: 5 | P21: 77.4 | Q21: 105.9 | R21: =IF(S21=0,0,IF(P21=0,1,IF(Q21<0,0,IF(Q21/P21>1.2,IF((Q21/P21-1.2)*0.1+1.2>1.3,1.3,(Q21/P21-1.2)*0.1+1.2),Q21/P21)))) -> 1.2168217 | S21: 10 | T21: 23629.1 | U21: 23343.344 | V21: =IF(W21=0,0,IF(T21=0,1,IF(U21<0,0,IF(U21/T21>1.2,IF((U21/T21-1.2)*0.1+1.2>1.3,1.3,(U21/T21-1.2)*0.1+1.2),U21/T21)))) -> 0.98790661 | W21: 10 | X21: 4600 | Y21: 2868.278 | Z21: =IF(AA21=0,0,IF(X21=0,1,IF(Y21<0,0,IF(Y21/X21>1.2,IF((Y21/X21-1.2)*0.1+1.2>1.3,1.3,(Y21/X21-1.2)*0.1+1.2),Y21/X21)))) -> 0.6235387 | AA21: 10 | AB21: 998 | AC21: 1227 | AD21: =IF(AE21=0,0,IF(AB21=0,1,IF(AC21<0,0,IF(AC21/AB21>1.2,IF((AC21/AB21-1.2)*0.1+1.2>1.3,1.3,(AC21/AB21-1.2)*0.1+1.2),AC21/AB21)))) -> 1.2029459 | AE21: 12 | AF21: =(B21*C21+F21*G21+J21*K21+N21*O21+R21*S21+V21*W21+Z21*AA21+AD21*AE21)/(C21+G21+K21+O21+S21+W21+AA21+AE21) -> 0.97005378 | AG21: 29790 | AH21: =ROUND(AF21*AG21,1) -> 28897.9 | AI21: =AH21-AG21 -> -892.1 | AJ21: 3718.5 | AL21: =AH21-AJ21-AK21 -> 25179.4 | AM21: 2403.2 | AO21: 2403.2 | AQ21: 2900.4 | AR21: 3690.8 | AS21: 1362.1 | AT21: 1432.4 | AU21: 1501.6 | AV21: 2773.2 | AW21: 2773.2 | AX21: 1340.8 | AY21: 4040.5 | AZ21: =ROUND(AL21-SUM(AM21:AY21),1) -> -1442 | BE21: =IF(AND(AZ21>0,OR(BA21="+",BB21="+",BC21="+",BD21="+")),0,AZ21) -> -1442
A22: Безенчукский | B22: 1 | C22: 10 | D22: 22524 | E22: 24246.181 | F22: =IF(G22=0,0,IF(D22=0,1,IF(E22<0,0,IF(E22/D22>1.2,IF((E22/D22-1.2)*0.1+1.2>1.3,1.3,(E22/D22-1.2)*0.1+1.2),E22/D22)))) -> 1.0764598 | G22: 10 | H22: 190 | I22: 195 | J22: =IF(K22=0,0,IF(H22=0,1,IF(I22<0,0,IF(I22/H22>1.2,IF((I22/H22-1.2)*0.1+1.2>1.3,1.3,(I22/H22-1.2)*0.1+1.2),I22/H22)))) -> 1.0263158 | K22: 15 | L22: 21547 | M22: 15249 | N22: =IF(O22=0,0,IF(L22=0,1,IF(M22<0,0,IF(M22/L22>1.2,IF((M22/L22-1.2)*0.1+1.2>1.3,1.3,(M22/L22-1.2)*0.1+1.2),M22/L22)))) -> 0.70770873 | O22: 5 | P22: 96.4 | Q22: 113.6 | R22: =IF(S22=0,0,IF(P22=0,1,IF(Q22<0,0,IF(Q22/P22>1.2,IF((Q22/P22-1.2)*0.1+1.2>1.3,1.3,(Q22/P22-1.2)*0.1+1.2),Q22/P22)))) -> 1.1784232 | S22: 10 | T22: 21632 | U22: 21658 | V22: =IF(W22=0,0,IF(T22=0,1,IF(U22<0,0,IF(U22/T22>1.2,IF((U22/T22-1.2)*0.1+1.2>1.3,1.3,(U22/T22-1.2)*0.1+1.2),U22/T22)))) -> 1.0012019 | W22: 10 | X22: 3364.5 | Y22: 3316.895 | Z22: =IF(AA22=0,0,IF(X22=0,1,IF(Y22<0,0,IF(Y22/X22>1.2,IF((Y22/X22-1.2)*0.1+1.2>1.3,1.3,(Y22/X22-1.2)*0.1+1.2),Y22/X22)))) -> 0.9858508 | AA22: 10 | AB22: 4554 | AC22: 5533 | AD22: =IF(AE22=0,0,IF(AB22=0,1,IF(AC22<0,0,IF(AC22/AB22>1.2,IF((AC22/AB22-1.2)*0.1+1.2>1.3,1.3,(AC22/AB22-1.2)*0.1+1.2),AC22/AB22)))) -> 1.2014976 | AE22: 12 | AF22: =(B22*C22+F22*G22+J22*K22+N22*O22+R22*S22+V22*W22+Z22*AA22+AD22*AE22)/(C22+G22+K22+O22+S22+W22+AA22+AE22) -> 1.045983 | AG22: 53392 | AH22: =ROUND(AF22*AG22,1) -> 55847.1 | AI22: =AH22-AG22 -> 2455.1 | AJ22: 1393.2 | AL22: =AH22-AJ22-AK22 -> 54453.9 | AM22: 4663.2 | AO22: 4663.2 | AQ22: 4659.9 | AR22: 6438.4 | AS22: 4548.9 | AT22: 4811.2 | AU22: 1187 | AV22: 4623.6 | AW22: 4623.5 | AX22: 8595.9 | AY22: 7278.6 | AZ22: =ROUND(AL22-SUM(AM22:AY22),1) -> -1639.5 | BE22: =IF(AND(AZ22>0,OR(BA22="+",BB22="+",BC22="+",BD22="+")),0,AZ22) -> -1639.5
A23: Богатовский | B23: 1 | C23: 10 | D23: 6464 | E23: 7321.883 | F23: =IF(G23=0,0,IF(D23=0,1,IF(E23<0,0,IF(E23/D23>1.2,IF((E23/D23-1.2)*0.1+1.2>1.3,1.3,(E23/D23-1.2)*0.1+1.2),E23/D23)))) -> 1.132717 | G23: 10 | H23: 160 | I23: 186 | J23: =IF(K23=0,0,IF(H23=0,1,IF(I23<0,0,IF(I23/H23>1.2,IF((I23/H23-1.2)*0.1+1.2>1.3,1.3,(I23/H23-1.2)*0.1+1.2),I23/H23)))) -> 1.1625 | K23: 15 | L23: 9986 | M23: 4686 | N23: =IF(O23=0,0,IF(L23=0,1,IF(M23<0,0,IF(M23/L23>1.2,IF((M23/L23-1.2)*0.1+1.2>1.3,1.3,(M23/L23-1.2)*0.1+1.2),M23/L23)))) -> 0.46925696 | O23: 5 | P23: 51.4 | Q23: 50.7 | R23: =IF(S23=0,0,IF(P23=0,1,IF(Q23<0,0,IF(Q23/P23>1.2,IF((Q23/P23-1.2)*0.1+1.2>1.3,1.3,(Q23/P23-1.2)*0.1+1.2),Q23/P23)))) -> 0.98638132 | S23: 10 | T23: 16470 | U23: 19826.371 | V23: =IF(W23=0,0,IF(T23=0,1,IF(U23<0,0,IF(U23/T23>1.2,IF((U23/T23-1.2)*0.1+1.2>1.3,1.3,(U23/T23-1.2)*0.1+1.2),U23/T23)))) -> 1.2003787 | W23: 10 | X23: 2555.3 | Y23: 2550.001 | Z23: =IF(AA23=0,0,IF(X23=0,1,IF(Y23<0,0,IF(Y23/X23>1.2,IF((Y23/X23-1.2)*0.1+1.2>1.3,1.3,(Y23/X23-1.2)*0.1+1.2),Y23/X23)))) -> 0.99792627 | AA23: 10 | AB23: 1315 | AC23: 1619 | AD23: =IF(AE23=0,0,IF(AB23=0,1,IF(AC23<0,0,IF(AC23/AB23>1.2,IF((AC23/AB23-1.2)*0.1+1.2>1.3,1.3,(AC23/AB23-1.2)*0.1+1.2),AC23/AB23)))) -> 1.2031179 | AE23: 12 | AF23: =(B23*C23+F23*G23+J23*K23+N23*O23+R23*S23+V23*W23+Z23*AA23+AD23*AE23)/(C23+G23+K23+O23+S23+W23+AA23+AE23) -> 1.0657955 | AG23: 37170 | AH23: =ROUND(AF23*AG23,1) -> 39615.6 | AI23: =AH23-AG23 -> 2445.6 | AJ23: 2244 | AL23: =AH23-AJ23-AK23 -> 37371.6 | AM23: 2893.7 | AO23: 3210.7 | AQ23: 3612.4 | AR23: 2418.3 | AS23: 2136.3 | AT23: 2526.9 | AU23: 4777.6 | AV23: 3402.7 | AW23: 3402.8 | AX23: 4332 | AY23: 5151 | AZ23: =ROUND(AL23-SUM(AM23:AY23),1) -> -492.8 | BE23: =IF(AND(AZ23>0,OR(BA23="+",BB23="+",BC23="+",BD23="+")),0,AZ23) -> -492.8
A24: Большеглушицкий | B24: 1 | C24: 10 | D24: 6808 | E24: 7872.692 | F24: =IF(G24=0,0,IF(D24=0,1,IF(E24<0,0,IF(E24/D24>1.2,IF((E24/D24-1.2)*0.1+1.2>1.3,1.3,(E24/D24-1.2)*0.1+1.2),E24/D24)))) -> 1.1563884 | G24: 10 | H24: 190 | I24: 197.8 | J24: =IF(K24=0,0,IF(H24=0,1,IF(I24<0,0,IF(I24/H24>1.2,IF((I24/H24-1.2)*0.1+1.2>1.3,1.3,(I24/H24-1.2)*0.1+1.2),I24/H24)))) -> 1.0410526 | K24: 15 | L24: 6306 | M24: 5218 | N24: =IF(O24=0,0,IF(L24=0,1,IF(M24<0,0,IF(M24/L24>1.2,IF((M24/L24-1.2)*0.1+1.2>1.3,1.3,(M24/L24-1.2)*0.1+1.2),M24/L24)))) -> 0.82746591 | O24: 5 | P24: 143.5 | Q24: 153.5 | R24: =IF(S24=0,0,IF(P24=0,1,IF(Q24<0,0,IF(Q24/P24>1.2,IF((Q24/P24-1.2)*0.1+1.2>1.3,1.3,(Q24/P24-1.2)*0.1+1.2),Q24/P24)))) -> 1.0696864 | S24: 10 | T24: 16604.6 | U24: 10541.203 | V24: =IF(W24=0,0,IF(T24=0,1,IF(U24<0,0,IF(U24/T24>1.2,IF((U24/T24-1.2)*0.1+1.2>1.3,1.3,(U24/T24-1.2)*0.1+1.2),U24/T24)))) -> 0.63483631 | W24: 10 | X24: 3593 | Y24: 3605.613 | Z24: =IF(AA24=0,0,IF(X24=0,1,IF(Y24<0,0,IF(Y24/X24>1.2,IF((Y24/X24-1.2)*0.1+1.2>1.3,1.3,(Y24/X24-1.2)*0.1+1.2),Y24/X24)))) -> 1.0035104 | AA24: 10 | AB24: 2188 | AC24: 2512 | AD24: =IF(AE24=0,0,IF(AB24=0,1,IF(AC24<0,0,IF(AC24/AB24>1.2,IF((AC24/AB24-1.2)*0.1+1.2>1.3,1.3,(AC24/AB24-1.2)*0.1+1.2),AC24/AB24)))) -> 1.1480804 | AE24: 12 | AF24: =(B24*C24+F24*G24+J24*K24+N24*O24+R24*S24+V24*W24+Z24*AA24+AD24*AE24)/(C24+G24+K24+O24+S24+W24+AA24+AE24) -> 1.0021256 | AG24: 42710 | AH24: =ROUND(AF24*AG24,1) -> 42800.8 | AI24: =AH24-AG24 -> 90.8 | AJ24: 3983 | AL24: =AH24-AJ24-AK24 -> 38817.8 | AM24: 3488.5 | AO24: 3488.4 | AQ24: 4252.1 | AR24: 4985.8 | AS24: 2460.6 | AT24: 2756.8 | AU24: 1135.3 | AV24: 3793 | AW24: 3792.9 | AX24: 4703.7 | AY24: 5715.9 | AZ24: =ROUND(AL24-SUM(AM24:AY24),1) -> -1755.2 | BE24: =IF(AND(AZ24>0,OR(BA24="+",BB24="+",BC24="+",BD24="+")),0,AZ24) -> -1755.2
A25: Большечерниговский | B25: 1 | C25: 10 | D25: 5017 | E25: 5908.74 | F25: =IF(G25=0,0,IF(D25=0,1,IF(E25<0,0,IF(E25/D25>1.2,IF((E25/D25-1.2)*0.1+1.2>1.3,1.3,(E25/D25-1.2)*0.1+1.2),E25/D25)))) -> 1.1777437 | G25: 10 | H25: 175 | I25: 165 | J25: =IF(K25=0,0,IF(H25=0,1,IF(I25<0,0,IF(I25/H25>1.2,IF((I25/H25-1.2)*0.1+1.2>1.3,1.3,(I25/H25-1.2)*0.1+1.2),I25/H25)))) -> 0.94285714 | K25: 15 | L25: 4599 | M25: 3367 | N25: =IF(O25=0,0,IF(L25=0,1,IF(M25<0,0,IF(M25/L25>1.2,IF((M25/L25-1.2)*0.1+1.2>1.3,1.3,(M25/L25-1.2)*0.1+1.2),M25/L25)))) -> 0.73211568 | O25: 5 | P25: 108.8 | Q25: 155.5 | R25: =IF(S25=0,0,IF(P25=0,1,IF(Q25<0,0,IF(Q25/P25>1.2,IF((Q25/P25-1.2)*0.1+1.2>1.3,1.3,(Q25/P25-1.2)*0.1+1.2),Q25/P25)))) -> 1.2229228 | S25: 10 | T25: 31582.7 | U25: 31582.8 | V25: =IF(W25=0,0,IF(T25=0,1,IF(U25<0,0,IF(U25/T25>1.2,IF((U25/T25-1.2)*0.1+1.2>1.3,1.3,(U25/T25-1.2)*0.1+1.2),U25/T25)))) -> 1.0000032 | W25: 10 | X25: 5621.2 | Y25: 5629.552 | Z25: =IF(AA25=0,0,IF(X25=0,1,IF(Y25<0,0,IF(Y25/X25>1.2,IF((Y25/X25-1.2)*0.1+1.2>1.3,1.3,(Y25/X25-1.2)*0.1+1.2),Y25/X25)))) -> 1.0014858 | AA25: 10 | AB25: 3227 | AC25: 3421 | AD25: =IF(AE25=0,0,IF(AB25=0,1,IF(AC25<0,0,IF(AC25/AB25>1.2,IF((AC25/AB25-1.2)*0.1+1.2>1.3,1.3,(AC25/AB25-1.2)*0.1+1.2),AC25/AB25)))) -> 1.0601178 | AE25: 12 | AF25: =(B25*C25+F25*G25+J25*K25+N25*O25+R25*S25+V25*W25+Z25*AA25+AD25*AE25)/(C25+G25+K25+O25+S25+W25+AA25+AE25) -> 1.0310537 | AG25: 51674 | AH25: =ROUND(AF25*AG25,1) -> 53278.7 | AI25: =AH25-AG25 -> 1604.7 | AJ25: 56.7 | AL25: =AH25-AJ25-AK25 -> 53222 | AM25: 3662.2 | AO25: 3662.2 | AQ25: 6807.3 | AR25: 5343.8 | AS25: 4846.2 | AT25: 4915.8 | AU25: 2927.3 | AV25: 4603.1 | AW25: 4603.1 | AX25: 4785.3 | AY25: 6497.2 | AZ25: =ROUND(AL25-SUM(AM25:AY25),1) -> 568.5 | BE25: =IF(AND(AZ25>0,OR(BA25="+",BB25="+",BC25="+",BD25="+")),0,AZ25) -> 568.5
A26: Борский | B26: 1 | C26: 10 | D26: 7581 | E26: 8536.54 | F26: =IF(G26=0,0,IF(D26=0,1,IF(E26<0,0,IF(E26/D26>1.2,IF((E26/D26-1.2)*0.1+1.2>1.3,1.3,(E26/D26-1.2)*0.1+1.2),E26/D26)))) -> 1.1260441 | G26: 10 | H26: 190 | I26: 192 | J26: =IF(K26=0,0,IF(H26=0,1,IF(I26<0,0,IF(I26/H26>1.2,IF((I26/H26-1.2)*0.1+1.2>1.3,1.3,(I26/H26-1.2)*0.1+1.2),I26/H26)))) -> 1.0105263 | K26: 15 | L26: 14968 | M26: 6775 | N26: =IF(O26=0,0,IF(L26=0,1,IF(M26<0,0,IF(M26/L26>1.2,IF((M26/L26-1.2)*0.1+1.2>1.3,1.3,(M26/L26-1.2)*0.1+1.2),M26/L26)))) -> 0.45263228 | O26: 5 | P26: 71.9 | Q26: 94.9 | R26: =IF(S26=0,0,IF(P26=0,1,IF(Q26<0,0,IF(Q26/P26>1.2,IF((Q26/P26-1.2)*0.1+1.2>1.3,1.3,(Q26/P26-1.2)*0.1+1.2),Q26/P26)))) -> 1.2119889 | S26: 10 | T26: 12961 | U26: 13155 | V26: =IF(W26=0,0,IF(T26=0,1,IF(U26<0,0,IF(U26/T26>1.2,IF((U26/T26-1.2)*0.1+1.2>1.3,1.3,(U26/T26-1.2)*0.1+1.2),U26/T26)))) -> 1.014968 | W26: 10 | X26: 2870.9 | Y26: 2920 | Z26: =IF(AA26=0,0,IF(X26=0,1,IF(Y26<0,0,IF(Y26/X26>1.2,IF((Y26/X26-1.2)*0.1+1.2>1.3,1.3,(Y26/X26-1.2)*0.1+1.2),Y26/X26)))) -> 1.0171027 | AA26: 10 | AB26: 2129 | AC26: 2581 | AD26: =IF(AE26=0,0,IF(AB26=0,1,IF(AC26<0,0,IF(AC26/AB26>1.2,IF((AC26/AB26-1.2)*0.1+1.2>1.3,1.3,(AC26/AB26-1.2)*0.1+1.2),AC26/AB26)))) -> 1.2012306 | AE26: 12 | AF26: =(B26*C26+F26*G26+J26*K26+N26*O26+R26*S26+V26*W26+Z26*AA26+AD26*AE26)/(C26+G26+K26+O26+S26+W26+AA26+AE26) -> 1.0431324 | AG26: 49376 | AH26: =ROUND(AF26*AG26,1) -> 51505.7 | AI26: =AH26-AG26 -> 2129.7 | AJ26: 3669.3 | AL26: =AH26-AJ26-AK26 -> 47836.4 | AM26: 4143.2 | AO26: 4143.2 | AQ26: 4782.5 | AR26: 5781.4 | AS26: 3244.8 | AT26: 3513.4 | AU26: 1076.7 | AV26: 4336.3 | AW26: 4336.3 | AX26: 5161.8 | AY26: 6508.3 | AZ26: =ROUND(AL26-SUM(AM26:AY26),1) -> 808.5 | BE26: =IF(AND(AZ26>0,OR(BA26="+",BB26="+",BC26="+",BD26="+")),0,AZ26) -> 808.5
A27: Волжский | B27: 1 | C27: 10 | D27: 66041 | E27: 75707.006 | F27: =IF(G27=0,0,IF(D27=0,1,IF(E27<0,0,IF(E27/D27>1.2,IF((E27/D27-1.2)*0.1+1.2>1.3,1.3,(E27/D27-1.2)*0.1+1.2),E27/D27)))) -> 1.1463637 | G27: 10 | H27: 160 | I27: 171 | J27: =IF(K27=0,0,IF(H27=0,1,IF(I27<0,0,IF(I27/H27>1.2,IF((I27/H27-1.2)*0.1+1.2>1.3,1.3,(I27/H27-1.2)*0.1+1.2),I27/H27)))) -> 1.06875 | K27: 15 | L27: 258335 | M27: 389260 | N27: =IF(O27=0,0,IF(L27=0,1,IF(M27<0,0,IF(M27/L27>1.2,IF((M27/L27-1.2)*0.1+1.2>1.3,1.3,(M27/L27-1.2)*0.1+1.2),M27/L27)))) -> 1.2306803 | O27: 5 | P27: 78.9 | Q27: 84.8 | R27: =IF(S27=0,0,IF(P27=0,1,IF(Q27<0,0,IF(Q27/P27>1.2,IF((Q27/P27-1.2)*0.1+1.2>1.3,1.3,(Q27/P27-1.2)*0.1+1.2),Q27/P27)))) -> 1.0747782 | S27: 10 | T27: 15111.2 | U27: 14957.8 | V27: =IF(W27=0,0,IF(T27=0,1,IF(U27<0,0,IF(U27/T27>1.2,IF((U27/T27-1.2)*0.1+1.2>1.3,1.3,(U27/T27-1.2)*0.1+1.2),U27/T27)))) -> 0.98984859 | W27: 10 | X27: 4298.5 | Y27: 4365.048 | Z27: =IF(AA27=0,0,IF(X27=0,1,IF(Y27<0,0,IF(Y27/X27>1.2,IF((Y27/X27-1.2)*0.1+1.2>1.3,1.3,(Y27/X27-1.2)*0.1+1.2),Y27/X27)))) -> 1.0154817 | AA27: 10 | AB27: 17220 | AC27: 21217 | AD27: =IF(AE27=0,0,IF(AB27=0,1,IF(AC27<0,0,IF(AC27/AB27>1.2,IF((AC27/AB27-1.2)*0.1+1.2>1.3,1.3,(AC27/AB27-1.2)*0.1+1.2),AC27/AB27)))) -> 1.2032114 | AE27: 12 | AF27: =(B27*C27+F27*G27+J27*K27+N27*O27+R27*S27+V27*W27+Z27*AA27+AD27*AE27)/(C27+G27+K27+O27+S27+W27+AA27+AE27) -> 1.0839989 | AG27: 120465 | AH27: =ROUND(AF27*AG27,1) -> 130583.9 | AI27: =AH27-AG27 -> 10118.9 | AJ27: 2726.5 | AL27: =AH27-AJ27-AK27 -> 127857.4 | AM27: 10140.5 | AO27: 10140.4 | AQ27: 10550.2 | AR27: 11094 | AS27: 9390.7 | AT27: 10040.4 | AU27: 8471.8 | AV27: 10364.9 | AW27: 11312.5 | AX27: 16405.1 | AY27: 19474.4 | AZ27: =ROUND(AL27-SUM(AM27:AY27),1) -> 472.5 | BE27: =IF(AND(AZ27>0,OR(BA27="+",BB27="+",BC27="+",BD27="+")),0,AZ27) -> 472.5
A28: Елховский | B28: 1 | C28: 10 | D28: 3325 | E28: 4063.589 | F28: =IF(G28=0,0,IF(D28=0,1,IF(E28<0,0,IF(E28/D28>1.2,IF((E28/D28-1.2)*0.1+1.2>1.3,1.3,(E28/D28-1.2)*0.1+1.2),E28/D28)))) -> 1.2022132 | G28: 10 | H28: 174 | I28: 181 | J28: =IF(K28=0,0,IF(H28=0,1,IF(I28<0,0,IF(I28/H28>1.2,IF((I28/H28-1.2)*0.1+1.2>1.3,1.3,(I28/H28-1.2)*0.1+1.2),I28/H28)))) -> 1.0402299 | K28: 15 | L28: 4132 | M28: 2954 | N28: =IF(O28=0,0,IF(L28=0,1,IF(M28<0,0,IF(M28/L28>1.2,IF((M28/L28-1.2)*0.1+1.2>1.3,1.3,(M28/L28-1.2)*0.1+1.2),M28/L28)))) -> 0.71490803 | O28: 5 | P28: 67.3 | Q28: 90.2 | R28: =IF(S28=0,0,IF(P28=0,1,IF(Q28<0,0,IF(Q28/P28>1.2,IF((Q28/P28-1.2)*0.1+1.2>1.3,1.3,(Q28/P28-1.2)*0.1+1.2),Q28/P28)))) -> 1.2140267 | S28: 10 | T28: 6110.5 | U28: 6951.924 | V28: =IF(W28=0,0,IF(T28=0,1,IF(U28<0,0,IF(U28/T28>1.2,IF((U28/T28-1.2)*0.1+1.2>1.3,1.3,(U28/T28-1.2)*0.1+1.2),U28/T28)))) -> 1.1377013 | W28: 10 | X28: 969.4 | Y28: 903.468 | Z28: =IF(AA28=0,0,IF(X28=0,1,IF(Y28<0,0,IF(Y28/X28>1.2,IF((Y28/X28-1.2)*0.1+1.2>1.3,1.3,(Y28/X28-1.2)*0.1+1.2),Y28/X28)))) -> 0.9319868 | AA28: 10 | AB28: 754 | AC28: 1129 | AD28: =IF(AE28=0,0,IF(AB28=0,1,IF(AC28<0,0,IF(AC28/AB28>1.2,IF((AC28/AB28-1.2)*0.1+1.2>1.3,1.3,(AC28/AB28-1.2)*0.1+1.2),AC28/AB28)))) -> 1.2297347 | AE28: 12 | AF28: =(B28*C28+F28*G28+J28*K28+N28*O28+R28*S28+V28*W28+Z28*AA28+AD28*AE28)/(C28+G28+K28+O28+S28+W28+AA28+AE28) -> 1.0828547 | AG28: 21954 | AH28: =ROUND(AF28*AG28,1) -> 23773 | AI28: =AH28-AG28 -> 1819 | AJ28: 856.4 | AL28: =AH28-AJ28-AK28 -> 22916.6 | AM28: 1811.1 | AO28: 1811.1 | AQ28: 1919.1 | AR28: 2194.5 | AS28: 1591.5 | AT28: 1906.1 | AU28: 963.5 | AV28: 1864.7 | AW28: 1864.8 | AX28: 3617.5 | AY28: 2952.6 | AZ28: =ROUND(AL28-SUM(AM28:AY28),1) -> 420.1 | BE28: =IF(AND(AZ28>0,OR(BA28="+",BB28="+",BC28="+",BD28="+")),0,AZ28) -> 420.1
A29: Исаклинский | B29: 1 | C29: 10 | D29: 3478 | E29: 3972.669 | F29: =IF(G29=0,0,IF(D29=0,1,IF(E29<0,0,IF(E29/D29>1.2,IF((E29/D29-1.2)*0.1+1.2>1.3,1.3,(E29/D29-1.2)*0.1+1.2),E29/D29)))) -> 1.142228 | G29: 10 | H29: 190 | I29: 194.7 | J29: =IF(K29=0,0,IF(H29=0,1,IF(I29<0,0,IF(I29/H29>1.2,IF((I29/H29-1.2)*0.1+1.2>1.3,1.3,(I29/H29-1.2)*0.1+1.2),I29/H29)))) -> 1.0247368 | K29: 15 | L29: 7074 | M29: 1721 | N29: =IF(O29=0,0,IF(L29=0,1,IF(M29<0,0,IF(M29/L29>1.2,IF((M29/L29-1.2)*0.1+1.2>1.3,1.3,(M29/L29-1.2)*0.1+1.2),M29/L29)))) -> 0.24328527 | O29: 5 | P29: 51.7 | Q29: 59.6 | R29: =IF(S29=0,0,IF(P29=0,1,IF(Q29<0,0,IF(Q29/P29>1.2,IF((Q29/P29-1.2)*0.1+1.2>1.3,1.3,(Q29/P29-1.2)*0.1+1.2),Q29/P29)))) -> 1.1528046 | S29: 10 | T29: 23602.8 | U29: 23618.633 | V29: =IF(W29=0,0,IF(T29=0,1,IF(U29<0,0,IF(U29/T29>1.2,IF((U29/T29-1.2)*0.1+1.2>1.3,1.3,(U29/T29-1.2)*0.1+1.2),U29/T29)))) -> 1.0006708 | W29: 10 | X29: 3131.1 | Y29: 3086.77 | Z29: =IF(AA29=0,0,IF(X29=0,1,IF(Y29<0,0,IF(Y29/X29>1.2,IF((Y29/X29-1.2)*0.1+1.2>1.3,1.3,(Y29/X29-1.2)*0.1+1.2),Y29/X29)))) -> 0.98584204 | AA29: 10 | AB29: 1588 | AC29: 1955 | AD29: =IF(AE29=0,0,IF(AB29=0,1,IF(AC29<0,0,IF(AC29/AB29>1.2,IF((AC29/AB29-1.2)*0.1+1.2>1.3,1.3,(AC29/AB29-1.2)*0.1+1.2),AC29/AB29)))) -> 1.2031108 | AE29: 12 | AF29: =(B29*C29+F29*G29+J29*K29+N29*O29+R29*S29+V29*W29+Z29*AA29+AD29*AE29)/(C29+G29+K29+O29+S29+W29+AA29+AE29) -> 1.0224422 | AG29: 46056 | AH29: =ROUND(AF29*AG29,1) -> 47089.6 | AI29: =AH29-AG29 -> 1033.6 | AJ29: 3591 | AL29: =AH29-AJ29-AK29 -> 43498.6 | AM29: 3372.6 | AO29: 3372.7 | AQ29: 5332.2 | AR29: 5317.3 | AS29: 2912.4 | AT29: 3170.9 | AU29: 1690.3 | AV29: 4108.4 | AW29: 4108.6 | AX29: 5439.1 | AY29: 6822.4 | AZ29: =ROUND(AL29-SUM(AM29:AY29),1) -> -2148.3 | BE29: =IF(AND(AZ29>0,OR(BA29="+",BB29="+",BC29="+",BD29="+")),0,AZ29) -> -2148.3
A30: Камышлинский | B30: 1 | C30: 10 | D30: 3096 | E30: 3734.043 | F30: =IF(G30=0,0,IF(D30=0,1,IF(E30<0,0,IF(E30/D30>1.2,IF((E30/D30-1.2)*0.1+1.2>1.3,1.3,(E30/D30-1.2)*0.1+1.2),E30/D30)))) -> 1.2006086 | G30: 10 | H30: 160 | I30: 167 | J30: =IF(K30=0,0,IF(H30=0,1,IF(I30<0,0,IF(I30/H30>1.2,IF((I30/H30-1.2)*0.1+1.2>1.3,1.3,(I30/H30-1.2)*0.1+1.2),I30/H30)))) -> 1.04375 | K30: 15 | L30: 4277 | M30: 2498 | N30: =IF(O30=0,0,IF(L30=0,1,IF(M30<0,0,IF(M30/L30>1.2,IF((M30/L30-1.2)*0.1+1.2>1.3,1.3,(M30/L30-1.2)*0.1+1.2),M30/L30)))) -> 0.58405424 | O30: 5 | P30: 27 | Q30: 31.1 | R30: =IF(S30=0,0,IF(P30=0,1,IF(Q30<0,0,IF(Q30/P30>1.2,IF((Q30/P30-1.2)*0.1+1.2>1.3,1.3,(Q30/P30-1.2)*0.1+1.2),Q30/P30)))) -> 1.1518519 | S30: 10 | T30: 4268.7 | U30: 4214.2 | V30: =IF(W30=0,0,IF(T30=0,1,IF(U30<0,0,IF(U30/T30>1.2,IF((U30/T30-1.2)*0.1+1.2>1.3,1.3,(U30/T30-1.2)*0.1+1.2),U30/T30)))) -> 0.98723265 | W30: 10 | X30: 1448.3 | Y30: 1101.432 | Z30: =IF(AA30=0,0,IF(X30=0,1,IF(Y30<0,0,IF(Y30/X30>1.2,IF((Y30/X30-1.2)*0.1+1.2>1.3,1.3,(Y30/X30-1.2)*0.1+1.2),Y30/X30)))) -> 0.7604999 | AA30: 10 | AB30: 774 | AC30: 1112 | AD30: =IF(AE30=0,0,IF(AB30=0,1,IF(AC30<0,0,IF(AC30/AB30>1.2,IF((AC30/AB30-1.2)*0.1+1.2>1.3,1.3,(AC30/AB30-1.2)*0.1+1.2),AC30/AB30)))) -> 1.2236693 | AE30: 12 | AF30: =(B30*C30+F30*G30+J30*K30+N30*O30+R30*S30+V30*W30+Z30*AA30+AD30*AE30)/(C30+G30+K30+O30+S30+W30+AA30+AE30) -> 1.0275912 | AG30: 35865 | AH30: =ROUND(AF30*AG30,1) -> 36854.6 | AI30: =AH30-AG30 -> 989.6 | AJ30: 2496.8 | AL30: =AH30-AJ30-AK30 -> 34357.8 | AM30: 2134.6 | AO30: 2134.7 | AQ30: 2310.7 | AR30: 3024.9 | AS30: 1402.4 | AT30: 1792.8 | AU30: 352 | AV30: 2235.6 | AW30: 2235.5 | AX30: 12875.8 | AY30: 4178.5 | AZ30: =ROUND(AL30-SUM(AM30:AY30),1) -> -319.7 | BE30: =IF(AND(AZ30>0,OR(BA30="+",BB30="+",BC30="+",BD30="+")),0,AZ30) -> -319.7
A31: Кинельский | B31: 1 | C31: 10 | D31: 9858 | E31: 11644.196 | F31: =IF(G31=0,0,IF(D31=0,1,IF(E31<0,0,IF(E31/D31>1.2,IF((E31/D31-1.2)*0.1+1.2>1.3,1.3,(E31/D31-1.2)*0.1+1.2),E31/D31)))) -> 1.1811925 | G31: 10 | H31: 160 | I31: 197 | J31: =IF(K31=0,0,IF(H31=0,1,IF(I31<0,0,IF(I31/H31>1.2,IF((I31/H31-1.2)*0.1+1.2>1.3,1.3,(I31/H31-1.2)*0.1+1.2),I31/H31)))) -> 1.203125 | K31: 15 | L31: 41544 | M31: 36222 | N31: =IF(O31=0,0,IF(L31=0,1,IF(M31<0,0,IF(M31/L31>1.2,IF((M31/L31-1.2)*0.1+1.2>1.3,1.3,(M31/L31-1.2)*0.1+1.2),M31/L31)))) -> 0.87189486 | O31: 5 | P31: 98 | Q31: 126.9 | R31: =IF(S31=0,0,IF(P31=0,1,IF(Q31<0,0,IF(Q31/P31>1.2,IF((Q31/P31-1.2)*0.1+1.2>1.3,1.3,(Q31/P31-1.2)*0.1+1.2),Q31/P31)))) -> 1.2094898 | S31: 10 | T31: 28333.9 | U31: 32609.198 | V31: =IF(W31=0,0,IF(T31=0,1,IF(U31<0,0,IF(U31/T31>1.2,IF((U31/T31-1.2)*0.1+1.2>1.3,1.3,(U31/T31-1.2)*0.1+1.2),U31/T31)))) -> 1.1508899 | W31: 10 | X31: 12070.7 | Y31: 17193.25 | Z31: =IF(AA31=0,0,IF(X31=0,1,IF(Y31<0,0,IF(Y31/X31>1.2,IF((Y31/X31-1.2)*0.1+1.2>1.3,1.3,(Y31/X31-1.2)*0.1+1.2),Y31/X31)))) -> 1.2224379 | AA31: 10 | AB31: 4312 | AC31: 4841 | AD31: =IF(AE31=0,0,IF(AB31=0,1,IF(AC31<0,0,IF(AC31/AB31>1.2,IF((AC31/AB31-1.2)*0.1+1.2>1.3,1.3,(AC31/AB31-1.2)*0.1+1.2),AC31/AB31)))) -> 1.1226809 | AE31: 12 | AF31: =(B31*C31+F31*G31+J31*K31+N31*O31+R31*S31+V31*W31+Z31*AA31+AD31*AE31)/(C31+G31+K31+O31+S31+W31+AA31+AE31) -> 1.140471 | AG31: 35463 | AH31: =ROUND(AF31*AG31,1) -> 40444.5 | AI31: =AH31-AG31 -> 4981.5 | AJ31: 0 | AL31: =AH31-AJ31-AK31 -> 40444.5 | AM31: 3107.5 | AO31: 3107.6 | AQ31: 3000.2 | AR31: 1411.1 | AS31: 2656.6 | AT31: 3258.3 | AU31: 7981.3 | AV31: 3503.2 | AW31: 3503.2 | AX31: 4057.7 | AY31: 5024.5 | AZ31: =ROUND(AL31-SUM(AM31:AY31),1) -> -166.7 | BE31: =IF(AND(AZ31>0,OR(BA31="+",BB31="+",BC31="+",BD31="+")),0,AZ31) -> -166.7
A32: Кинель-Черкасский | B32: 1 | C32: 10 | D32: 18059 | E32: 19888.543 | F32: =IF(G32=0,0,IF(D32=0,1,IF(E32<0,0,IF(E32/D32>1.2,IF((E32/D32-1.2)*0.1+1.2>1.3,1.3,(E32/D32-1.2)*0.1+1.2),E32/D32)))) -> 1.1013092 | G32: 10 | H32: 190 | I32: 192 | J32: =IF(K32=0,0,IF(H32=0,1,IF(I32<0,0,IF(I32/H32>1.2,IF((I32/H32-1.2)*0.1+1.2>1.3,1.3,(I32/H32-1.2)*0.1+1.2),I32/H32)))) -> 1.0105263 | K32: 15 | L32: 30467 | M32: 14920 | N32: =IF(O32=0,0,IF(L32=0,1,IF(M32<0,0,IF(M32/L32>1.2,IF((M32/L32-1.2)*0.1+1.2>1.3,1.3,(M32/L32-1.2)*0.1+1.2),M32/L32)))) -> 0.48971018 | O32: 5 | P32: 145.9 | Q32: 166.8 | R32: =IF(S32=0,0,IF(P32=0,1,IF(Q32<0,0,IF(Q32/P32>1.2,IF((Q32/P32-1.2)*0.1+1.2>1.3,1.3,(Q32/P32-1.2)*0.1+1.2),Q32/P32)))) -> 1.1432488 | S32: 10 | T32: 12062.1 | U32: 12062.1 | V32: =IF(W32=0,0,IF(T32=0,1,IF(U32<0,0,IF(U32/T32>1.2,IF((U32/T32-1.2)*0.1+1.2>1.3,1.3,(U32/T32-1.2)*0.1+1.2),U32/T32)))) -> 1 | W32: 10 | X32: 34750 | Y32: 47480.131 | Z32: =IF(AA32=0,0,IF(X32=0,1,IF(Y32<0,0,IF(Y32/X32>1.2,IF((Y32/X32-1.2)*0.1+1.2>1.3,1.3,(Y32/X32-1.2)*0.1+1.2),Y32/X32)))) -> 1.2166335 | AA32: 10 | AB32: 4606 | AC32: 5518 | AD32: =IF(AE32=0,0,IF(AB32=0,1,IF(AC32<0,0,IF(AC32/AB32>1.2,IF((AC32/AB32-1.2)*0.1+1.2>1.3,1.3,(AC32/AB32-1.2)*0.1+1.2),AC32/AB32)))) -> 1.1980026 | AE32: 12 | AF32: =(B32*C32+F32*G32+J32*K32+N32*O32+R32*S32+V32*W32+Z32*AA32+AD32*AE32)/(C32+G32+K32+O32+S32+W32+AA32+AE32) -> 1.0560292 | AG32: 72480 | AH32: =ROUND(AF32*AG32,1) -> 76541 | AI32: =AH32-AG32 -> 4061 | AJ32: 0 | AL32: =AH32-AJ32-AK32 -> 76541 | AM32: 6200.2 | AO32: 6200.2 | AQ32: 6369.9 | AR32: 8390.1 | AS32: 6790.1 | AT32: 7145.9 | AU32: 2556.6 | AV32: 6236.2 | AW32: 6236.1 | AX32: 8936.7 | AY32: 10390.2 | AZ32: =ROUND(AL32-SUM(AM32:AY32),1) -> 1088.8 | BE32: =IF(AND(AZ32>0,OR(BA32="+",BB32="+",BC32="+",BD32="+")),0,AZ32) -> 1088.8
A33: Клявлинский | B33: 1 | C33: 10 | D33: 4219 | E33: 4996.62 | F33: =IF(G33=0,0,IF(D33=0,1,IF(E33<0,0,IF(E33/D33>1.2,IF((E33/D33-1.2)*0.1+1.2>1.3,1.3,(E33/D33-1.2)*0.1+1.2),E33/D33)))) -> 1.1843138 | G33: 10 | H33: 190 | I33: 187 | J33: =IF(K33=0,0,IF(H33=0,1,IF(I33<0,0,IF(I33/H33>1.2,IF((I33/H33-1.2)*0.1+1.2>1.3,1.3,(I33/H33-1.2)*0.1+1.2),I33/H33)))) -> 0.98421053 | K33: 15 | L33: 5837 | M33: 2855 | N33: =IF(O33=0,0,IF(L33=0,1,IF(M33<0,0,IF(M33/L33>1.2,IF((M33/L33-1.2)*0.1+1.2>1.3,1.3,(M33/L33-1.2)*0.1+1.2),M33/L33)))) -> 0.48912112 | O33: 5 | P33: 29.5 | Q33: 33.4 | R33: =IF(S33=0,0,IF(P33=0,1,IF(Q33<0,0,IF(Q33/P33>1.2,IF((Q33/P33-1.2)*0.1+1.2>1.3,1.3,(Q33/P33-1.2)*0.1+1.2),Q33/P33)))) -> 1.1322034 | S33: 10 | T33: 6965.1 | U33: 8046.715 | V33: =IF(W33=0,0,IF(T33=0,1,IF(U33<0,0,IF(U33/T33>1.2,IF((U33/T33-1.2)*0.1+1.2>1.3,1.3,(U33/T33-1.2)*0.1+1.2),U33/T33)))) -> 1.1552907 | W33: 10 | X33: 1352.5 | Y33: 927.034 | Z33: =IF(AA33=0,0,IF(X33=0,1,IF(Y33<0,0,IF(Y33/X33>1.2,IF((Y33/X33-1.2)*0.1+1.2>1.3,1.3,(Y33/X33-1.2)*0.1+1.2),Y33/X33)))) -> 0.68542255 | AA33: 10 | AB33: 1275 | AC33: 1639 | AD33: =IF(AE33=0,0,IF(AB33=0,1,IF(AC33<0,0,IF(AC33/AB33>1.2,IF((AC33/AB33-1.2)*0.1+1.2>1.3,1.3,(AC33/AB33-1.2)*0.1+1.2),AC33/AB33)))) -> 1.208549 | AE33: 12 | AF33: =(B33*C33+F33*G33+J33*K33+N33*O33+R33*S33+V33*W33+Z33*AA33+AD33*AE33)/(C33+G33+K33+O33+S33+W33+AA33+AE33) -> 1.0156543 | AG33: 59378 | AH33: =ROUND(AF33*AG33,1) -> 60307.5 | AI33: =AH33-AG33 -> 929.5 | AJ33: 3679.2 | AL33: =AH33-AJ33-AK33 -> 56628.3 | AM33: 2693.2 | AO33: 2693.2 | AP33: 5925 | AQ33: 0 | AR33: 628.9 | AS33: 1513.3 | AT33: 1947 | AU33: 2390 | AV33: 3067.2 | AW33: 3067.1 | AX33: 27835.8 | AY33: 6737.8 | AZ33: =ROUND(AL33-SUM(AM33:AY33),1) -> -1870.2 | BE33: =IF(AND(AZ33>0,OR(BA33="+",BB33="+",BC33="+",BD33="+")),0,AZ33) -> -1870.2
A34: Кошкинский | B34: 1 | C34: 10 | D34: 13083 | E34: 13777.787 | F34: =IF(G34=0,0,IF(D34=0,1,IF(E34<0,0,IF(E34/D34>1.2,IF((E34/D34-1.2)*0.1+1.2>1.3,1.3,(E34/D34-1.2)*0.1+1.2),E34/D34)))) -> 1.0531061 | G34: 10 | H34: 190 | I34: 172 | J34: =IF(K34=0,0,IF(H34=0,1,IF(I34<0,0,IF(I34/H34>1.2,IF((I34/H34-1.2)*0.1+1.2>1.3,1.3,(I34/H34-1.2)*0.1+1.2),I34/H34)))) -> 0.90526316 | K34: 15 | L34: 8779 | M34: 3892 | N34: =IF(O34=0,0,IF(L34=0,1,IF(M34<0,0,IF(M34/L34>1.2,IF((M34/L34-1.2)*0.1+1.2>1.3,1.3,(M34/L34-1.2)*0.1+1.2),M34/L34)))) -> 0.44333068 | O34: 5 | P34: 135.4 | Q34: 163 | R34: =IF(S34=0,0,IF(P34=0,1,IF(Q34<0,0,IF(Q34/P34>1.2,IF((Q34/P34-1.2)*0.1+1.2>1.3,1.3,(Q34/P34-1.2)*0.1+1.2),Q34/P34)))) -> 1.200384 | S34: 10 | T34: 28394.6 | U34: 27916.02 | V34: =IF(W34=0,0,IF(T34=0,1,IF(U34<0,0,IF(U34/T34>1.2,IF((U34/T34-1.2)*0.1+1.2>1.3,1.3,(U34/T34-1.2)*0.1+1.2),U34/T34)))) -> 0.98314539 | W34: 10 | X34: 4110.6 | Y34: 3595.484 | Z34: =IF(AA34=0,0,IF(X34=0,1,IF(Y34<0,0,IF(Y34/X34>1.2,IF((Y34/X34-1.2)*0.1+1.2>1.3,1.3,(Y34/X34-1.2)*0.1+1.2),Y34/X34)))) -> 0.87468593 | AA34: 10 | AB34: 2764 | AC34: 2829 | AD34: =IF(AE34=0,0,IF(AB34=0,1,IF(AC34<0,0,IF(AC34/AB34>1.2,IF((AC34/AB34-1.2)*0.1+1.2>1.3,1.3,(AC34/AB34-1.2)*0.1+1.2),AC34/AB34)))) -> 1.0235166 | AE34: 12 | AF34: =(B34*C34+F34*G34+J34*K34+N34*O34+R34*S34+V34*W34+Z34*AA34+AD34*AE34)/(C34+G34+K34+O34+S34+W34+AA34+AE34) -> 0.96574409 | AG34: 47338 | AH34: =ROUND(AF34*AG34,1) -> 45716.4 | AI34: =AH34-AG34 -> -1621.6 | AJ34: 4012.6 | AL34: =AH34-AJ34-AK34 -> 41703.8 | AM34: 3975.7 | AN34: 4000 | AO34: 0 | AQ34: 4005.7 | AR34: 4702.3 | AS34: 2565.9 | AT34: 3025.3 | AU34: 2237.7 | AV34: 4075.1 | AW34: 4075 | AX34: 3255.1 | AY34: 5959 | AZ34: =ROUND(AL34-SUM(AM34:AY34),1) -> -173 | BE34: =IF(AND(AZ34>0,OR(BA34="+",BB34="+",BC34="+",BD34="+")),0,AZ34) -> -173
A35: Красноармейский | B35: 1 | C35: 10 | D35: 5298 | E35: 5618.395 | F35: =IF(G35=0,0,IF(D35=0,1,IF(E35<0,0,IF(E35/D35>1.2,IF((E35/D35-1.2)*0.1+1.2>1.3,1.3,(E35/D35-1.2)*0.1+1.2),E35/D35)))) -> 1.0604747 | G35: 10 | H35: 190 | I35: 188.1 | J35: =IF(K35=0,0,IF(H35=0,1,IF(I35<0,0,IF(I35/H35>1.2,IF((I35/H35-1.2)*0.1+1.2>1.3,1.3,(I35/H35-1.2)*0.1+1.2),I35/H35)))) -> 0.99 | K35: 15 | L35: 7150 | M35: 5212 | N35: =IF(O35=0,0,IF(L35=0,1,IF(M35<0,0,IF(M35/L35>1.2,IF((M35/L35-1.2)*0.1+1.2>1.3,1.3,(M35/L35-1.2)*0.1+1.2),M35/L35)))) -> 0.72895105 | O35: 5 | P35: 132.3 | Q35: 156.9 | R35: =IF(S35=0,0,IF(P35=0,1,IF(Q35<0,0,IF(Q35/P35>1.2,IF((Q35/P35-1.2)*0.1+1.2>1.3,1.3,(Q35/P35-1.2)*0.1+1.2),Q35/P35)))) -> 1.185941 | S35: 10 | T35: 18916.4 | U35: 15043.46 | V35: =IF(W35=0,0,IF(T35=0,1,IF(U35<0,0,IF(U35/T35>1.2,IF((U35/T35-1.2)*0.1+1.2>1.3,1.3,(U35/T35-1.2)*0.1+1.2),U35/T35)))) -> 0.7952602 | W35: 10 | X35: 12520.2 | Y35: 8410.109 | Z35: =IF(AA35=0,0,IF(X35=0,1,IF(Y35<0,0,IF(Y35/X35>1.2,IF((Y35/X35-1.2)*0.1+1.2>1.3,1.3,(Y35/X35-1.2)*0.1+1.2),Y35/X35)))) -> 0.67172322 | AA35: 10 | AB35: 2218 | AC35: 2599 | AD35: =IF(AE35=0,0,IF(AB35=0,1,IF(AC35<0,0,IF(AC35/AB35>1.2,IF((AC35/AB35-1.2)*0.1+1.2>1.3,1.3,(AC35/AB35-1.2)*0.1+1.2),AC35/AB35)))) -> 1.1717764 | AE35: 12 | AF35: =(B35*C35+F35*G35+J35*K35+N35*O35+R35*S35+V35*W35+Z35*AA35+AD35*AE35)/(C35+G35+K35+O35+S35+W35+AA35+AE35) -> 0.97183004 | AG35: 54391 | AH35: =ROUND(AF35*AG35,1) -> 52858.8 | AI35: =AH35-AG35 -> -1532.2 | AJ35: 1297.7 | AL35: =AH35-AJ35-AK35 -> 51561.1 | AM35: 3563.5 | AO35: 3563.4 | AQ35: 5496.6 | AR35: 6103.3 | AS35: 4162.5 | AT35: 4558.1 | AU35: 1334.9 | AV35: 4297.2 | AW35: 4297.2 | AX35: 9265.9 | AY35: 6369.7 | AZ35: =ROUND(AL35-SUM(AM35:AY35),1) -> -1451.2 | BE35: =IF(AND(AZ35>0,OR(BA35="+",BB35="+",BC35="+",BD35="+")),0,AZ35) -> -1451.2
A36: Красноярский | B36: 1 | C36: 10 | D36: 38916 | E36: 42321.434 | F36: =IF(G36=0,0,IF(D36=0,1,IF(E36<0,0,IF(E36/D36>1.2,IF((E36/D36-1.2)*0.1+1.2>1.3,1.3,(E36/D36-1.2)*0.1+1.2),E36/D36)))) -> 1.0875073 | G36: 10 | H36: 160 | I36: 172 | J36: =IF(K36=0,0,IF(H36=0,1,IF(I36<0,0,IF(I36/H36>1.2,IF((I36/H36-1.2)*0.1+1.2>1.3,1.3,(I36/H36-1.2)*0.1+1.2),I36/H36)))) -> 1.075 | K36: 15 | L36: 137831 | M36: 143790 | N36: =IF(O36=0,0,IF(L36=0,1,IF(M36<0,0,IF(M36/L36>1.2,IF((M36/L36-1.2)*0.1+1.2>1.3,1.3,(M36/L36-1.2)*0.1+1.2),M36/L36)))) -> 1.0432341 | O36: 5 | P36: 70.3 | Q36: 92.1 | R36: =IF(S36=0,0,IF(P36=0,1,IF(Q36<0,0,IF(Q36/P36>1.2,IF((Q36/P36-1.2)*0.1+1.2>1.3,1.3,(Q36/P36-1.2)*0.1+1.2),Q36/P36)))) -> 1.21101 | S36: 10 | T36: 18254.4 | U36: 19020.33 | V36: =IF(W36=0,0,IF(T36=0,1,IF(U36<0,0,IF(U36/T36>1.2,IF((U36/T36-1.2)*0.1+1.2>1.3,1.3,(U36/T36-1.2)*0.1+1.2),U36/T36)))) -> 1.0419587 | W36: 10 | X36: 4230 | Y36: 4144.798 | Z36: =IF(AA36=0,0,IF(X36=0,1,IF(Y36<0,0,IF(Y36/X36>1.2,IF((Y36/X36-1.2)*0.1+1.2>1.3,1.3,(Y36/X36-1.2)*0.1+1.2),Y36/X36)))) -> 0.97985768 | AA36: 10 | AB36: 10736 | AC36: 12136 | AD36: =IF(AE36=0,0,IF(AB36=0,1,IF(AC36<0,0,IF(AC36/AB36>1.2,IF((AC36/AB36-1.2)*0.1+1.2>1.3,1.3,(AC36/AB36-1.2)*0.1+1.2),AC36/AB36)))) -> 1.1304024 | AE36: 12 | AF36: =(B36*C36+F36*G36+J36*K36+N36*O36+R36*S36+V36*W36+Z36*AA36+AD36*AE36)/(C36+G36+K36+O36+S36+W36+AA36+AE36) -> 1.0745041 | AG36: 66557 | AH36: =ROUND(AF36*AG36,1) -> 71515.8 | AI36: =AH36-AG36 -> 4958.8 | AJ36: 0 | AL36: =AH36-AJ36-AK36 -> 71515.8 | AM36: 5714.7 | AO36: 5714.8 | AQ36: 4642 | AR36: 6084 | AS36: 5538.9 | AT36: 6712.8 | AU36: 4608.4 | AV36: 5573.6 | AW36: 5573.6 | AX36: 12679.4 | AY36: 10347.4 | AZ36: =ROUND(AL36-SUM(AM36:AY36),1) -> -1673.8 | BE36: =IF(AND(AZ36>0,OR(BA36="+",BB36="+",BC36="+",BD36="+")),0,AZ36) -> -1673.8
A37: Нефтегорский | B37: 1 | C37: 10 | D37: 17314 | E37: 18176.734 | F37: =IF(G37=0,0,IF(D37=0,1,IF(E37<0,0,IF(E37/D37>1.2,IF((E37/D37-1.2)*0.1+1.2>1.3,1.3,(E37/D37-1.2)*0.1+1.2),E37/D37)))) -> 1.0498287 | G37: 10 | H37: 160 | I37: 192 | J37: =IF(K37=0,0,IF(H37=0,1,IF(I37<0,0,IF(I37/H37>1.2,IF((I37/H37-1.2)*0.1+1.2>1.3,1.3,(I37/H37-1.2)*0.1+1.2),I37/H37)))) -> 1.2 | K37: 15 | L37: 11580 | M37: 6531 | N37: =IF(O37=0,0,IF(L37=0,1,IF(M37<0,0,IF(M37/L37>1.2,IF((M37/L37-1.2)*0.1+1.2>1.3,1.3,(M37/L37-1.2)*0.1+1.2),M37/L37)))) -> 0.56398964 | O37: 5 | P37: 82 | Q37: 110.4 | R37: =IF(S37=0,0,IF(P37=0,1,IF(Q37<0,0,IF(Q37/P37>1.2,IF((Q37/P37-1.2)*0.1+1.2>1.3,1.3,(Q37/P37-1.2)*0.1+1.2),Q37/P37)))) -> 1.2146341 | S37: 10 | T37: 9414.6 | U37: 9753.735 | V37: =IF(W37=0,0,IF(T37=0,1,IF(U37<0,0,IF(U37/T37>1.2,IF((U37/T37-1.2)*0.1+1.2>1.3,1.3,(U37/T37-1.2)*0.1+1.2),U37/T37)))) -> 1.0360222 | W37: 10 | X37: 2820.8 | Y37: 2829.952 | Z37: =IF(AA37=0,0,IF(X37=0,1,IF(Y37<0,0,IF(Y37/X37>1.2,IF((Y37/X37-1.2)*0.1+1.2>1.3,1.3,(Y37/X37-1.2)*0.1+1.2),Y37/X37)))) -> 1.0032445 | AA37: 10 | AB37: 2075 | AC37: 2613 | AD37: =IF(AE37=0,0,IF(AB37=0,1,IF(AC37<0,0,IF(AC37/AB37>1.2,IF((AC37/AB37-1.2)*0.1+1.2>1.3,1.3,(AC37/AB37-1.2)*0.1+1.2),AC37/AB37)))) -> 1.2059277 | AE37: 12 | AF37: =(B37*C37+F37*G37+J37*K37+N37*O37+R37*S37+V37*W37+Z37*AA37+AD37*AE37)/(C37+G37+K37+O37+S37+W37+AA37+AE37) -> 1.0771753 | AG37: 47367 | AH37: =ROUND(AF37*AG37,1) -> 51022.6 | AI37: =AH37-AG37 -> 3655.6 | AJ37: 0 | AL37: =AH37-AJ37-AK37 -> 51022.6 | AM37: 4099.1 | AO37: 4099.1 | AQ37: 3982 | AR37: 4257.7 | AS37: 4109.5 | AT37: 4200.9 | AU37: 2249 | AV37: 3856.8 | AW37: 5268.4 | AX37: 7924.9 | AY37: 6851.5 | AZ37: =ROUND(AL37-SUM(AM37:AY37),1) -> 123.7 | BE37: =IF(AND(AZ37>0,OR(BA37="+",BB37="+",BC37="+",BD37="+")),0,AZ37) -> 123.7
A38: Пестравский | B38: 1 | C38: 10 | D38: 5151 | E38: 6125.825 | F38: =IF(G38=0,0,IF(D38=0,1,IF(E38<0,0,IF(E38/D38>1.2,IF((E38/D38-1.2)*0.1+1.2>1.3,1.3,(E38/D38-1.2)*0.1+1.2),E38/D38)))) -> 1.1892497 | G38: 10 | H38: 160 | I38: 159 | J38: =IF(K38=0,0,IF(H38=0,1,IF(I38<0,0,IF(I38/H38>1.2,IF((I38/H38-1.2)*0.1+1.2>1.3,1.3,(I38/H38-1.2)*0.1+1.2),I38/H38)))) -> 0.99375 | K38: 15 | L38: 4480 | M38: 2852 | N38: =IF(O38=0,0,IF(L38=0,1,IF(M38<0,0,IF(M38/L38>1.2,IF((M38/L38-1.2)*0.1+1.2>1.3,1.3,(M38/L38-1.2)*0.1+1.2),M38/L38)))) -> 0.63660714 | O38: 5 | P38: 128.7 | Q38: 132.9 | R38: =IF(S38=0,0,IF(P38=0,1,IF(Q38<0,0,IF(Q38/P38>1.2,IF((Q38/P38-1.2)*0.1+1.2>1.3,1.3,(Q38/P38-1.2)*0.1+1.2),Q38/P38)))) -> 1.032634 | S38: 10 | T38: 7221.5 | U38: 7121.501 | V38: =IF(W38=0,0,IF(T38=0,1,IF(U38<0,0,IF(U38/T38>1.2,IF((U38/T38-1.2)*0.1+1.2>1.3,1.3,(U38/T38-1.2)*0.1+1.2),U38/T38)))) -> 0.9861526 | W38: 10 | X38: 2442.1 | Y38: 1566.22 | Z38: =IF(AA38=0,0,IF(X38=0,1,IF(Y38<0,0,IF(Y38/X38>1.2,IF((Y38/X38-1.2)*0.1+1.2>1.3,1.3,(Y38/X38-1.2)*0.1+1.2),Y38/X38)))) -> 0.64134147 | AA38: 10 | AB38: 2426 | AC38: 2374 | AD38: =IF(AE38=0,0,IF(AB38=0,1,IF(AC38<0,0,IF(AC38/AB38>1.2,IF((AC38/AB38-1.2)*0.1+1.2>1.3,1.3,(AC38/AB38-1.2)*0.1+1.2),AC38/AB38)))) -> 0.97856554 | AE38: 12 | AF38: =(B38*C38+F38*G38+J38*K38+N38*O38+R38*S38+V38*W38+Z38*AA38+AD38*AE38)/(C38+G38+K38+O38+S38+W38+AA38+AE38) -> 0.95519329 | AG38: 26530 | AH38: =ROUND(AF38*AG38,1) -> 25341.3 | AI38: =AH38-AG38 -> -1188.7 | AJ38: 0 | AL38: =AH38-AJ38-AK38 -> 25341.3 | AM38: 2288.5 | AO38: 2288.4 | AQ38: 2419.1 | AR38: 2579.9 | AS38: 2394.1 | AT38: 2596 | AU38: 1496.2 | AV38: 2294.6 | AW38: 2294.6 | AX38: 2423.6 | AY38: 3675.8 | AZ38: =ROUND(AL38-SUM(AM38:AY38),1) -> -1409.5 | BE38: =IF(AND(AZ38>0,OR(BA38="+",BB38="+",BC38="+",BD38="+")),0,AZ38) -> -1409.5
A39: Похвистневский | B39: 1 | C39: 10 | D39: 6233 | E39: 6682.237 | F39: =IF(G39=0,0,IF(D39=0,1,IF(E39<0,0,IF(E39/D39>1.2,IF((E39/D39-1.2)*0.1+1.2>1.3,1.3,(E39/D39-1.2)*0.1+1.2),E39/D39)))) -> 1.072074 | G39: 10 | H39: 160 | I39: 187 | J39: =IF(K39=0,0,IF(H39=0,1,IF(I39<0,0,IF(I39/H39>1.2,IF((I39/H39-1.2)*0.1+1.2>1.3,1.3,(I39/H39-1.2)*0.1+1.2),I39/H39)))) -> 1.16875 | K39: 15 | L39: 24609 | M39: 4280 | N39: =IF(O39=0,0,IF(L39=0,1,IF(M39<0,0,IF(M39/L39>1.2,IF((M39/L39-1.2)*0.1+1.2>1.3,1.3,(M39/L39-1.2)*0.1+1.2),M39/L39)))) -> 0.17392011 | O39: 5 | P39: 86.7 | Q39: 91.4 | R39: =IF(S39=0,0,IF(P39=0,1,IF(Q39<0,0,IF(Q39/P39>1.2,IF((Q39/P39-1.2)*0.1+1.2>1.3,1.3,(Q39/P39-1.2)*0.1+1.2),Q39/P39)))) -> 1.0542099 | S39: 10 | T39: 20394 | U39: 19545 | V39: =IF(W39=0,0,IF(T39=0,1,IF(U39<0,0,IF(U39/T39>1.2,IF((U39/T39-1.2)*0.1+1.2>1.3,1.3,(U39/T39-1.2)*0.1+1.2),U39/T39)))) -> 0.95837011 | W39: 10 | X39: 2550 | Y39: 2551 | Z39: =IF(AA39=0,0,IF(X39=0,1,IF(Y39<0,0,IF(Y39/X39>1.2,IF((Y39/X39-1.2)*0.1+1.2>1.3,1.3,(Y39/X39-1.2)*0.1+1.2),Y39/X39)))) -> 1.0003922 | AA39: 10 | AB39: 2237 | AC39: 2673 | AD39: =IF(AE39=0,0,IF(AB39=0,1,IF(AC39<0,0,IF(AC39/AB39>1.2,IF((AC39/AB39-1.2)*0.1+1.2>1.3,1.3,(AC39/AB39-1.2)*0.1+1.2),AC39/AB39)))) -> 1.1949039 | AE39: 12 | AF39: =(B39*C39+F39*G39+J39*K39+N39*O39+R39*S39+V39*W39+Z39*AA39+AD39*AE39)/(C39+G39+K39+O39+S39+W39+AA39+AE39) -> 1.0193922 | AG39: 65214 | AH39: =ROUND(AF39*AG39,1) -> 66478.6 | AI39: =AH39-AG39 -> 1264.6 | AJ39: 4271.7 | AL39: =AH39-AJ39-AK39 -> 62206.9 | AM39: 5501.5 | AO39: 5501.4 | AQ39: 5651.7 | AR39: 6070.6 | AS39: 3972.6 | AT39: 4494.8 | AU39: 5916.6 | AV39: 5911.5 | AW39: 5911.6 | AX39: 7401.3 | AY39: 8623.1 | AZ39: =ROUND(AL39-SUM(AM39:AY39),1) -> -2749.8 | BE39: =IF(AND(AZ39>0,OR(BA39="+",BB39="+",BC39="+",BD39="+")),0,AZ39) -> -2749.8
A40: Приволжский | B40: 1 | C40: 10 | D40: 7527 | E40: 8624.774 | F40: =IF(G40=0,0,IF(D40=0,1,IF(E40<0,0,IF(E40/D40>1.2,IF((E40/D40-1.2)*0.1+1.2>1.3,1.3,(E40/D40-1.2)*0.1+1.2),E40/D40)))) -> 1.1458448 | G40: 10 | H40: 190 | I40: 178 | J40: =IF(K40=0,0,IF(H40=0,1,IF(I40<0,0,IF(I40/H40>1.2,IF((I40/H40-1.2)*0.1+1.2>1.3,1.3,(I40/H40-1.2)*0.1+1.2),I40/H40)))) -> 0.93684211 | K40: 15 | L40: 8073 | M40: 4825 | N40: =IF(O40=0,0,IF(L40=0,1,IF(M40<0,0,IF(M40/L40>1.2,IF((M40/L40-1.2)*0.1+1.2>1.3,1.3,(M40/L40-1.2)*0.1+1.2),M40/L40)))) -> 0.59767125 | O40: 5 | P40: 85.5 | Q40: 82.9 | R40: =IF(S40=0,0,IF(P40=0,1,IF(Q40<0,0,IF(Q40/P40>1.2,IF((Q40/P40-1.2)*0.1+1.2>1.3,1.3,(Q40/P40-1.2)*0.1+1.2),Q40/P40)))) -> 0.96959064 | S40: 10 | T40: 10125.8 | U40: 10125.8 | V40: =IF(W40=0,0,IF(T40=0,1,IF(U40<0,0,IF(U40/T40>1.2,IF((U40/T40-1.2)*0.1+1.2>1.3,1.3,(U40/T40-1.2)*0.1+1.2),U40/T40)))) -> 1 | W40: 10 | X40: 2500 | Y40: 2499.934 | Z40: =IF(AA40=0,0,IF(X40=0,1,IF(Y40<0,0,IF(Y40/X40>1.2,IF((Y40/X40-1.2)*0.1+1.2>1.3,1.3,(Y40/X40-1.2)*0.1+1.2),Y40/X40)))) -> 0.9999736 | AA40: 10 | AB40: 2290 | AC40: 2953 | AD40: =IF(AE40=0,0,IF(AB40=0,1,IF(AC40<0,0,IF(AC40/AB40>1.2,IF((AC40/AB40-1.2)*0.1+1.2>1.3,1.3,(AC40/AB40-1.2)*0.1+1.2),AC40/AB40)))) -> 1.208952 | AE40: 12 | AF40: =(B40*C40+F40*G40+J40*K40+N40*O40+R40*S40+V40*W40+Z40*AA40+AD40*AE40)/(C40+G40+K40+O40+S40+W40+AA40+AE40) -> 1.0085671 | AG40: 59174 | AH40: =ROUND(AF40*AG40,1) -> 59680.9 | AI40: =AH40-AG40 -> 506.9 | AJ40: 0 | AL40: =AH40-AJ40-AK40 -> 59680.9 | AM40: 4176.7 | AO40: 4176.8 | AQ40: 5250.1 | AR40: 6261.6 | AS40: 4966.3 | AT40: 5530.6 | AU40: 830.4 | AV40: 4456.1 | AW40: 4456 | AX40: 10282.1 | AY40: 7268 | AZ40: =ROUND(AL40-SUM(AM40:AY40),1) -> 2026.2 | BE40: =IF(AND(AZ40>0,OR(BA40="+",BB40="+",BC40="+",BD40="+")),0,AZ40) -> 2026.2
A41: Сергиевский | B41: 1 | C41: 10 | D41: 21020 | E41: 23798.896 | F41: =IF(G41=0,0,IF(D41=0,1,IF(E41<0,0,IF(E41/D41>1.2,IF((E41/D41-1.2)*0.1+1.2>1.3,1.3,(E41/D41-1.2)*0.1+1.2),E41/D41)))) -> 1.1322025 | G41: 10 | H41: 168 | I41: 191.2 | J41: =IF(K41=0,0,IF(H41=0,1,IF(I41<0,0,IF(I41/H41>1.2,IF((I41/H41-1.2)*0.1+1.2>1.3,1.3,(I41/H41-1.2)*0.1+1.2),I41/H41)))) -> 1.1380952 | K41: 15 | L41: 22643 | M41: 24033 | N41: =IF(O41=0,0,IF(L41=0,1,IF(M41<0,0,IF(M41/L41>1.2,IF((M41/L41-1.2)*0.1+1.2>1.3,1.3,(M41/L41-1.2)*0.1+1.2),M41/L41)))) -> 1.0613876 | O41: 5 | P41: 115.7 | Q41: 116.9 | R41: =IF(S41=0,0,IF(P41=0,1,IF(Q41<0,0,IF(Q41/P41>1.2,IF((Q41/P41-1.2)*0.1+1.2>1.3,1.3,(Q41/P41-1.2)*0.1+1.2),Q41/P41)))) -> 1.0103717 | S41: 10 | T41: 11233.9 | U41: 8731.704 | V41: =IF(W41=0,0,IF(T41=0,1,IF(U41<0,0,IF(U41/T41>1.2,IF((U41/T41-1.2)*0.1+1.2>1.3,1.3,(U41/T41-1.2)*0.1+1.2),U41/T41)))) -> 0.77726382 | W41: 10 | X41: 2405.9 | Y41: 1810.77 | Z41: =IF(AA41=0,0,IF(X41=0,1,IF(Y41<0,0,IF(Y41/X41>1.2,IF((Y41/X41-1.2)*0.1+1.2>1.3,1.3,(Y41/X41-1.2)*0.1+1.2),Y41/X41)))) -> 0.75263727 | AA41: 10 | AB41: 4439 | AC41: 5009 | AD41: =IF(AE41=0,0,IF(AB41=0,1,IF(AC41<0,0,IF(AC41/AB41>1.2,IF((AC41/AB41-1.2)*0.1+1.2>1.3,1.3,(AC41/AB41-1.2)*0.1+1.2),AC41/AB41)))) -> 1.1284073 | AE41: 12 | AF41: =(B41*C41+F41*G41+J41*K41+N41*O41+R41*S41+V41*W41+Z41*AA41+AD41*AE41)/(C41+G41+K41+O41+S41+W41+AA41+AE41) -> 1.0078537 | AG41: 61497 | AH41: =ROUND(AF41*AG41,1) -> 61980 | AI41: =AH41-AG41 -> 483 | AJ41: 4194.6 | AL41: =AH41-AJ41-AK41 -> 57785.4 | AM41: 5362 | AO41: 5362 | AQ41: 5739.4 | AR41: 5605.2 | AS41: 3839.4 | AT41: 3949.9 | AU41: 6563.9 | AV41: 5802.3 | AW41: 5802.4 | AX41: 6409.1 | AY41: 8613 | AZ41: =ROUND(AL41-SUM(AM41:AY41),1) -> -5263.2 | BE41: =IF(AND(AZ41>0,OR(BA41="+",BB41="+",BC41="+",BD41="+")),0,AZ41) -> -5263.2
...

Sheet Плюсы и минусы
A1: Факторный анализ влияния отдельных показателей на итоговое распределение за 2023 год
AA2: тыс. рублей
A3: Наименование муниципального образования | B3: +/- по итогам отчётного периода | C3: Отсутствие просроченной кредиторской задолженности бюджета городского округа, консолидированного бюджета городского округа с внутригородским делением, консолидированного бюджета муниципального района по состоянию на конец отчетного периода | F3: Объем алкогольной продукции, зафиксированный в единой государственной автоматизированной информационной системе | I3: Эффективность вовлечения объектов недвижимости в налоговый оборот | L3: Общая площадь введенного в эксплуатацию жилья с учетом индивидуального жилищного строительства | O3: Валовой сбор зерна в весе после доработки | R3: Производство молока во всех категориях хозяйств | U3: Производство скота и птицы на убой (в живом весе) во всех категориях хозяйств | X3: Численность занятых в сфере малого и среднего предпринимательства | AA3: Общая сумма весов влияния
