Workbook

Sheet Расчет дотаций
B1: Распределение дотаций местным бюджетам на поддержку мер по обеспечению сбалансированности местных бюджетов
A2: За 2022 год
A3: Наименование муниципального образования | B3: Отсутствие просроченной кредиторской задолженности бюджета городского округа, консолидированного бюджета городского округа с внутригородским делением, консолидированного бюджета муниципального района по состоянию на конец отчетного периода | D3: Объем алкогольной продукции, зафиксированный в единой государственной автоматизированной информационной системе (дкл.) | H3: Эффективность вовлечения объектов недвижимости в налоговый оборот (%) | L3: Общая площадь введенного в эксплуатацию жилья с учетом индивидуального жилищного строительства (кв.м.) | P3: Валовой сбор зерна в весе после доработки (тыс. тонн) | T3: Производство молока во всех категориях хозяйств (тонн) | X3: Производство скота и птицы на убой (в живом весе) во всех категориях хозяйств (тонн) | AB3: Численность занятых в сфере малого и среднего предпринимательства (чел.) | AF3: Численность официально зарегистрированных безработных граждан (в среднем за год) (чел.) | AJ3: Сводная оценка выполнения социально-экономических показателей | AK3: Годовое значение, тыс. рублей | AL3: Распределение за отчетный период, тыс. рублей | AM3: Отклонение от планируемого распределения, тыс. рублей | AN3: Удержание дотаций в 2022 году в связи с исполнением показателей за 2021 год, тыс. рублей | AO3: Распределение за отчетный период с учетом удержания, тыс. рублей | AP3: Ранее предоставленные дотации в 2022 году, тыс. рублей | BA3: Распределение дотаций за вычетом предоставленных дотаций за январь-ноябрь, тыс. рублей | BB3: Соблюдение условий предоставления дотаций*: | BF3: Распределение (+) / Взыскание (-) за отчётный период с учетом выполнения условий предоставления стимулирующих дотаций, тыс. рублей
BB4: Соблюдение норматива формирования расходов на содержание органов местного самоуправления | BC4: непривлечение кредитов кредитных организаций в декабре 2022 года | BE4: неувеличение объема муниципального долга в части кредитов кредитных организаций в декабре 2022 года (не применяется если объем долга на 01.01.2023 не превышает его объем по состоянию на начало 2022 года)
AP5: за январь | AQ5: за февраль | AR5: за март | AS5: за апрель | AT5: за май | AU5: за июнь | AV5: за июль | AW5: за август | AX5: за сентябрь | AY5: за октябрь | AZ5: за ноябрь | BC5: МО у которых доля дотаций на выравнивание бюджетной обеспеченности в доходах бюджета (без учета субвенций) за 2021 год > 15 % | BD5: МО, муниципальный долг которых на 01.01.2023 > 90% от утвержденного общего годового объема доходов без учета утвержденного объема безвозмездных поступлений
B7: Исполнение | C7: Вес | D7: Прогнозное значение | E7: Фактически сложившийся уровень | F7: Исполнение с уч. корректир. макс. перевыполнения | G7: Вес | H7: Прогнозное значение | I7: Фактически сложившийся уровень | J7: Исполнение с уч. корректир. макс. перевыполнения | K7: Вес | L7: Прогнозное значение | M7: Фактически сложившийся уровень | N7: Исполнение с уч. корректир. макс. перевыполнения | O7: Вес | P7: Прогнозное значение | Q7: Фактически сложившийся уровень | R7: Исполнение с уч. корректир. макс. перевыполнения | S7: Вес | T7: Прогнозное значение | U7: Фактически сложившийся уровень | V7: Исполнение с уч. корректир. макс. перевыполнения | W7: Вес | X7: Прогнозное значение | Y7: Фактически сложившийся уровень | Z7: Исполнение с уч. корректир. макс. перевыполнения | AA7: Вес | AB7: Прогнозное значение | AC7: Фактически сложившийся уровень | AD7: Исполнение с уч. корректир. макс. перевыполнения | AE7: Вес | AF7: Прогнозное значение | AG7: Фактически сложившийся уровень | AH7: Исполнение с уч. корректир. макс. перевыполнения | AI7: Вес
A8: 1 | B8: 2 | C8: 3 | D8: 4 | E8: 5 | F8: 6=5/4 | G8: 7 | H8: 8 | I8: 9 | J8: 10=9/8 | K8: 11 | L8: 12 | M8: 13 | N8: 14=13/12 | O8: 15 | P8: 16 | Q8: 17 | R8: 18=17/16 | S8: 19 | T8: 20 | U8: 21 | V8: 22=21/20 | W8: 23 | X8: 24 | Y8: 25 | Z8: 26=25/24 | AA8: 27 | AB8: 28 | AC8: 29 | AD8: 30=29/28 | AE8: 31 | AF8: 32 | AG8: 33 | AH8: 34=32/33 | AI8: 35 | AJ8: 36 | AK8: 37 | AL8: 38=36*37 | AM8: 39=38-37 | AN8: 40 | AO8: 41=38-40 | AP8: 42 | AQ8: 43 | AR8: 44 | AS8: 45 | AT8: 46 | AU8: 47 | AV8: 48 | AW8: 49 | AX8: 50 | AY8: 51 | AZ8: 52 | BA8: 53=41-(42+…+52) | BB8: 54 | BC8: 55 | BD8: 56 | BE8: 57 | BF8: 58
A9: Городские округа (городской округ с внутригородским делением) | D9: =SUM(D10:D19) -> 1588278 | E9: =SUM(E10:E19) -> 1731886.5 | F9: =IF(E9/D9>1.2,IF((E9/D9-1.2)*0.1+1.2>1.3,1.3,(E9/D9-1.2)*0.1+1.2),E9/D9) -> 1.0904177 | L9: =SUM(L10:L19) -> 1160697 | M9: =SUM(M10:M19) -> 951533 | N9: =IF(M9/L9>1.2,IF((M9/L9-1.2)*0.1+1.2>1.3,1.3,(M9/L9-1.2)*0.1+1.2),M9/L9) -> 0.81979449 | AB9: =SUM(AB10:AB19) -> 581333 | AC9: =SUM(AC10:AC19) -> 582920 | AD9: =IF(AC9/AB9>1.2,IF((AC9/AB9-1.2)*0.1+1.2>1.3,1.3,(AC9/AB9-1.2)*0.1+1.2),AC9/AB9) -> 1.0027299 | AF9: =SUM(AF10:AF19) -> 13660 | AG9: =SUM(AG10:AG19) -> 8548 | AH9: =IF(AF9/AG9>1.2,IF((AF9/AG9-1.2)*0.1+1.2>1.3,1.3,(AF9/AG9-1.2)*0.1+1.2),AF9/AG9) -> 1.2398035 | AK9: =SUM(AK10:AK19) -> 2400431 | AL9: =SUM(AL10:AL19) -> 2513042.6 | AM9: =SUM(AM10:AM19) -> 112611.6 | AN9: =SUM(AN10:AN19) -> 64591.5 | AO9: =SUM(AO10:AO19) -> 2448451.1 | AP9: =SUM(AP10:AP19) -> 175259.5 | AQ9: =SUM(AQ10:AQ19) -> 175259.7 | AR9: =SUM(AR10:AR19) -> 219413.6 | ... BA9: =SUM(BA10:BA19) -> -145790.7 | BF9: =SUM(BF10:BF19) -> -145790.7
A10: Самара | B10: 1 | C10: 10 | D10: 847938 | E10: 911012.8 | F10: =IF(G10=0,0,IF(D10=0,1,IF(E10<0,0,IF(E10/D10>1.2,IF((E10/D10-1.2)*0.1+1.2>1.3,1.3,(E10/D10-1.2)*0.1+1.2),E10/D10)))) -> 1.0743861 | G10: 15 | H10: 60 | I10: 65.9 | J10: =IF(K10=0,0,IF(H10=0,1,IF(I10<0,0,IF(I10/H10>1.2,IF((I10/H10-1.2)*0.1+1.2>1.3,1.3,(I10/H10-1.2)*0.1+1.2),I10/H10)))) -> 1.0983333 | K10: 20 | L10: 794689 | M10: 636229 | N10: =IF(O10=0,0,IF(L10=0,1,IF(M10<0,0,IF(M10/L10>1.2,IF((M10/L10-1.2)*0.1+1.2>1.3,1.3,(M10/L10-1.2)*0.1+1.2),M10/L10)))) -> 0.80060124 | O10: 15 | P10: Х | Q10: Х | R10: Х | S10: Х | T10: Х | U10: Х | V10: Х | W10: Х | X10: Х | Y10: Х | Z10: Х | AA10: Х | AB10: 356585 | AC10: 356619 | AD10: =IF(AE10=0,0,IF(AB10=0,1,IF(AC10<0,0,IF(AC10/AB10>1.2,IF((AC10/AB10-1.2)*0.1+1.2>1.3,1.3,(AC10/AB10-1.2)*0.1+1.2),AC10/AB10)))) -> 1.0000953 | AE10: 17 | AF10: 5500 | AG10: 3556 | AH10: =IF(AI10=0,0,IF(AG10=0,1.3,IF(AG10<0,0,IF(AF10/AG10>1.2,IF((AF10/AG10-1.2)*0.1+1.2>1.3,1.3,(AF10/AG10-1.2)*0.1+1.2),AF10/AG10)))) -> 1.2346682 | AI10: 3 | AJ10: =(B10*C10+F10*G10+J10*K10+N10*O10+AD10*AE10+AH10*AI10)/(C10+G10+K10+O10+AE10+AI10) -> 1.0099638 | AK10: 435592 | AL10: =ROUND(AJ10*AK10,1) -> 439932.1 | AM10: =AL10-AK10 -> 4340.1 | AO10: =AL10-AN10 -> 439932.1 | AP10: 33659.2 | AQ10: 33659.2 | AR10: 45951 | AS10: 37756.5 | AT10: 37756.6 | AU10: 35552.8 | AV10: 69435 | AW10: 41967.3 | AX10: 40850.7 | AY10: 49153.7 | AZ10: 42574.2 | BA10: =ROUND(AO10-SUM(AP10:AZ10),1) -> -28384.1 | BF10: =IF(AND(BA10>0,OR(BB10="+",BC10="+",BD10="+",BE10="+")),0,BA10) -> -28384.1
A11: Тольятти | B11: 1 | C11: 10 | D11: 375767 | E11: 416074.1 | F11: =IF(G11=0,0,IF(D11=0,1,IF(E11<0,0,IF(E11/D11>1.2,IF((E11/D11-1.2)*0.1+1.2>1.3,1.3,(E11/D11-1.2)*0.1+1.2),E11/D11)))) -> 1.1072662 | G11: 15 | H11: 60 | I11: 93.5 | J11: =IF(K11=0,0,IF(H11=0,1,IF(I11<0,0,IF(I11/H11>1.2,IF((I11/H11-1.2)*0.1+1.2>1.3,1.3,(I11/H11-1.2)*0.1+1.2),I11/H11)))) -> 1.2358333 | K11: 20 | L11: 177252 | M11: 118972 | N11: =IF(O11=0,0,IF(L11=0,1,IF(M11<0,0,IF(M11/L11>1.2,IF((M11/L11-1.2)*0.1+1.2>1.3,1.3,(M11/L11-1.2)*0.1+1.2),M11/L11)))) -> 0.67120258 | O11: 15 | P11: Х | Q11: Х | R11: Х | S11: Х | T11: Х | U11: Х | V11: Х | W11: Х | X11: Х | Y11: Х | Z11: Х | AA11: Х | AB11: 153912 | AC11: 154207 | AD11: =IF(AE11=0,0,IF(AB11=0,1,IF(AC11<0,0,IF(AC11/AB11>1.2,IF((AC11/AB11-1.2)*0.1+1.2>1.3,1.3,(AC11/AB11-1.2)*0.1+1.2),AC11/AB11)))) -> 1.0019167 | AE11: 17 | AF11: 5200 | AG11: 2975 | AH11: =IF(AI11=0,0,IF(AG11=0,1.3,IF(AG11<0,0,IF(AF11/AG11>1.2,IF((AF11/AG11-1.2)*0.1+1.2>1.3,1.3,(AF11/AG11-1.2)*0.1+1.2),AF11/AG11)))) -> 1.2547899 | AI11: 3 | AJ11: =(B11*C11+F11*G11+J11*K11+N11*O11+AD11*AE11+AH11*AI11)/(C11+G11+K11+O11+AE11+AI11) -> 1.0273831 | AK11: 933527 | AL11: =ROUND(AJ11*AK11,1) -> 959089.9 | AM11: =AL11-AK11 -> 25562.9 | AN11: 60591.5 | AO11: =AL11-AN11 -> 898498.4 | AP11: 71421 | AQ11: 71421 | AR11: 74646.3 | AS11: 59276.6 | AT11: 59276.5 | AU11: 130172.5 | AV11: 134228.8 | AW11: 94433.5 | AX11: 56912.3 | AY11: 120617.5 | AZ11: 93299.8 | BA11: =ROUND(AO11-SUM(AP11:AZ11),1) -> -67207.4 | BF11: =IF(AND(BA11>0,OR(BB11="+",BC11="+",BD11="+",BE11="+")),0,BA11) -> -67207.4
A12: Сызрань | B12: 1 | C12: 10 | D12: 114663 | E12: 128160.9 | F12: =IF(G12=0,0,IF(D12=0,1,IF(E12<0,0,IF(E12/D12>1.2,IF((E12/D12-1.2)*0.1+1.2>1.3,1.3,(E12/D12-1.2)*0.1+1.2),E12/D12)))) -> 1.117718 | G12: 15 | H12: 60 | I12: 80.5 | J12: =IF(K12=0,0,IF(H12=0,1,IF(I12<0,0,IF(I12/H12>1.2,IF((I12/H12-1.2)*0.1+1.2>1.3,1.3,(I12/H12-1.2)*0.1+1.2),I12/H12)))) -> 1.2141667 | K12: 20 | L12: 44203 | M12: 47606 | N12: =IF(O12=0,0,IF(L12=0,1,IF(M12<0,0,IF(M12/L12>1.2,IF((M12/L12-1.2)*0.1+1.2>1.3,1.3,(M12/L12-1.2)*0.1+1.2),M12/L12)))) -> 1.0769857 | O12: 15 | P12: Х | Q12: Х | R12: Х | S12: Х | T12: Х | U12: Х | V12: Х | W12: Х | X12: Х | Y12: Х | Z12: Х | AA12: Х | AB12: 22681 | AC12: 22734 | AD12: =IF(AE12=0,0,IF(AB12=0,1,IF(AC12<0,0,IF(AC12/AB12>1.2,IF((AC12/AB12-1.2)*0.1+1.2>1.3,1.3,(AC12/AB12-1.2)*0.1+1.2),AC12/AB12)))) -> 1.0023368 | AE12: 17 | AF12: 600 | AG12: 459 | AH12: =IF(AI12=0,0,IF(AG12=0,1.3,IF(AG12<0,0,IF(AF12/AG12>1.2,IF((AF12/AG12-1.2)*0.1+1.2>1.3,1.3,(AF12/AG12-1.2)*0.1+1.2),AF12/AG12)))) -> 1.210719 | AI12: 3 | AJ12: =(B12*C12+F12*G12+J12*K12+N12*O12+AD12*AE12+AH12*AI12)/(C12+G12+K12+O12+AE12+AI12) -> 1.0984471 | AK12: 279538 | AL12: =ROUND(AJ12*AK12,1) -> 307057.7 | AM12: =AL12-AK12 -> 27519.7 | AO12: =AL12-AN12 -> 307057.7 | AP12: 20718 | AQ12: 20718 | AR12: 25955.7 | AS12: 22463.9 | AT12: 22463.8 | AU12: 40200.3 | AV12: 41717.2 | AW12: 27748 | AX12: 34462 | AY12: 38040 | AZ12: 29448.6 | BA12: =ROUND(AO12-SUM(AP12:AZ12),1) -> -16877.8 | BF12: =IF(AND(BA12>0,OR(BB12="+",BC12="+",BD12="+",BE12="+")),0,BA12) -> -16877.8
A13: Новокуйбышевск | B13: 1 | C13: 10 | D13: 72195 | E13: 77651.5 | F13: =IF(G13=0,0,IF(D13=0,1,IF(E13<0,0,IF(E13/D13>1.2,IF((E13/D13-1.2)*0.1+1.2>1.3,1.3,(E13/D13-1.2)*0.1+1.2),E13/D13)))) -> 1.07558 | G13: 15 | H13: 60 | I13: 137.7 | J13: =IF(K13=0,0,IF(H13=0,1,IF(I13<0,0,IF(I13/H13>1.2,IF((I13/H13-1.2)*0.1+1.2>1.3,1.3,(I13/H13-1.2)*0.1+1.2),I13/H13)))) -> 1.3 | K13: 20 | L13: 29625 | M13: 24703 | N13: =IF(O13=0,0,IF(L13=0,1,IF(M13<0,0,IF(M13/L13>1.2,IF((M13/L13-1.2)*0.1+1.2>1.3,1.3,(M13/L13-1.2)*0.1+1.2),M13/L13)))) -> 0.83385654 | O13: 15 | P13: Х | Q13: Х | R13: Х | S13: Х | T13: Х | U13: Х | V13: Х | W13: Х | X13: Х | Y13: Х | Z13: Х | AA13: Х | AB13: 14508 | AC13: 14526 | AD13: =IF(AE13=0,0,IF(AB13=0,1,IF(AC13<0,0,IF(AC13/AB13>1.2,IF((AC13/AB13-1.2)*0.1+1.2>1.3,1.3,(AC13/AB13-1.2)*0.1+1.2),AC13/AB13)))) -> 1.0012407 | AE13: 17 | AF13: 400 | AG13: 225 | AH13: =IF(AI13=0,0,IF(AG13=0,1.3,IF(AG13<0,0,IF(AF13/AG13>1.2,IF((AF13/AG13-1.2)*0.1+1.2>1.3,1.3,(AF13/AG13-1.2)*0.1+1.2),AF13/AG13)))) -> 1.2577778 | AI13: 3 | AJ13: =(B13*C13+F13*G13+J13*K13+N13*O13+AD13*AE13+AH13*AI13)/(C13+G13+K13+O13+AE13+AI13) -> 1.0679497 | AK13: 123902 | AL13: =ROUND(AJ13*AK13,1) -> 132321.1 | AM13: =AL13-AK13 -> 8419.1 | AN13: 3308.7 | AO13: =AL13-AN13 -> 129012.4 | AP13: 8732.6 | AQ13: 8732.7 | AR13: 12721.4 | AS13: 10333.2 | AT13: 10957.2 | AU13: 10374.3 | AV13: 21579.4 | AW13: 12391.4 | AX13: 12632.5 | AY13: 12418.1 | AZ13: 12418.1 | BA13: =ROUND(AO13-SUM(AP13:AZ13),1) -> -4278.5 | BE13: + | BF13: =IF(AND(BA13>0,OR(BB13="+",BC13="+",BD13="+",BE13="+")),0,BA13) -> -4278.5
A14: Чапаевск | B14: 1 | C14: 10 | D14: 36744 | E14: 41252.3 | F14: =IF(G14=0,0,IF(D14=0,1,IF(E14<0,0,IF(E14/D14>1.2,IF((E14/D14-1.2)*0.1+1.2>1.3,1.3,(E14/D14-1.2)*0.1+1.2),E14/D14)))) -> 1.1226949 | G14: 15 | H14: 60 | I14: 64.8 | J14: =IF(K14=0,0,IF(H14=0,1,IF(I14<0,0,IF(I14/H14>1.2,IF((I14/H14-1.2)*0.1+1.2>1.3,1.3,(I14/H14-1.2)*0.1+1.2),I14/H14)))) -> 1.08 | K14: 20 | L14: 14735 | M14: 26665 | N14: =IF(O14=0,0,IF(L14=0,1,IF(M14<0,0,IF(M14/L14>1.2,IF((M14/L14-1.2)*0.1+1.2>1.3,1.3,(M14/L14-1.2)*0.1+1.2),M14/L14)))) -> 1.2609637 | O14: 15 | P14: Х | Q14: Х | R14: Х | S14: Х | T14: Х | U14: Х | V14: Х | W14: Х | X14: Х | Y14: Х | Z14: Х | AA14: Х | AB14: 6442 | AC14: 6612 | AD14: =IF(AE14=0,0,IF(AB14=0,1,IF(AC14<0,0,IF(AC14/AB14>1.2,IF((AC14/AB14-1.2)*0.1+1.2>1.3,1.3,(AC14/AB14-1.2)*0.1+1.2),AC14/AB14)))) -> 1.0263893 | AE14: 17 | AF14: 300 | AG14: 206 | AH14: =IF(AI14=0,0,IF(AG14=0,1.3,IF(AG14<0,0,IF(AF14/AG14>1.2,IF((AF14/AG14-1.2)*0.1+1.2>1.3,1.3,(AF14/AG14-1.2)*0.1+1.2),AF14/AG14)))) -> 1.2256311 | AI14: 3 | AJ14: =(B14*C14+F14*G14+J14*K14+N14*O14+AD14*AE14+AH14*AI14)/(C14+G14+K14+O14+AE14+AI14) -> 1.1060049 | AK14: 113936 | AL14: =ROUND(AJ14*AK14,1) -> 126013.8 | AM14: =AL14-AK14 -> 12077.8 | AO14: =AL14-AN14 -> 126013.8 | AP14: 9169.5 | AQ14: 9169.6 | AR14: 12405 | AS14: 10248 | AT14: 10248.1 | AU14: 10070.4 | AV14: 7920.3 | AW14: 9890.1 | AX14: 9561.6 | AY14: 21321.9 | AZ14: 11000.4 | BA14: =ROUND(AO14-SUM(AP14:AZ14),1) -> 5008.9 | BF14: =IF(AND(BA14>0,OR(BB14="+",BC14="+",BD14="+",BE14="+")),0,BA14) -> 5008.9
A15: Отрадный | B15: 1 | C15: 10 | D15: 35085 | E15: 38655.7 | F15: =IF(G15=0,0,IF(D15=0,1,IF(E15<0,0,IF(E15/D15>1.2,IF((E15/D15-1.2)*0.1+1.2>1.3,1.3,(E15/D15-1.2)*0.1+1.2),E15/D15)))) -> 1.1017728 | G15: 15 | H15: 60 | I15: 64.9 | J15: =IF(K15=0,0,IF(H15=0,1,IF(I15<0,0,IF(I15/H15>1.2,IF((I15/H15-1.2)*0.1+1.2>1.3,1.3,(I15/H15-1.2)*0.1+1.2),I15/H15)))) -> 1.0816667 | K15: 20 | L15: 11459 | M15: 11781 | N15: =IF(O15=0,0,IF(L15=0,1,IF(M15<0,0,IF(M15/L15>1.2,IF((M15/L15-1.2)*0.1+1.2>1.3,1.3,(M15/L15-1.2)*0.1+1.2),M15/L15)))) -> 1.0281002 | O15: 15 | P15: Х | Q15: Х | R15: Х | S15: Х | T15: Х | U15: Х | V15: Х | W15: Х | X15: Х | Y15: Х | Z15: Х | AA15: Х | AB15: 5724 | AC15: 5949 | AD15: =IF(AE15=0,0,IF(AB15=0,1,IF(AC15<0,0,IF(AC15/AB15>1.2,IF((AC15/AB15-1.2)*0.1+1.2>1.3,1.3,(AC15/AB15-1.2)*0.1+1.2),AC15/AB15)))) -> 1.0393082 | AE15: 17 | AF15: 260 | AG15: 196 | AH15: =IF(AI15=0,0,IF(AG15=0,1.3,IF(AG15<0,0,IF(AF15/AG15>1.2,IF((AF15/AG15-1.2)*0.1+1.2>1.3,1.3,(AF15/AG15-1.2)*0.1+1.2),AF15/AG15)))) -> 1.2126531 | AI15: 3 | AJ15: =(B15*C15+F15*G15+J15*K15+N15*O15+AD15*AE15+AH15*AI15)/(C15+G15+K15+O15+AE15+AI15) -> 1.0610953 | AK15: 60287 | AL15: =ROUND(AJ15*AK15,1) -> 63970.3 | AM15: =AL15-AK15 -> 3683.3 | AN15: 471.8 | AO15: =AL15-AN15 -> 63498.5 | AP15: 5234.6 | AQ15: 5234.7 | AR15: 5180.5 | AS15: 5373.9 | AT15: 5373.9 | AU15: 5655.4 | AV15: 10325.6 | AW15: 6121.4 | AX15: 8992.4 | AY15: 5036.7 | AZ15: 6300 | BA15: =ROUND(AO15-SUM(AP15:AZ15),1) -> -5330.6 | BF15: =IF(AND(BA15>0,OR(BB15="+",BC15="+",BD15="+",BE15="+")),0,BA15) -> -5330.6
A16: Жигулевск | B16: 1 | C16: 10 | D16: 35149 | E16: 39884.1 | F16: =IF(G16=0,0,IF(D16=0,1,IF(E16<0,0,IF(E16/D16>1.2,IF((E16/D16-1.2)*0.1+1.2>1.3,1.3,(E16/D16-1.2)*0.1+1.2),E16/D16)))) -> 1.1347151 | G16: 15 | H16: 60 | I16: 66.2 | J16: =IF(K16=0,0,IF(H16=0,1,IF(I16<0,0,IF(I16/H16>1.2,IF((I16/H16-1.2)*0.1+1.2>1.3,1.3,(I16/H16-1.2)*0.1+1.2),I16/H16)))) -> 1.1033333 | K16: 20 | L16: 14334 | M16: 14723 | N16: =IF(O16=0,0,IF(L16=0,1,IF(M16<0,0,IF(M16/L16>1.2,IF((M16/L16-1.2)*0.1+1.2>1.3,1.3,(M16/L16-1.2)*0.1+1.2),M16/L16)))) -> 1.0271383 | O16: 15 | P16: Х | Q16: Х | R16: Х | S16: Х | T16: Х | U16: Х | V16: Х | W16: Х | X16: Х | Y16: Х | Z16: Х | AA16: Х | AB16: 7263 | AC16: 7596 | AD16: =IF(AE16=0,0,IF(AB16=0,1,IF(AC16<0,0,IF(AC16/AB16>1.2,IF((AC16/AB16-1.2)*0.1+1.2>1.3,1.3,(AC16/AB16-1.2)*0.1+1.2),AC16/AB16)))) -> 1.0458488 | AE16: 17 | AF16: 500 | AG16: 335 | AH16: =IF(AI16=0,0,IF(AG16=0,1.3,IF(AG16<0,0,IF(AF16/AG16>1.2,IF((AF16/AG16-1.2)*0.1+1.2>1.3,1.3,(AF16/AG16-1.2)*0.1+1.2),AF16/AG16)))) -> 1.2292537 | AI16: 3 | AJ16: =(B16*C16+F16*G16+J16*K16+N16*O16+AD16*AE16+AH16*AI16)/(C16+G16+K16+O16+AE16+AI16) -> 1.0745207 | AK16: 121747 | AL16: =ROUND(AJ16*AK16,1) -> 130819.7 | AM16: =AL16-AK16 -> 9072.7 | AO16: =AL16-AN16 -> 130819.7 | AP16: 7924.2 | AQ16: 7924.2 | AR16: 14301.9 | AS16: 10050.2 | AT16: 10050.1 | AU16: 9007 | AV16: 14712.5 | AW16: 10567.2 | AX16: 8652.8 | AY16: 29852.7 | AZ16: 12304.3 | BA16: =ROUND(AO16-SUM(AP16:AZ16),1) -> -4527.4 | BF16: =IF(AND(BA16>0,OR(BB16="+",BC16="+",BD16="+",BE16="+")),0,BA16) -> -4527.4
A17: Октябрьск | B17: 1 | C17: 10 | D17: 12362 | E17: 14033.7 | F17: =IF(G17=0,0,IF(D17=0,1,IF(E17<0,0,IF(E17/D17>1.2,IF((E17/D17-1.2)*0.1+1.2>1.3,1.3,(E17/D17-1.2)*0.1+1.2),E17/D17)))) -> 1.1352289 | G17: 15 | H17: 60 | I17: 127.6 | J17: =IF(K17=0,0,IF(H17=0,1,IF(I17<0,0,IF(I17/H17>1.2,IF((I17/H17-1.2)*0.1+1.2>1.3,1.3,(I17/H17-1.2)*0.1+1.2),I17/H17)))) -> 1.2926667 | K17: 20 | L17: 7101 | M17: 5763 | N17: =IF(O17=0,0,IF(L17=0,1,IF(M17<0,0,IF(M17/L17>1.2,IF((M17/L17-1.2)*0.1+1.2>1.3,1.3,(M17/L17-1.2)*0.1+1.2),M17/L17)))) -> 0.81157583 | O17: 15 | P17: Х | Q17: Х | R17: Х | S17: Х | T17: Х | U17: Х | V17: Х | W17: Х | X17: Х | Y17: Х | Z17: Х | AA17: Х | AB17: 1854 | AC17: 2070 | AD17: =IF(AE17=0,0,IF(AB17=0,1,IF(AC17<0,0,IF(AC17/AB17>1.2,IF((AC17/AB17-1.2)*0.1+1.2>1.3,1.3,(AC17/AB17-1.2)*0.1+1.2),AC17/AB17)))) -> 1.1165049 | AE17: 17 | AF17: 300 | AG17: 200 | AH17: =IF(AI17=0,0,IF(AG17=0,1.3,IF(AG17<0,0,IF(AF17/AG17>1.2,IF((AF17/AG17-1.2)*0.1+1.2>1.3,1.3,(AF17/AG17-1.2)*0.1+1.2),AF17/AG17)))) -> 1.23 | AI17: 3 | AJ17: =(B17*C17+F17*G17+J17*K17+N17*O17+AD17*AE17+AH17*AI17)/(C17+G17+K17+O17+AE17+AI17) -> 1.0965748 | AK17: 157359 | AL17: =ROUND(AJ17*AK17,1) -> 172555.9 | AM17: =AL17-AK17 -> 15196.9 | AO17: =AL17-AN17 -> 172555.9 | AP17: 5843.1 | AQ17: 5843.1 | AR17: 7736 | AS17: 21908.4 | AT17: 10332.7 | AU17: 7195.4 | AV17: 16201.5 | AW17: 42156.3 | AX17: 13556.1 | AY17: 29286.2 | AZ17: 16005.9 | BA17: =ROUND(AO17-SUM(AP17:AZ17),1) -> -3508.8 | BF17: =IF(AND(BA17>0,OR(BB17="+",BC17="+",BD17="+",BE17="+")),0,BA17) -> -3508.8
A18: Кинель | B18: 1 | C18: 10 | D18: 41000 | E18: 45960.6 | F18: =IF(G18=0,0,IF(D18=0,1,IF(E18<0,0,IF(E18/D18>1.2,IF((E18/D18-1.2)*0.1+1.2>1.3,1.3,(E18/D18-1.2)*0.1+1.2),E18/D18)))) -> 1.1209902 | G18: 15 | H18: 60 | I18: 67.2 | J18: =IF(K18=0,0,IF(H18=0,1,IF(I18<0,0,IF(I18/H18>1.2,IF((I18/H18-1.2)*0.1+1.2>1.3,1.3,(I18/H18-1.2)*0.1+1.2),I18/H18)))) -> 1.12 | K18: 20 | L18: 57554 | M18: 60824 | N18: =IF(O18=0,0,IF(L18=0,1,IF(M18<0,0,IF(M18/L18>1.2,IF((M18/L18-1.2)*0.1+1.2>1.3,1.3,(M18/L18-1.2)*0.1+1.2),M18/L18)))) -> 1.0568162 | O18: 15 | P18: Х | Q18: Х | R18: Х | S18: Х | T18: Х | U18: Х | V18: Х | W18: Х | X18: Х | Y18: Х | Z18: Х | AA18: Х | AB18: 9525 | AC18: 9735 | AD18: =IF(AE18=0,0,IF(AB18=0,1,IF(AC18<0,0,IF(AC18/AB18>1.2,IF((AC18/AB18-1.2)*0.1+1.2>1.3,1.3,(AC18/AB18-1.2)*0.1+1.2),AC18/AB18)))) -> 1.0220472 | AE18: 17 | AF18: 400 | AG18: 271 | AH18: =IF(AI18=0,0,IF(AG18=0,1.3,IF(AG18<0,0,IF(AF18/AG18>1.2,IF((AF18/AG18-1.2)*0.1+1.2>1.3,1.3,(AF18/AG18-1.2)*0.1+1.2),AF18/AG18)))) -> 1.2276015 | AI18: 3 | AJ18: =(B18*C18+F18*G18+J18*K18+N18*O18+AD18*AE18+AH18*AI18)/(C18+G18+K18+O18+AE18+AI18) -> 1.0765588 | AK18: 104846 | AL18: =ROUND(AJ18*AK18,1) -> 112872.9 | AM18: =AL18-AK18 -> 8026.9 | AO18: =AL18-AN18 -> 112872.9 | AP18: 8204.9 | AQ18: 8204.9 | AR18: 13320.2 | AS18: 9910 | AT18: 9910 | AU18: 9978.8 | AV18: 16118.9 | AW18: 10806.8 | AX18: 11675.3 | AY18: 11892.3 | AZ18: 11002.3 | BA18: =ROUND(AO18-SUM(AP18:AZ18),1) -> -8151.5 | BF18: =IF(AND(BA18>0,OR(BB18="+",BC18="+",BD18="+",BE18="+")),0,BA18) -> -8151.5
A19: Похвистнево | B19: 1 | C19: 10 | D19: 17375 | E19: 19200.8 | F19: =IF(G19=0,0,IF(D19=0,1,IF(E19<0,0,IF(E19/D19>1.2,IF((E19/D19-1.2)*0.1+1.2>1.3,1.3,(E19/D19-1.2)*0.1+1.2),E19/D19)))) -> 1.105082 | G19: 15 | H19: 60 | I19: 85.8 | J19: =IF(K19=0,0,IF(H19=0,1,IF(I19<0,0,IF(I19/H19>1.2,IF((I19/H19-1.2)*0.1+1.2>1.3,1.3,(I19/H19-1.2)*0.1+1.2),I19/H19)))) -> 1.223 | K19: 20 | L19: 9745 | M19: 4267 | N19: =IF(O19=0,0,IF(L19=0,1,IF(M19<0,0,IF(M19/L19>1.2,IF((M19/L19-1.2)*0.1+1.2>1.3,1.3,(M19/L19-1.2)*0.1+1.2),M19/L19)))) -> 0.43786557 | O19: 15 | P19: Х | Q19: Х | R19: Х | S19: Х | T19: Х | U19: Х | V19: Х | W19: Х | X19: Х | Y19: Х | Z19: Х | AA19: Х | AB19: 2839 | AC19: 2872 | AD19: =IF(AE19=0,0,IF(AB19=0,1,IF(AC19<0,0,IF(AC19/AB19>1.2,IF((AC19/AB19-1.2)*0.1+1.2>1.3,1.3,(AC19/AB19-1.2)*0.1+1.2),AC19/AB19)))) -> 1.0116238 | AE19: 17 | AF19: 200 | AG19: 125 | AH19: =IF(AI19=0,0,IF(AG19=0,1.3,IF(AG19<0,0,IF(AF19/AG19>1.2,IF((AF19/AG19-1.2)*0.1+1.2>1.3,1.3,(AF19/AG19-1.2)*0.1+1.2),AF19/AG19)))) -> 1.24 | AI19: 3 | AJ19: =(B19*C19+F19*G19+J19*K19+N19*O19+AD19*AE19+AH19*AI19)/(C19+G19+K19+O19+AE19+AI19) -> 0.98152273 | AK19: 69697 | AL19: =ROUND(AJ19*AK19,1) -> 68409.2 | AM19: =AL19-AK19 -> -1287.8 | AN19: 219.5 | AO19: =AL19-AN19 -> 68189.7 | AP19: 4352.4 | AQ19: 4352.3 | AR19: 7195.6 | AS19: 5373.2 | AT19: 5373.2 | AU19: 5602.5 | AV19: 8509.5 | AW19: 5854.1 | AX19: 5903.3 | AY19: 20848.7 | AZ19: 7358.4 | BA19: =ROUND(AO19-SUM(AP19:AZ19),1) -> -12533.5 | BF19: =IF(AND(BA19>0,OR(BB19="+",BC19="+",BD19="+",BE19="+")),0,BA19) -> -12533.5
A20: Муниципальные районы | D20: =SUM(D21:D47) -> 316529 | E20: =SUM(E21:E47) -> 375454.7 | F20: =IF(E20/D20>1.2,IF((E20/D20-1.2)*0.1+1.2>1.3,1.3,(E20/D20-1.2)*0.1+1.2),E20/D20) -> 1.1861621 | L20: =SUM(L21:L47) -> 753963 | M20: =SUM(M21:M47) -> 929779 | N20: =IF(M20/L20>1.2,IF((M20/L20-1.2)*0.1+1.2>1.3,1.3,(M20/L20-1.2)*0.1+1.2),M20/L20) -> 1.2033189 | P20: =SUM(P21:P47) -> 2254.6 | Q20: =SUM(Q21:Q47) -> 3656 | R20: =IF(Q20/P20>1.2,IF((Q20/P20-1.2)*0.1+1.2>1.3,1.3,(Q20/P20-1.2)*0.1+1.2),Q20/P20) -> 1.2421574 | T20: =SUM(T21:T47) -> 451649.1 | U20: =SUM(U21:U47) -> 449437 | V20: =IF(U20/T20>1.2,IF((U20/T20-1.2)*0.1+1.2>1.3,1.3,(U20/T20-1.2)*0.1+1.2),U20/T20) -> 0.99510217 | X20: =SUM(X21:X47) -> 136665.4 | Y20: =SUM(Y21:Y47) -> 132919 | Z20: =IF(Y20/X20>1.2,IF((Y20/X20-1.2)*0.1+1.2>1.3,1.3,(Y20/X20-1.2)*0.1+1.2),Y20/X20) -> 0.97258706 | AB20: =SUM(AB21:AB47) -> 97139 | AC20: =SUM(AC21:AC47) -> 100059 | AD20: =IF(AC20/AB20>1.2,IF((AC20/AB20-1.2)*0.1+1.2>1.3,1.3,(AC20/AB20-1.2)*0.1+1.2),AC20/AB20) -> 1.03006 | AF20: =SUM(AF21:AF47) -> 5830 | AG20: =SUM(AG21:AG47) -> 3404 | AH20: =IF(AF20/AG20>1.2,IF((AF20/AG20-1.2)*0.1+1.2>1.3,1.3,(AF20/AG20-1.2)*0.1+1.2),AF20/AG20) -> 1.2512691 | AK20: =SUM(AK21:AK47) -> 1767514 | AL20: =SUM(AL21:AL47) -> 1924762.3 | AM20: =SUM(AM21:AM47) -> 157248.3 | AN20: =SUM(AN21:AN47) -> 41717.1 | AO20: =SUM(AO21:AO47) -> 1883045.2 | AP20: =SUM(AP21:AP47) -> 150687 | AQ20: =SUM(AQ21:AQ47) -> 150687 | AR20: =SUM(AR21:AR47) -> 161003.9 | ... BA20: =SUM(BA21:BA47) -> -75996 | BF20: =SUM(BF21:BF47) -> -75996
A21: Алексеевский | B21: 1 | C21: 10 | D21: 2500 | E21: 3014.9 | F21: =IF(G21=0,0,IF(D21=0,1,IF(E21<0,0,IF(E21/D21>1.2,IF((E21/D21-1.2)*0.1+1.2>1.3,1.3,(E21/D21-1.2)*0.1+1.2),E21/D21)))) -> 1.200596 | G21: 10 | H21: 60 | I21: 101.8 | J21: =IF(K21=0,0,IF(H21=0,1,IF(I21<0,0,IF(I21/H21>1.2,IF((I21/H21-1.2)*0.1+1.2>1.3,1.3,(I21/H21-1.2)*0.1+1.2),I21/H21)))) -> 1.2496667 | K21: 15 | L21: 3187 | M21: 550 | N21: =IF(O21=0,0,IF(L21=0,1,IF(M21<0,0,IF(M21/L21>1.2,IF((M21/L21-1.2)*0.1+1.2>1.3,1.3,(M21/L21-1.2)*0.1+1.2),M21/L21)))) -> 0.17257609 | O21: 5 | P21: 66.7 | Q21: 164.6 | R21: =IF(S21=0,0,IF(P21=0,1,IF(Q21<0,0,IF(Q21/P21>1.2,IF((Q21/P21-1.2)*0.1+1.2>1.3,1.3,(Q21/P21-1.2)*0.1+1.2),Q21/P21)))) -> 1.3 | S21: 10 | T21: 21878.8 | U21: 20811 | V21: =IF(W21=0,0,IF(T21=0,1,IF(U21<0,0,IF(U21/T21>1.2,IF((U21/T21-1.2)*0.1+1.2>1.3,1.3,(U21/T21-1.2)*0.1+1.2),U21/T21)))) -> 0.95119476 | W21: 10 | X21: 7235.1 | Y21: 4324 | Z21: =IF(AA21=0,0,IF(X21=0,1,IF(Y21<0,0,IF(Y21/X21>1.2,IF((Y21/X21-1.2)*0.1+1.2>1.3,1.3,(Y21/X21-1.2)*0.1+1.2),Y21/X21)))) -> 0.59764205 | AA21: 10 | AB21: 998 | AC21: 1062 | AD21: =IF(AE21=0,0,IF(AB21=0,1,IF(AC21<0,0,IF(AC21/AB21>1.2,IF((AC21/AB21-1.2)*0.1+1.2>1.3,1.3,(AC21/AB21-1.2)*0.1+1.2),AC21/AB21)))) -> 1.0641283 | AE21: 12 | AF21: 120 | AG21: 72 | AH21: =IF(AI21=0,0,IF(AG21=0,1.3,IF(AG21<0,0,IF(AF21/AG21>1.2,IF((AF21/AG21-1.2)*0.1+1.2>1.3,1.3,(AF21/AG21-1.2)*0.1+1.2),AF21/AG21)))) -> 1.2466667 | AI21: 3 | AJ21: =(B21*C21+F21*G21+J21*K21+N21*O21+R21*S21+V21*W21+Z21*AA21+AD21*AE21+AH21*AI21)/(C21+G21+K21+O21+S21+W21+AA21+AE21+AI21) -> 1.0189617 | AK21: 39752 | AL21: =ROUND(AJ21*AK21,1) -> 40505.8 | AM21: =AL21-AK21 -> 753.8 | AN21: 3490.2 | AO21: =AL21-AN21 -> 37015.6 | AP21: 3555.9 | AQ21: 3555.9 | AR21: 2480 | AS21: 2604.6 | AT21: 2604.6 | AU21: 1482 | AV21: 6503.5 | AW21: 3753.8 | AX21: 9395.4 | AY21: 4158.4 | AZ21: 4358.4 | BA21: =ROUND(AO21-SUM(AP21:AZ21),1) -> -7436.9 | BF21: =IF(AND(BA21>0,OR(BB21="+",BC21="+",BD21="+",BE21="+")),0,BA21) -> -7436.9
A22: Безенчукский | B22: 1 | C22: 10 | D22: 20063 | E22: 22743.2 | F22: =IF(G22=0,0,IF(D22=0,1,IF(E22<0,0,IF(E22/D22>1.2,IF((E22/D22-1.2)*0.1+1.2>1.3,1.3,(E22/D22-1.2)*0.1+1.2),E22/D22)))) -> 1.1335892 | G22: 10 | H22: 60 | I22: 115.6 | J22: =IF(K22=0,0,IF(H22=0,1,IF(I22<0,0,IF(I22/H22>1.2,IF((I22/H22-1.2)*0.1+1.2>1.3,1.3,(I22/H22-1.2)*0.1+1.2),I22/H22)))) -> 1.2726667 | K22: 15 | L22: 17956 | M22: 19626 | N22: =IF(O22=0,0,IF(L22=0,1,IF(M22<0,0,IF(M22/L22>1.2,IF((M22/L22-1.2)*0.1+1.2>1.3,1.3,(M22/L22-1.2)*0.1+1.2),M22/L22)))) -> 1.0930051 | O22: 5 | P22: 93.5 | Q22: 148.3 | R22: =IF(S22=0,0,IF(P22=0,1,IF(Q22<0,0,IF(Q22/P22>1.2,IF((Q22/P22-1.2)*0.1+1.2>1.3,1.3,(Q22/P22-1.2)*0.1+1.2),Q22/P22)))) -> 1.2386096 | S22: 10 | T22: 21632 | U22: 21656 | V22: =IF(W22=0,0,IF(T22=0,1,IF(U22<0,0,IF(U22/T22>1.2,IF((U22/T22-1.2)*0.1+1.2>1.3,1.3,(U22/T22-1.2)*0.1+1.2),U22/T22)))) -> 1.0011095 | W22: 10 | X22: 3364.5 | Y22: 3359 | Z22: =IF(AA22=0,0,IF(X22=0,1,IF(Y22<0,0,IF(Y22/X22>1.2,IF((Y22/X22-1.2)*0.1+1.2>1.3,1.3,(Y22/X22-1.2)*0.1+1.2),Y22/X22)))) -> 0.99836528 | AA22: 10 | AB22: 4554 | AC22: 4743 | AD22: =IF(AE22=0,0,IF(AB22=0,1,IF(AC22<0,0,IF(AC22/AB22>1.2,IF((AC22/AB22-1.2)*0.1+1.2>1.3,1.3,(AC22/AB22-1.2)*0.1+1.2),AC22/AB22)))) -> 1.041502 | AE22: 12 | AF22: 130 | AG22: 75 | AH22: =IF(AI22=0,0,IF(AG22=0,1.3,IF(AG22<0,0,IF(AF22/AG22>1.2,IF((AF22/AG22-1.2)*0.1+1.2>1.3,1.3,(AF22/AG22-1.2)*0.1+1.2),AF22/AG22)))) -> 1.2533333 | AI22: 3 | AJ22: =(B22*C22+F22*G22+J22*K22+N22*O22+R22*S22+V22*W22+Z22*AA22+AD22*AE22+AH22*AI22)/(C22+G22+K22+O22+S22+W22+AA22+AE22+AI22) -> 1.1121151 | AK22: 70755 | AL22: =ROUND(AJ22*AK22,1) -> 78687.7 | AM22: =AL22-AK22 -> 7932.7 | AO22: =AL22-AN22 -> 78687.7 | AP22: 6234.5 | AQ22: 6234.6 | AR22: 8949.7 | AS22: 7139.7 | AT22: 7139.5 | AU22: 7342.7 | AV22: 1733.8 | AW22: 6396.4 | AX22: 6589 | AY22: 16307.3 | AZ22: 7406.8 | BA22: =ROUND(AO22-SUM(AP22:AZ22),1) -> -2786.3 | BF22: =IF(AND(BA22>0,OR(BB22="+",BC22="+",BD22="+",BE22="+")),0,BA22) -> -2786.3
A23: Богатовский | B23: 1 | C23: 10 | D23: 5450 | E23: 6530.7 | F23: =IF(G23=0,0,IF(D23=0,1,IF(E23<0,0,IF(E23/D23>1.2,IF((E23/D23-1.2)*0.1+1.2>1.3,1.3,(E23/D23-1.2)*0.1+1.2),E23/D23)))) -> 1.1982936 | G23: 10 | H23: 60 | I23: 93.6 | J23: =IF(K23=0,0,IF(H23=0,1,IF(I23<0,0,IF(I23/H23>1.2,IF((I23/H23-1.2)*0.1+1.2>1.3,1.3,(I23/H23-1.2)*0.1+1.2),I23/H23)))) -> 1.236 | K23: 15 | L23: 8322 | M23: 4880 | N23: =IF(O23=0,0,IF(L23=0,1,IF(M23<0,0,IF(M23/L23>1.2,IF((M23/L23-1.2)*0.1+1.2>1.3,1.3,(M23/L23-1.2)*0.1+1.2),M23/L23)))) -> 0.5863975 | O23: 5 | P23: 51.2 | Q23: 67.8 | R23: =IF(S23=0,0,IF(P23=0,1,IF(Q23<0,0,IF(Q23/P23>1.2,IF((Q23/P23-1.2)*0.1+1.2>1.3,1.3,(Q23/P23-1.2)*0.1+1.2),Q23/P23)))) -> 1.2124219 | S23: 10 | T23: 16307.1 | U23: 16800 | V23: =IF(W23=0,0,IF(T23=0,1,IF(U23<0,0,IF(U23/T23>1.2,IF((U23/T23-1.2)*0.1+1.2>1.3,1.3,(U23/T23-1.2)*0.1+1.2),U23/T23)))) -> 1.0302261 | W23: 10 | X23: 2555.3 | Y23: 2550 | Z23: =IF(AA23=0,0,IF(X23=0,1,IF(Y23<0,0,IF(Y23/X23>1.2,IF((Y23/X23-1.2)*0.1+1.2>1.3,1.3,(Y23/X23-1.2)*0.1+1.2),Y23/X23)))) -> 0.99792588 | AA23: 10 | AB23: 1315 | AC23: 1435 | AD23: =IF(AE23=0,0,IF(AB23=0,1,IF(AC23<0,0,IF(AC23/AB23>1.2,IF((AC23/AB23-1.2)*0.1+1.2>1.3,1.3,(AC23/AB23-1.2)*0.1+1.2),AC23/AB23)))) -> 1.0912548 | AE23: 12 | AF23: 100 | AG23: 62 | AH23: =IF(AI23=0,0,IF(AG23=0,1.3,IF(AG23<0,0,IF(AF23/AG23>1.2,IF((AF23/AG23-1.2)*0.1+1.2>1.3,1.3,(AF23/AG23-1.2)*0.1+1.2),AF23/AG23)))) -> 1.2412903 | AI23: 3 | AJ23: =(B23*C23+F23*G23+J23*K23+N23*O23+R23*S23+V23*W23+Z23*AA23+AD23*AE23+AH23*AI23)/(C23+G23+K23+O23+S23+W23+AA23+AE23+AI23) -> 1.0903481 | AK23: 46977 | AL23: =ROUND(AJ23*AK23,1) -> 51221.3 | AM23: =AL23-AK23 -> 4244.3 | AO23: =AL23-AN23 -> 51221.3 | AP23: 4112.1 | AQ23: 4112.1 | AR23: 5540.7 | AS23: 4588.4 | AT23: 4588.3 | AU23: 5720.5 | AV23: 6583.1 | AW23: 5035 | AX23: 4383.2 | AY23: 5981.4 | AZ23: 5064.5 | BA23: =ROUND(AO23-SUM(AP23:AZ23),1) -> -4488 | BF23: =IF(AND(BA23>0,OR(BB23="+",BC23="+",BD23="+",BE23="+")),0,BA23) -> -4488
A24: Большеглушицкий | B24: 1 | C24: 10 | D24: 5493 | E24: 6916.8 | F24: =IF(G24=0,0,IF(D24=0,1,IF(E24<0,0,IF(E24/D24>1.2,IF((E24/D24-1.2)*0.1+1.2>1.3,1.3,(E24/D24-1.2)*0.1+1.2),E24/D24)))) -> 1.2059203 | G24: 10 | H24: 60 | I24: 162.5 | J24: =IF(K24=0,0,IF(H24=0,1,IF(I24<0,0,IF(I24/H24>1.2,IF((I24/H24-1.2)*0.1+1.2>1.3,1.3,(I24/H24-1.2)*0.1+1.2),I24/H24)))) -> 1.3 | K24: 15 | L24: 5255 | M24: 4174 | N24: =IF(O24=0,0,IF(L24=0,1,IF(M24<0,0,IF(M24/L24>1.2,IF((M24/L24-1.2)*0.1+1.2>1.3,1.3,(M24/L24-1.2)*0.1+1.2),M24/L24)))) -> 0.79429115 | O24: 5 | P24: 124 | Q24: 205.5 | R24: =IF(S24=0,0,IF(P24=0,1,IF(Q24<0,0,IF(Q24/P24>1.2,IF((Q24/P24-1.2)*0.1+1.2>1.3,1.3,(Q24/P24-1.2)*0.1+1.2),Q24/P24)))) -> 1.2457258 | S24: 10 | T24: 18010.1 | U24: 12746 | V24: =IF(W24=0,0,IF(T24=0,1,IF(U24<0,0,IF(U24/T24>1.2,IF((U24/T24-1.2)*0.1+1.2>1.3,1.3,(U24/T24-1.2)*0.1+1.2),U24/T24)))) -> 0.707714 | W24: 10 | X24: 4089.3 | Y24: 3809 | Z24: =IF(AA24=0,0,IF(X24=0,1,IF(Y24<0,0,IF(Y24/X24>1.2,IF((Y24/X24-1.2)*0.1+1.2>1.3,1.3,(Y24/X24-1.2)*0.1+1.2),Y24/X24)))) -> 0.93145526 | AA24: 10 | AB24: 2188 | AC24: 2262 | AD24: =IF(AE24=0,0,IF(AB24=0,1,IF(AC24<0,0,IF(AC24/AB24>1.2,IF((AC24/AB24-1.2)*0.1+1.2>1.3,1.3,(AC24/AB24-1.2)*0.1+1.2),AC24/AB24)))) -> 1.0338208 | AE24: 12 | AF24: 210 | AG24: 138 | AH24: =IF(AI24=0,0,IF(AG24=0,1.3,IF(AG24<0,0,IF(AF24/AG24>1.2,IF((AF24/AG24-1.2)*0.1+1.2>1.3,1.3,(AF24/AG24-1.2)*0.1+1.2),AF24/AG24)))) -> 1.2321739 | AI24: 3 | AJ24: =(B24*C24+F24*G24+J24*K24+N24*O24+R24*S24+V24*W24+Z24*AA24+AD24*AE24+AH24*AI24)/(C24+G24+K24+O24+S24+W24+AA24+AE24+AI24) -> 1.0644939 | AK24: 52481 | AL24: =ROUND(AJ24*AK24,1) -> 55865.7 | AM24: =AL24-AK24 -> 3384.7 | AN24: 1364.3 | AO24: =AL24-AN24 -> 54501.4 | AP24: 4605.5 | AQ24: 4605.6 | AR24: 5481 | AS24: 5068.3 | AT24: 5281.2 | AU24: 5547.5 | AV24: 7533.9 | AW24: 5641.1 | AX24: 6354.1 | AY24: 6546.3 | AZ24: 5802.9 | BA24: =ROUND(AO24-SUM(AP24:AZ24),1) -> -7966 | BF24: =IF(AND(BA24>0,OR(BB24="+",BC24="+",BD24="+",BE24="+")),0,BA24) -> -7966
A25: Большечерниговский | B25: 1 | C25: 10 | D25: 4433 | E25: 5047.8 | F25: =IF(G25=0,0,IF(D25=0,1,IF(E25<0,0,IF(E25/D25>1.2,IF((E25/D25-1.2)*0.1+1.2>1.3,1.3,(E25/D25-1.2)*0.1+1.2),E25/D25)))) -> 1.1386871 | G25: 10 | H25: 60 | I25: 124.3 | J25: =IF(K25=0,0,IF(H25=0,1,IF(I25<0,0,IF(I25/H25>1.2,IF((I25/H25-1.2)*0.1+1.2>1.3,1.3,(I25/H25-1.2)*0.1+1.2),I25/H25)))) -> 1.2871667 | K25: 15 | L25: 3832 | M25: 4422 | N25: =IF(O25=0,0,IF(L25=0,1,IF(M25<0,0,IF(M25/L25>1.2,IF((M25/L25-1.2)*0.1+1.2>1.3,1.3,(M25/L25-1.2)*0.1+1.2),M25/L25)))) -> 1.1539666 | O25: 5 | P25: 105.6 | Q25: 153.3 | R25: =IF(S25=0,0,IF(P25=0,1,IF(Q25<0,0,IF(Q25/P25>1.2,IF((Q25/P25-1.2)*0.1+1.2>1.3,1.3,(Q25/P25-1.2)*0.1+1.2),Q25/P25)))) -> 1.2251705 | S25: 10 | T25: 31270 | U25: 31302 | V25: =IF(W25=0,0,IF(T25=0,1,IF(U25<0,0,IF(U25/T25>1.2,IF((U25/T25-1.2)*0.1+1.2>1.3,1.3,(U25/T25-1.2)*0.1+1.2),U25/T25)))) -> 1.0010233 | W25: 10 | X25: 5565.5 | Y25: 5570 | Z25: =IF(AA25=0,0,IF(X25=0,1,IF(Y25<0,0,IF(Y25/X25>1.2,IF((Y25/X25-1.2)*0.1+1.2>1.3,1.3,(Y25/X25-1.2)*0.1+1.2),Y25/X25)))) -> 1.0008086 | AA25: 10 | AB25: 3227 | AC25: 3251 | AD25: =IF(AE25=0,0,IF(AB25=0,1,IF(AC25<0,0,IF(AC25/AB25>1.2,IF((AC25/AB25-1.2)*0.1+1.2>1.3,1.3,(AC25/AB25-1.2)*0.1+1.2),AC25/AB25)))) -> 1.0074372 | AE25: 12 | AF25: 240 | AG25: 152 | AH25: =IF(AI25=0,0,IF(AG25=0,1.3,IF(AG25<0,0,IF(AF25/AG25>1.2,IF((AF25/AG25-1.2)*0.1+1.2>1.3,1.3,(AF25/AG25-1.2)*0.1+1.2),AF25/AG25)))) -> 1.2378947 | AI25: 3 | AJ25: =(B25*C25+F25*G25+J25*K25+N25*O25+R25*S25+V25*W25+Z25*AA25+AD25*AE25+AH25*AI25)/(C25+G25+K25+O25+S25+W25+AA25+AE25+AI25) -> 1.1122019 | AK25: 56470 | AL25: =ROUND(AJ25*AK25,1) -> 62806 | AM25: =AL25-AK25 -> 6336 | AN25: 2481.7 | AO25: =AL25-AN25 -> 60324.3 | AP25: 5046.7 | AQ25: 5046.8 | AR25: 3858.4 | AS25: 3851.2 | AT25: 5071.1 | AU25: 0 | AV25: 7915.8 | AW25: 4753.1 | AX25: 13454.6 | AY25: 5720 | AZ25: 5719.9 | BA25: =ROUND(AO25-SUM(AP25:AZ25),1) -> -113.3 | BF25: =IF(AND(BA25>0,OR(BB25="+",BC25="+",BD25="+",BE25="+")),0,BA25) -> -113.3
A26: Борский | B26: 1 | C26: 10 | D26: 6177 | E26: 7731 | F26: =IF(G26=0,0,IF(D26=0,1,IF(E26<0,0,IF(E26/D26>1.2,IF((E26/D26-1.2)*0.1+1.2>1.3,1.3,(E26/D26-1.2)*0.1+1.2),E26/D26)))) -> 1.2051578 | G26: 10 | H26: 60 | I26: 143.2 | J26: =IF(K26=0,0,IF(H26=0,1,IF(I26<0,0,IF(I26/H26>1.2,IF((I26/H26-1.2)*0.1+1.2>1.3,1.3,(I26/H26-1.2)*0.1+1.2),I26/H26)))) -> 1.3 | K26: 15 | L26: 12473 | M26: 8006 | N26: =IF(O26=0,0,IF(L26=0,1,IF(M26<0,0,IF(M26/L26>1.2,IF((M26/L26-1.2)*0.1+1.2>1.3,1.3,(M26/L26-1.2)*0.1+1.2),M26/L26)))) -> 0.64186643 | O26: 5 | P26: 66.9 | Q26: 115.6 | R26: =IF(S26=0,0,IF(P26=0,1,IF(Q26<0,0,IF(Q26/P26>1.2,IF((Q26/P26-1.2)*0.1+1.2>1.3,1.3,(Q26/P26-1.2)*0.1+1.2),Q26/P26)))) -> 1.2527952 | S26: 10 | T26: 12961 | U26: 13095 | V26: =IF(W26=0,0,IF(T26=0,1,IF(U26<0,0,IF(U26/T26>1.2,IF((U26/T26-1.2)*0.1+1.2>1.3,1.3,(U26/T26-1.2)*0.1+1.2),U26/T26)))) -> 1.0103387 | W26: 10 | X26: 2870.9 | Y26: 2875 | Z26: =IF(AA26=0,0,IF(X26=0,1,IF(Y26<0,0,IF(Y26/X26>1.2,IF((Y26/X26-1.2)*0.1+1.2>1.3,1.3,(Y26/X26-1.2)*0.1+1.2),Y26/X26)))) -> 1.0014281 | AA26: 10 | AB26: 2129 | AC26: 2230 | AD26: =IF(AE26=0,0,IF(AB26=0,1,IF(AC26<0,0,IF(AC26/AB26>1.2,IF((AC26/AB26-1.2)*0.1+1.2>1.3,1.3,(AC26/AB26-1.2)*0.1+1.2),AC26/AB26)))) -> 1.0474401 | AE26: 12 | AF26: 250 | AG26: 176 | AH26: =IF(AI26=0,0,IF(AG26=0,1.3,IF(AG26<0,0,IF(AF26/AG26>1.2,IF((AF26/AG26-1.2)*0.1+1.2>1.3,1.3,(AF26/AG26-1.2)*0.1+1.2),AF26/AG26)))) -> 1.2220455 | AI26: 3 | AJ26: =(B26*C26+F26*G26+J26*K26+N26*O26+R26*S26+V26*W26+Z26*AA26+AD26*AE26+AH26*AI26)/(C26+G26+K26+O26+S26+W26+AA26+AE26+AI26) -> 1.10167 | AK26: 63836 | AL26: =ROUND(AJ26*AK26,1) -> 70326.2 | AM26: =AL26-AK26 -> 6490.2 | AO26: =AL26-AN26 -> 70326.2 | AP26: 5687.3 | AQ26: 5687.2 | AR26: 8405.1 | AS26: 6593.2 | AT26: 6593.2 | AU26: 7055 | AV26: 9172.4 | AW26: 7027.7 | AX26: 7322.8 | AY26: 7060.3 | AZ26: 7060.5 | BA26: =ROUND(AO26-SUM(AP26:AZ26),1) -> -7338.5 | BF26: =IF(AND(BA26>0,OR(BB26="+",BC26="+",BD26="+",BE26="+")),0,BA26) -> -7338.5
A27: Волжский | B27: 1 | C27: 10 | D27: 53531 | E27: 65428.2 | F27: =IF(G27=0,0,IF(D27=0,1,IF(E27<0,0,IF(E27/D27>1.2,IF((E27/D27-1.2)*0.1+1.2>1.3,1.3,(E27/D27-1.2)*0.1+1.2),E27/D27)))) -> 1.2022249 | G27: 10 | H27: 60 | I27: 78.8 | J27: =IF(K27=0,0,IF(H27=0,1,IF(I27<0,0,IF(I27/H27>1.2,IF((I27/H27-1.2)*0.1+1.2>1.3,1.3,(I27/H27-1.2)*0.1+1.2),I27/H27)))) -> 1.2113333 | K27: 15 | L27: 223649 | M27: 281064 | N27: =IF(O27=0,0,IF(L27=0,1,IF(M27<0,0,IF(M27/L27>1.2,IF((M27/L27-1.2)*0.1+1.2>1.3,1.3,(M27/L27-1.2)*0.1+1.2),M27/L27)))) -> 1.2056719 | O27: 5 | P27: 61 | Q27: 154.6 | R27: =IF(S27=0,0,IF(P27=0,1,IF(Q27<0,0,IF(Q27/P27>1.2,IF((Q27/P27-1.2)*0.1+1.2>1.3,1.3,(Q27/P27-1.2)*0.1+1.2),Q27/P27)))) -> 1.3 | S27: 10 | T27: 15111.2 | U27: 17083 | V27: =IF(W27=0,0,IF(T27=0,1,IF(U27<0,0,IF(U27/T27>1.2,IF((U27/T27-1.2)*0.1+1.2>1.3,1.3,(U27/T27-1.2)*0.1+1.2),U27/T27)))) -> 1.130486 | W27: 10 | X27: 4385.3 | Y27: 4392 | Z27: =IF(AA27=0,0,IF(X27=0,1,IF(Y27<0,0,IF(Y27/X27>1.2,IF((Y27/X27-1.2)*0.1+1.2>1.3,1.3,(Y27/X27-1.2)*0.1+1.2),Y27/X27)))) -> 1.0015278 | AA27: 10 | AB27: 17220 | AC27: 17430 | AD27: =IF(AE27=0,0,IF(AB27=0,1,IF(AC27<0,0,IF(AC27/AB27>1.2,IF((AC27/AB27-1.2)*0.1+1.2>1.3,1.3,(AC27/AB27-1.2)*0.1+1.2),AC27/AB27)))) -> 1.0121951 | AE27: 12 | AF27: 730 | AG27: 345 | AH27: =IF(AI27=0,0,IF(AG27=0,1.3,IF(AG27<0,0,IF(AF27/AG27>1.2,IF((AF27/AG27-1.2)*0.1+1.2>1.3,1.3,(AF27/AG27-1.2)*0.1+1.2),AF27/AG27)))) -> 1.2915942 | AI27: 3 | AJ27: =(B27*C27+F27*G27+J27*K27+N27*O27+R27*S27+V27*W27+Z27*AA27+AD27*AE27+AH27*AI27)/(C27+G27+K27+O27+S27+W27+AA27+AE27+AI27) -> 1.136022 | AK27: 154731 | AL27: =ROUND(AJ27*AK27,1) -> 175777.8 | AM27: =AL27-AK27 -> 21046.8 | AO27: =AL27-AN27 -> 175777.8 | AP27: 13402.5 | AQ27: 13402.6 | AR27: 15907.7 | AS27: 14237.7 | AT27: 14237.5 | AU27: 18781.9 | AV27: 25044.5 | AW27: 16430.5 | AX27: 21031.5 | AY27: 12278.8 | AZ27: 16475.5 | BA27: =ROUND(AO27-SUM(AP27:AZ27),1) -> -5452.9 | BF27: =IF(AND(BA27>0,OR(BB27="+",BC27="+",BD27="+",BE27="+")),0,BA27) -> -5452.9
A28: Елховский | B28: 1 | C28: 10 | D28: 2300 | E28: 3519.2 | F28: =IF(G28=0,0,IF(D28=0,1,IF(E28<0,0,IF(E28/D28>1.2,IF((E28/D28-1.2)*0.1+1.2>1.3,1.3,(E28/D28-1.2)*0.1+1.2),E28/D28)))) -> 1.2330087 | G28: 10 | H28: 60 | I28: 104 | J28: =IF(K28=0,0,IF(H28=0,1,IF(I28<0,0,IF(I28/H28>1.2,IF((I28/H28-1.2)*0.1+1.2>1.3,1.3,(I28/H28-1.2)*0.1+1.2),I28/H28)))) -> 1.2533333 | K28: 15 | L28: 3443 | M28: 2747 | N28: =IF(O28=0,0,IF(L28=0,1,IF(M28<0,0,IF(M28/L28>1.2,IF((M28/L28-1.2)*0.1+1.2>1.3,1.3,(M28/L28-1.2)*0.1+1.2),M28/L28)))) -> 0.79785071 | O28: 5 | P28: 62.6 | Q28: 91.4 | R28: =IF(S28=0,0,IF(P28=0,1,IF(Q28<0,0,IF(Q28/P28>1.2,IF((Q28/P28-1.2)*0.1+1.2>1.3,1.3,(Q28/P28-1.2)*0.1+1.2),Q28/P28)))) -> 1.2260064 | S28: 10 | T28: 6110.5 | U28: 6790 | V28: =IF(W28=0,0,IF(T28=0,1,IF(U28<0,0,IF(U28/T28>1.2,IF((U28/T28-1.2)*0.1+1.2>1.3,1.3,(U28/T28-1.2)*0.1+1.2),U28/T28)))) -> 1.111202 | W28: 10 | X28: 969.4 | Y28: 970 | Z28: =IF(AA28=0,0,IF(X28=0,1,IF(Y28<0,0,IF(Y28/X28>1.2,IF((Y28/X28-1.2)*0.1+1.2>1.3,1.3,(Y28/X28-1.2)*0.1+1.2),Y28/X28)))) -> 1.0006189 | AA28: 10 | AB28: 754 | AC28: 860 | AD28: =IF(AE28=0,0,IF(AB28=0,1,IF(AC28<0,0,IF(AC28/AB28>1.2,IF((AC28/AB28-1.2)*0.1+1.2>1.3,1.3,(AC28/AB28-1.2)*0.1+1.2),AC28/AB28)))) -> 1.1405836 | AE28: 12 | AF28: 80 | AG28: 46 | AH28: =IF(AI28=0,0,IF(AG28=0,1.3,IF(AG28<0,0,IF(AF28/AG28>1.2,IF((AF28/AG28-1.2)*0.1+1.2>1.3,1.3,(AF28/AG28-1.2)*0.1+1.2),AF28/AG28)))) -> 1.253913 | AI28: 3 | AJ28: =(B28*C28+F28*G28+J28*K28+N28*O28+R28*S28+V28*W28+Z28*AA28+AD28*AE28+AH28*AI28)/(C28+G28+K28+O28+S28+W28+AA28+AE28+AI28) -> 1.1287807 | AK28: 32960 | AL28: =ROUND(AJ28*AK28,1) -> 37204.6 | AM28: =AL28-AK28 -> 4244.6 | AO28: =AL28-AN28 -> 37204.6 | AP28: 2543.1 | AQ28: 2543.1 | AR28: 3110.2 | AS28: 2732.2 | AT28: 2732.1 | AU28: 2633.5 | AV28: 4337.5 | AW28: 2947.4 | AX28: 3955.6 | AY28: 7844.6 | AZ28: 3538 | BA28: =ROUND(AO28-SUM(AP28:AZ28),1) -> -1712.7 | BF28: =IF(AND(BA28>0,OR(BB28="+",BC28="+",BD28="+",BE28="+")),0,BA28) -> -1712.7
A29: Исаклинский | B29: 1 | C29: 10 | D29: 2916 | E29: 3573.1 | F29: =IF(G29=0,0,IF(D29=0,1,IF(E29<0,0,IF(E29/D29>1.2,IF((E29/D29-1.2)*0.1+1.2>1.3,1.3,(E29/D29-1.2)*0.1+1.2),E29/D29)))) -> 1.2025343 | G29: 10 | H29: 60 | I29: 126.6 | J29: =IF(K29=0,0,IF(H29=0,1,IF(I29<0,0,IF(I29/H29>1.2,IF((I29/H29-1.2)*0.1+1.2>1.3,1.3,(I29/H29-1.2)*0.1+1.2),I29/H29)))) -> 1.291 | K29: 15 | L29: 5895 | M29: 2432 | N29: =IF(O29=0,0,IF(L29=0,1,IF(M29<0,0,IF(M29/L29>1.2,IF((M29/L29-1.2)*0.1+1.2>1.3,1.3,(M29/L29-1.2)*0.1+1.2),M29/L29)))) -> 0.41255301 | O29: 5 | P29: 51.1 | Q29: 77.7 | R29: =IF(S29=0,0,IF(P29=0,1,IF(Q29<0,0,IF(Q29/P29>1.2,IF((Q29/P29-1.2)*0.1+1.2>1.3,1.3,(Q29/P29-1.2)*0.1+1.2),Q29/P29)))) -> 1.2320548 | S29: 10 | T29: 23602.8 | U29: 23703 | V29: =IF(W29=0,0,IF(T29=0,1,IF(U29<0,0,IF(U29/T29>1.2,IF((U29/T29-1.2)*0.1+1.2>1.3,1.3,(U29/T29-1.2)*0.1+1.2),U29/T29)))) -> 1.0042453 | W29: 10 | X29: 3039.9 | Y29: 3043 | Z29: =IF(AA29=0,0,IF(X29=0,1,IF(Y29<0,0,IF(Y29/X29>1.2,IF((Y29/X29-1.2)*0.1+1.2>1.3,1.3,(Y29/X29-1.2)*0.1+1.2),Y29/X29)))) -> 1.0010198 | AA29: 10 | AB29: 1588 | AC29: 1656 | AD29: =IF(AE29=0,0,IF(AB29=0,1,IF(AC29<0,0,IF(AC29/AB29>1.2,IF((AC29/AB29-1.2)*0.1+1.2>1.3,1.3,(AC29/AB29-1.2)*0.1+1.2),AC29/AB29)))) -> 1.0428212 | AE29: 12 | AF29: 150 | AG29: 97 | AH29: =IF(AI29=0,0,IF(AG29=0,1.3,IF(AG29<0,0,IF(AF29/AG29>1.2,IF((AF29/AG29-1.2)*0.1+1.2>1.3,1.3,(AF29/AG29-1.2)*0.1+1.2),AF29/AG29)))) -> 1.2346392 | AI29: 3 | AJ29: =(B29*C29+F29*G29+J29*K29+N29*O29+R29*S29+V29*W29+Z29*AA29+AD29*AE29+AH29*AI29)/(C29+G29+K29+O29+S29+W29+AA29+AE29+AI29) -> 1.0828715 | AK29: 55290 | AL29: =ROUND(AJ29*AK29,1) -> 59872 | AM29: =AL29-AK29 -> 4582 | AO29: =AL29-AN29 -> 59872 | AP29: 4966.7 | AQ29: 4966.8 | AR29: 2815.6 | AS29: 4249.7 | AT29: 4249.6 | AU29: 10490.9 | AV29: 8214.2 | AW29: 5707.7 | AX29: 9201.1 | AY29: 6095.7 | AZ29: 6095.9 | BA29: =ROUND(AO29-SUM(AP29:AZ29),1) -> -7181.9 | BF29: =IF(AND(BA29>0,OR(BB29="+",BC29="+",BD29="+",BE29="+")),0,BA29) -> -7181.9
A30: Камышлинский | B30: 1 | C30: 10 | D30: 2708 | E30: 3129.4 | F30: =IF(G30=0,0,IF(D30=0,1,IF(E30<0,0,IF(E30/D30>1.2,IF((E30/D30-1.2)*0.1+1.2>1.3,1.3,(E30/D30-1.2)*0.1+1.2),E30/D30)))) -> 1.155613 | G30: 10 | H30: 60 | I30: 91 | J30: =IF(K30=0,0,IF(H30=0,1,IF(I30<0,0,IF(I30/H30>1.2,IF((I30/H30-1.2)*0.1+1.2>1.3,1.3,(I30/H30-1.2)*0.1+1.2),I30/H30)))) -> 1.2316667 | K30: 15 | L30: 3564 | M30: 2708 | N30: =IF(O30=0,0,IF(L30=0,1,IF(M30<0,0,IF(M30/L30>1.2,IF((M30/L30-1.2)*0.1+1.2>1.3,1.3,(M30/L30-1.2)*0.1+1.2),M30/L30)))) -> 0.75982043 | O30: 5 | P30: 24.2 | Q30: 43.8 | R30: =IF(S30=0,0,IF(P30=0,1,IF(Q30<0,0,IF(Q30/P30>1.2,IF((Q30/P30-1.2)*0.1+1.2>1.3,1.3,(Q30/P30-1.2)*0.1+1.2),Q30/P30)))) -> 1.2609917 | S30: 10 | T30: 4268.7 | U30: 3535 | V30: =IF(W30=0,0,IF(T30=0,1,IF(U30<0,0,IF(U30/T30>1.2,IF((U30/T30-1.2)*0.1+1.2>1.3,1.3,(U30/T30-1.2)*0.1+1.2),U30/T30)))) -> 0.82812097 | W30: 10 | X30: 1237.9 | Y30: 912 | Z30: =IF(AA30=0,0,IF(X30=0,1,IF(Y30<0,0,IF(Y30/X30>1.2,IF((Y30/X30-1.2)*0.1+1.2>1.3,1.3,(Y30/X30-1.2)*0.1+1.2),Y30/X30)))) -> 0.73673156 | AA30: 10 | AB30: 774 | AC30: 950 | AD30: =IF(AE30=0,0,IF(AB30=0,1,IF(AC30<0,0,IF(AC30/AB30>1.2,IF((AC30/AB30-1.2)*0.1+1.2>1.3,1.3,(AC30/AB30-1.2)*0.1+1.2),AC30/AB30)))) -> 1.202739 | AE30: 12 | AF30: 110 | AG30: 56 | AH30: =IF(AI30=0,0,IF(AG30=0,1.3,IF(AG30<0,0,IF(AF30/AG30>1.2,IF((AF30/AG30-1.2)*0.1+1.2>1.3,1.3,(AF30/AG30-1.2)*0.1+1.2),AF30/AG30)))) -> 1.2764286 | AI30: 3 | AJ30: =(B30*C30+F30*G30+J30*K30+N30*O30+R30*S30+V30*W30+Z30*AA30+AD30*AE30+AH30*AI30)/(C30+G30+K30+O30+S30+W30+AA30+AE30+AI30) -> 1.0629509 | AK30: 41026 | AL30: =ROUND(AJ30*AK30,1) -> 43608.6 | AM30: =AL30-AK30 -> 2582.6 | AO30: =AL30-AN30 -> 43608.6 | AP30: 3001.6 | AQ30: 3001.7 | AR30: 3794 | AS30: 3265.7 | AT30: 3265.8 | AU30: 4229.1 | AV30: 4908.4 | AW30: 3637.9 | AX30: 4029.9 | AY30: 11049.8 | AZ30: 4418.3 | BA30: =ROUND(AO30-SUM(AP30:AZ30),1) -> -4993.6 | BF30: =IF(AND(BA30>0,OR(BB30="+",BC30="+",BD30="+",BE30="+")),0,BA30) -> -4993.6
A31: Кинельский | B31: 1 | C31: 10 | D31: 7700 | E31: 10193.5 | F31: =IF(G31=0,0,IF(D31=0,1,IF(E31<0,0,IF(E31/D31>1.2,IF((E31/D31-1.2)*0.1+1.2>1.3,1.3,(E31/D31-1.2)*0.1+1.2),E31/D31)))) -> 1.2123831 | G31: 10 | H31: 60 | I31: 52.7 | J31: =IF(K31=0,0,IF(H31=0,1,IF(I31<0,0,IF(I31/H31>1.2,IF((I31/H31-1.2)*0.1+1.2>1.3,1.3,(I31/H31-1.2)*0.1+1.2),I31/H31)))) -> 0.87833333 | K31: 15 | L31: 34620 | M31: 40582 | N31: =IF(O31=0,0,IF(L31=0,1,IF(M31<0,0,IF(M31/L31>1.2,IF((M31/L31-1.2)*0.1+1.2>1.3,1.3,(M31/L31-1.2)*0.1+1.2),M31/L31)))) -> 1.1722126 | O31: 5 | P31: 90.5 | Q31: 165.9 | R31: =IF(S31=0,0,IF(P31=0,1,IF(Q31<0,0,IF(Q31/P31>1.2,IF((Q31/P31-1.2)*0.1+1.2>1.3,1.3,(Q31/P31-1.2)*0.1+1.2),Q31/P31)))) -> 1.2633149 | S31: 10 | T31: 27778.3 | U31: 29485 | V31: =IF(W31=0,0,IF(T31=0,1,IF(U31<0,0,IF(U31/T31>1.2,IF((U31/T31-1.2)*0.1+1.2>1.3,1.3,(U31/T31-1.2)*0.1+1.2),U31/T31)))) -> 1.06144 | W31: 10 | X31: 12070.7 | Y31: 15012 | Z31: =IF(AA31=0,0,IF(X31=0,1,IF(Y31<0,0,IF(Y31/X31>1.2,IF((Y31/X31-1.2)*0.1+1.2>1.3,1.3,(Y31/X31-1.2)*0.1+1.2),Y31/X31)))) -> 1.2043673 | AA31: 10 | AB31: 4312 | AC31: 4326 | AD31: =IF(AE31=0,0,IF(AB31=0,1,IF(AC31<0,0,IF(AC31/AB31>1.2,IF((AC31/AB31-1.2)*0.1+1.2>1.3,1.3,(AC31/AB31-1.2)*0.1+1.2),AC31/AB31)))) -> 1.0032468 | AE31: 12 | AF31: 170 | AG31: 129 | AH31: =IF(AI31=0,0,IF(AG31=0,1.3,IF(AG31<0,0,IF(AF31/AG31>1.2,IF((AF31/AG31-1.2)*0.1+1.2>1.3,1.3,(AF31/AG31-1.2)*0.1+1.2),AF31/AG31)))) -> 1.2117829 | AI31: 3 | AJ31: =(B31*C31+F31*G31+J31*K31+N31*O31+R31*S31+V31*W31+Z31*AA31+AD31*AE31+AH31*AI31)/(C31+G31+K31+O31+S31+W31+AA31+AE31+AI31) -> 1.0838285 | AK31: 47138 | AL31: =ROUND(AJ31*AK31,1) -> 51089.5 | AM31: =AL31-AK31 -> 3951.5 | AO31: =AL31-AN31 -> 51089.5 | AP31: 4127.3 | AQ31: 4127.2 | AR31: 4871.9 | AS31: 4375.4 | AT31: 4375.5 | AU31: 4385.7 | AV31: 6310.2 | AW31: 4653.3 | AX31: 4628 | AY31: 4007.6 | AZ31: 4586.2 | BA31: =ROUND(AO31-SUM(AP31:AZ31),1) -> 641.2 | BF31: =IF(AND(BA31>0,OR(BB31="+",BC31="+",BD31="+",BE31="+")),0,BA31) -> 641.2
A32: Кинель-Черкасский | B32: 1 | C32: 10 | D32: 15870 | E32: 18232.5 | F32: =IF(G32=0,0,IF(D32=0,1,IF(E32<0,0,IF(E32/D32>1.2,IF((E32/D32-1.2)*0.1+1.2>1.3,1.3,(E32/D32-1.2)*0.1+1.2),E32/D32)))) -> 1.1488658 | G32: 10 | H32: 60 | I32: 154.2 | J32: =IF(K32=0,0,IF(H32=0,1,IF(I32<0,0,IF(I32/H32>1.2,IF((I32/H32-1.2)*0.1+1.2>1.3,1.3,(I32/H32-1.2)*0.1+1.2),I32/H32)))) -> 1.3 | K32: 15 | L32: 25389 | M32: 19997 | N32: =IF(O32=0,0,IF(L32=0,1,IF(M32<0,0,IF(M32/L32>1.2,IF((M32/L32-1.2)*0.1+1.2>1.3,1.3,(M32/L32-1.2)*0.1+1.2),M32/L32)))) -> 0.78762456 | O32: 5 | P32: 142.5 | Q32: 215.2 | R32: =IF(S32=0,0,IF(P32=0,1,IF(Q32<0,0,IF(Q32/P32>1.2,IF((Q32/P32-1.2)*0.1+1.2>1.3,1.3,(Q32/P32-1.2)*0.1+1.2),Q32/P32)))) -> 1.2310175 | S32: 10 | T32: 12062.1 | U32: 12064 | V32: =IF(W32=0,0,IF(T32=0,1,IF(U32<0,0,IF(U32/T32>1.2,IF((U32/T32-1.2)*0.1+1.2>1.3,1.3,(U32/T32-1.2)*0.1+1.2),U32/T32)))) -> 1.0001575 | W32: 10 | X32: 34750 | Y32: 39186 | Z32: =IF(AA32=0,0,IF(X32=0,1,IF(Y32<0,0,IF(Y32/X32>1.2,IF((Y32/X32-1.2)*0.1+1.2>1.3,1.3,(Y32/X32-1.2)*0.1+1.2),Y32/X32)))) -> 1.1276547 | AA32: 10 | AB32: 4606 | AC32: 4732 | AD32: =IF(AE32=0,0,IF(AB32=0,1,IF(AC32<0,0,IF(AC32/AB32>1.2,IF((AC32/AB32-1.2)*0.1+1.2>1.3,1.3,(AC32/AB32-1.2)*0.1+1.2),AC32/AB32)))) -> 1.0273556 | AE32: 12 | AF32: 190 | AG32: 135 | AH32: =IF(AI32=0,0,IF(AG32=0,1.3,IF(AG32<0,0,IF(AF32/AG32>1.2,IF((AF32/AG32-1.2)*0.1+1.2>1.3,1.3,(AF32/AG32-1.2)*0.1+1.2),AF32/AG32)))) -> 1.2207407 | AI32: 3 | AJ32: =(B32*C32+F32*G32+J32*K32+N32*O32+R32*S32+V32*W32+Z32*AA32+AD32*AE32+AH32*AI32)/(C32+G32+K32+O32+S32+W32+AA32+AE32+AI32) -> 1.1118302 | AK32: 92847 | AL32: =ROUND(AJ32*AK32,1) -> 103230.1 | AM32: =AL32-AK32 -> 10383.1 | AO32: =AL32-AN32 -> 103230.1 | AP32: 8227.2 | AQ32: 8227.2 | AR32: 8646 | AS32: 8366.8 | AT32: 8366.8 | AU32: 8733.7 | AV32: 14843.6 | AW32: 9344.5 | AX32: 9552 | AY32: 9367.6 | AZ32: 9367.5 | BA32: =ROUND(AO32-SUM(AP32:AZ32),1) -> 187.2 | BF32: =IF(AND(BA32>0,OR(BB32="+",BC32="+",BD32="+",BE32="+")),0,BA32) -> 187.2
A33: Клявлинский | B33: 1 | C33: 10 | D33: 3912 | E33: 4297.3 | F33: =IF(G33=0,0,IF(D33=0,1,IF(E33<0,0,IF(E33/D33>1.2,IF((E33/D33-1.2)*0.1+1.2>1.3,1.3,(E33/D33-1.2)*0.1+1.2),E33/D33)))) -> 1.0984918 | G33: 10 | H33: 60 | I33: 153 | J33: =IF(K33=0,0,IF(H33=0,1,IF(I33<0,0,IF(I33/H33>1.2,IF((I33/H33-1.2)*0.1+1.2>1.3,1.3,(I33/H33-1.2)*0.1+1.2),I33/H33)))) -> 1.3 | K33: 15 | L33: 4864 | M33: 2879 | N33: =IF(O33=0,0,IF(L33=0,1,IF(M33<0,0,IF(M33/L33>1.2,IF((M33/L33-1.2)*0.1+1.2>1.3,1.3,(M33/L33-1.2)*0.1+1.2),M33/L33)))) -> 0.59189967 | O33: 5 | P33: 42.5 | Q33: 61.3 | R33: =IF(S33=0,0,IF(P33=0,1,IF(Q33<0,0,IF(Q33/P33>1.2,IF((Q33/P33-1.2)*0.1+1.2>1.3,1.3,(Q33/P33-1.2)*0.1+1.2),Q33/P33)))) -> 1.2242353 | S33: 10 | T33: 6896.1 | U33: 6578 | V33: =IF(W33=0,0,IF(T33=0,1,IF(U33<0,0,IF(U33/T33>1.2,IF((U33/T33-1.2)*0.1+1.2>1.3,1.3,(U33/T33-1.2)*0.1+1.2),U33/T33)))) -> 0.95387248 | W33: 10 | X33: 1352.5 | Y33: 1190 | Z33: =IF(AA33=0,0,IF(X33=0,1,IF(Y33<0,0,IF(Y33/X33>1.2,IF((Y33/X33-1.2)*0.1+1.2>1.3,1.3,(Y33/X33-1.2)*0.1+1.2),Y33/X33)))) -> 0.87985213 | AA33: 10 | AB33: 1275 | AC33: 1351 | AD33: =IF(AE33=0,0,IF(AB33=0,1,IF(AC33<0,0,IF(AC33/AB33>1.2,IF((AC33/AB33-1.2)*0.1+1.2>1.3,1.3,(AC33/AB33-1.2)*0.1+1.2),AC33/AB33)))) -> 1.0596078 | AE33: 12 | AF33: 110 | AG33: 61 | AH33: =IF(AI33=0,0,IF(AG33=0,1.3,IF(AG33<0,0,IF(AF33/AG33>1.2,IF((AF33/AG33-1.2)*0.1+1.2>1.3,1.3,(AF33/AG33-1.2)*0.1+1.2),AF33/AG33)))) -> 1.2603279 | AI33: 3 | AJ33: =(B33*C33+F33*G33+J33*K33+N33*O33+R33*S33+V33*W33+Z33*AA33+AD33*AE33+AH33*AI33)/(C33+G33+K33+O33+S33+W33+AA33+AE33+AI33) -> 1.0649446 | AK33: 58706 | AL33: =ROUND(AJ33*AK33,1) -> 62518.6 | AM33: =AL33-AK33 -> 3812.6 | AN33: 4131.5 | AO33: =AL33-AN33 -> 58387.1 | AP33: 3691.4 | AQ33: 3691.3 | AR33: 2609.4 | AS33: 2715.6 | AT33: 2715.4 | AU33: 6045.9 | AV33: 5824.6 | AW33: 4489.2 | AX33: 4663 | AY33: 22947.2 | AZ33: 6352.4 | BA33: =ROUND(AO33-SUM(AP33:AZ33),1) -> -7358.3 | BF33: =IF(AND(BA33>0,OR(BB33="+",BC33="+",BD33="+",BE33="+")),0,BA33) -> -7358.3
A34: Кошкинский | B34: 1 | C34: 10 | D34: 12121 | E34: 13029.9 | F34: =IF(G34=0,0,IF(D34=0,1,IF(E34<0,0,IF(E34/D34>1.2,IF((E34/D34-1.2)*0.1+1.2>1.3,1.3,(E34/D34-1.2)*0.1+1.2),E34/D34)))) -> 1.0749856 | G34: 10 | H34: 60 | I34: 130.5 | J34: =IF(K34=0,0,IF(H34=0,1,IF(I34<0,0,IF(I34/H34>1.2,IF((I34/H34-1.2)*0.1+1.2>1.3,1.3,(I34/H34-1.2)*0.1+1.2),I34/H34)))) -> 1.2975 | K34: 15 | L34: 7316 | M34: 4787 | N34: =IF(O34=0,0,IF(L34=0,1,IF(M34<0,0,IF(M34/L34>1.2,IF((M34/L34-1.2)*0.1+1.2>1.3,1.3,(M34/L34-1.2)*0.1+1.2),M34/L34)))) -> 0.6543193 | O34: 5 | P34: 133.1 | Q34: 196 | R34: =IF(S34=0,0,IF(P34=0,1,IF(Q34<0,0,IF(Q34/P34>1.2,IF((Q34/P34-1.2)*0.1+1.2>1.3,1.3,(Q34/P34-1.2)*0.1+1.2),Q34/P34)))) -> 1.2272577 | S34: 10 | T34: 28394.6 | U34: 28093 | V34: =IF(W34=0,0,IF(T34=0,1,IF(U34<0,0,IF(U34/T34>1.2,IF((U34/T34-1.2)*0.1+1.2>1.3,1.3,(U34/T34-1.2)*0.1+1.2),U34/T34)))) -> 0.98937826 | W34: 10 | X34: 4110.6 | Y34: 3558 | Z34: =IF(AA34=0,0,IF(X34=0,1,IF(Y34<0,0,IF(Y34/X34>1.2,IF((Y34/X34-1.2)*0.1+1.2>1.3,1.3,(Y34/X34-1.2)*0.1+1.2),Y34/X34)))) -> 0.86556707 | AA34: 10 | AB34: 2764 | AC34: 2771 | AD34: =IF(AE34=0,0,IF(AB34=0,1,IF(AC34<0,0,IF(AC34/AB34>1.2,IF((AC34/AB34-1.2)*0.1+1.2>1.3,1.3,(AC34/AB34-1.2)*0.1+1.2),AC34/AB34)))) -> 1.0025326 | AE34: 12 | AF34: 190 | AG34: 120 | AH34: =IF(AI34=0,0,IF(AG34=0,1.3,IF(AG34<0,0,IF(AF34/AG34>1.2,IF((AF34/AG34-1.2)*0.1+1.2>1.3,1.3,(AF34/AG34-1.2)*0.1+1.2),AF34/AG34)))) -> 1.2383333 | AI34: 3 | AJ34: =(B34*C34+F34*G34+J34*K34+N34*O34+R34*S34+V34*W34+Z34*AA34+AD34*AE34+AH34*AI34)/(C34+G34+K34+O34+S34+W34+AA34+AE34+AI34) -> 1.0594279 | AK34: 61239 | AL34: =ROUND(AJ34*AK34,1) -> 64878.3 | AM34: =AL34-AK34 -> 3639.3 | AN34: 4713 | AO34: =AL34-AN34 -> 60165.3 | AP34: 5459.5 | AQ34: 5459.4 | AR34: 6181.1 | AS34: 4790 | AT34: 4790.1 | AU34: 5933.4 | AV34: 8641.1 | AW34: 6566.9 | AX34: 6707.9 | AY34: 7033.4 | AZ34: 6627.6 | BA34: =ROUND(AO34-SUM(AP34:AZ34),1) -> -8025.1 | BF34: =IF(AND(BA34>0,OR(BB34="+",BC34="+",BD34="+",BE34="+")),0,BA34) -> -8025.1
A35: Красноармейский | B35: 1 | C35: 10 | D35: 4799 | E35: 5110.8 | F35: =IF(G35=0,0,IF(D35=0,1,IF(E35<0,0,IF(E35/D35>1.2,IF((E35/D35-1.2)*0.1+1.2>1.3,1.3,(E35/D35-1.2)*0.1+1.2),E35/D35)))) -> 1.0649719 | G35: 10 | H35: 60 | I35: 124.6 | J35: =IF(K35=0,0,IF(H35=0,1,IF(I35<0,0,IF(I35/H35>1.2,IF((I35/H35-1.2)*0.1+1.2>1.3,1.3,(I35/H35-1.2)*0.1+1.2),I35/H35)))) -> 1.2876667 | K35: 15 | L35: 5958 | M35: 5871 | N35: =IF(O35=0,0,IF(L35=0,1,IF(M35<0,0,IF(M35/L35>1.2,IF((M35/L35-1.2)*0.1+1.2>1.3,1.3,(M35/L35-1.2)*0.1+1.2),M35/L35)))) -> 0.98539778 | O35: 5 | P35: 117.3 | Q35: 203.8 | R35: =IF(S35=0,0,IF(P35=0,1,IF(Q35<0,0,IF(Q35/P35>1.2,IF((Q35/P35-1.2)*0.1+1.2>1.3,1.3,(Q35/P35-1.2)*0.1+1.2),Q35/P35)))) -> 1.2537425 | S35: 10 | T35: 18188.8 | U35: 14959 | V35: =IF(W35=0,0,IF(T35=0,1,IF(U35<0,0,IF(U35/T35>1.2,IF((U35/T35-1.2)*0.1+1.2>1.3,1.3,(U35/T35-1.2)*0.1+1.2),U35/T35)))) -> 0.82242919 | W35: 10 | X35: 11382 | Y35: 8403 | Z35: =IF(AA35=0,0,IF(X35=0,1,IF(Y35<0,0,IF(Y35/X35>1.2,IF((Y35/X35-1.2)*0.1+1.2>1.3,1.3,(Y35/X35-1.2)*0.1+1.2),Y35/X35)))) -> 0.73827095 | AA35: 10 | AB35: 2218 | AC35: 2284 | AD35: =IF(AE35=0,0,IF(AB35=0,1,IF(AC35<0,0,IF(AC35/AB35>1.2,IF((AC35/AB35-1.2)*0.1+1.2>1.3,1.3,(AC35/AB35-1.2)*0.1+1.2),AC35/AB35)))) -> 1.0297565 | AE35: 12 | AF35: 160 | AG35: 98 | AH35: =IF(AI35=0,0,IF(AG35=0,1.3,IF(AG35<0,0,IF(AF35/AG35>1.2,IF((AF35/AG35-1.2)*0.1+1.2>1.3,1.3,(AF35/AG35-1.2)*0.1+1.2),AF35/AG35)))) -> 1.2432653 | AI35: 3 | AJ35: =(B35*C35+F35*G35+J35*K35+N35*O35+R35*S35+V35*W35+Z35*AA35+AD35*AE35+AH35*AI35)/(C35+G35+K35+O35+S35+W35+AA35+AE35+AI35) -> 1.048506 | AK35: 64459 | AL35: =ROUND(AJ35*AK35,1) -> 67585.6 | AM35: =AL35-AK35 -> 3126.6 | AO35: =AL35-AN35 -> 67585.6 | AP35: 5022 | AQ35: 5022 | AR35: 6660.3 | AS35: 5568.2 | AT35: 5568 | AU35: 6381 | AV35: 9815.2 | AW35: 6290.9 | AX35: 5565.4 | AY35: 7907.9 | AZ35: 6380.1 | BA35: =ROUND(AO35-SUM(AP35:AZ35),1) -> -2595.4 | BF35: =IF(AND(BA35>0,OR(BB35="+",BC35="+",BD35="+",BE35="+")),0,BA35) -> -2595.4
A36: Красноярский | B36: 1 | C36: 10 | D36: 34130 | E36: 39015.5 | F36: =IF(G36=0,0,IF(D36=0,1,IF(E36<0,0,IF(E36/D36>1.2,IF((E36/D36-1.2)*0.1+1.2>1.3,1.3,(E36/D36-1.2)*0.1+1.2),E36/D36)))) -> 1.1431439 | G36: 10 | H36: 60 | I36: 55.3 | J36: =IF(K36=0,0,IF(H36=0,1,IF(I36<0,0,IF(I36/H36>1.2,IF((I36/H36-1.2)*0.1+1.2>1.3,1.3,(I36/H36-1.2)*0.1+1.2),I36/H36)))) -> 0.92166667 | K36: 15 | L36: 114859 | M36: 174953 | N36: =IF(O36=0,0,IF(L36=0,1,IF(M36<0,0,IF(M36/L36>1.2,IF((M36/L36-1.2)*0.1+1.2>1.3,1.3,(M36/L36-1.2)*0.1+1.2),M36/L36)))) -> 1.2323198 | O36: 5 | P36: 66 | Q36: 108.4 | R36: =IF(S36=0,0,IF(P36=0,1,IF(Q36<0,0,IF(Q36/P36>1.2,IF((Q36/P36-1.2)*0.1+1.2>1.3,1.3,(Q36/P36-1.2)*0.1+1.2),Q36/P36)))) -> 1.2442424 | S36: 10 | T36: 18073.7 | U36: 19173 | V36: =IF(W36=0,0,IF(T36=0,1,IF(U36<0,0,IF(U36/T36>1.2,IF((U36/T36-1.2)*0.1+1.2>1.3,1.3,(U36/T36-1.2)*0.1+1.2),U36/T36)))) -> 1.0608232 | W36: 10 | X36: 4730 | Y36: 4083 | Z36: =IF(AA36=0,0,IF(X36=0,1,IF(Y36<0,0,IF(Y36/X36>1.2,IF((Y36/X36-1.2)*0.1+1.2>1.3,1.3,(Y36/X36-1.2)*0.1+1.2),Y36/X36)))) -> 0.86321353 | AA36: 10 | AB36: 10736 | AC36: 10956 | AD36: =IF(AE36=0,0,IF(AB36=0,1,IF(AC36<0,0,IF(AC36/AB36>1.2,IF((AC36/AB36-1.2)*0.1+1.2>1.3,1.3,(AC36/AB36-1.2)*0.1+1.2),AC36/AB36)))) -> 1.0204918 | AE36: 12 | AF36: 330 | AG36: 222 | AH36: =IF(AI36=0,0,IF(AG36=0,1.3,IF(AG36<0,0,IF(AF36/AG36>1.2,IF((AF36/AG36-1.2)*0.1+1.2>1.3,1.3,(AF36/AG36-1.2)*0.1+1.2),AF36/AG36)))) -> 1.2286486 | AI36: 3 | AJ36: =(B36*C36+F36*G36+J36*K36+N36*O36+R36*S36+V36*W36+Z36*AA36+AD36*AE36+AH36*AI36)/(C36+G36+K36+O36+S36+W36+AA36+AE36+AI36) -> 1.0474433 | AK36: 93993 | AL36: =ROUND(AJ36*AK36,1) -> 98452.3 | AM36: =AL36-AK36 -> 4459.3 | AN36: 5012 | AO36: =AL36-AN36 -> 93440.3 | AP36: 8250 | AQ36: 8250 | AR36: 8179.1 | AS36: 6851.4 | AT36: 8026.9 | AU36: 10162 | AV36: 3047.4 | AW36: 8254.1 | AX36: 9180.1 | AY36: 12907.1 | AZ36: 8812 | BA36: =ROUND(AO36-SUM(AP36:AZ36),1) -> 1520.2 | BF36: =IF(AND(BA36>0,OR(BB36="+",BC36="+",BD36="+",BE36="+")),0,BA36) -> 1520.2
A37: Нефтегорский | B37: 1 | C37: 10 | D37: 15580 | E37: 17214 | F37: =IF(G37=0,0,IF(D37=0,1,IF(E37<0,0,IF(E37/D37>1.2,IF((E37/D37-1.2)*0.1+1.2>1.3,1.3,(E37/D37-1.2)*0.1+1.2),E37/D37)))) -> 1.104878 | G37: 10 | H37: 60 | I37: 50.6 | J37: =IF(K37=0,0,IF(H37=0,1,IF(I37<0,0,IF(I37/H37>1.2,IF((I37/H37-1.2)*0.1+1.2>1.3,1.3,(I37/H37-1.2)*0.1+1.2),I37/H37)))) -> 0.84333333 | K37: 15 | L37: 9650 | M37: 9845 | N37: =IF(O37=0,0,IF(L37=0,1,IF(M37<0,0,IF(M37/L37>1.2,IF((M37/L37-1.2)*0.1+1.2>1.3,1.3,(M37/L37-1.2)*0.1+1.2),M37/L37)))) -> 1.0202073 | O37: 5 | P37: 75.7 | Q37: 135.6 | R37: =IF(S37=0,0,IF(P37=0,1,IF(Q37<0,0,IF(Q37/P37>1.2,IF((Q37/P37-1.2)*0.1+1.2>1.3,1.3,(Q37/P37-1.2)*0.1+1.2),Q37/P37)))) -> 1.2591281 | S37: 10 | T37: 9414.6 | U37: 9424 | V37: =IF(W37=0,0,IF(T37=0,1,IF(U37<0,0,IF(U37/T37>1.2,IF((U37/T37-1.2)*0.1+1.2>1.3,1.3,(U37/T37-1.2)*0.1+1.2),U37/T37)))) -> 1.0009984 | W37: 10 | X37: 2587.9 | Y37: 2590 | Z37: =IF(AA37=0,0,IF(X37=0,1,IF(Y37<0,0,IF(Y37/X37>1.2,IF((Y37/X37-1.2)*0.1+1.2>1.3,1.3,(Y37/X37-1.2)*0.1+1.2),Y37/X37)))) -> 1.0008115 | AA37: 10 | AB37: 2075 | AC37: 2188 | AD37: =IF(AE37=0,0,IF(AB37=0,1,IF(AC37<0,0,IF(AC37/AB37>1.2,IF((AC37/AB37-1.2)*0.1+1.2>1.3,1.3,(AC37/AB37-1.2)*0.1+1.2),AC37/AB37)))) -> 1.0544578 | AE37: 12 | AF37: 230 | AG37: 125 | AH37: =IF(AI37=0,0,IF(AG37=0,1.3,IF(AG37<0,0,IF(AF37/AG37>1.2,IF((AF37/AG37-1.2)*0.1+1.2>1.3,1.3,(AF37/AG37-1.2)*0.1+1.2),AF37/AG37)))) -> 1.264 | AI37: 3 | AJ37: =(B37*C37+F37*G37+J37*K37+N37*O37+R37*S37+V37*W37+Z37*AA37+AD37*AE37+AH37*AI37)/(C37+G37+K37+O37+S37+W37+AA37+AE37+AI37) -> 1.0335846 | AK37: 64873 | AL37: =ROUND(AJ37*AK37,1) -> 67051.7 | AM37: =AL37-AK37 -> 2178.7 | AO37: =AL37-AN37 -> 67051.7 | AP37: 5707.7 | AQ37: 5707.8 | AR37: 5867.8 | AS37: 5761.1 | AT37: 5761.1 | AU37: 5037.9 | AV37: 10814.8 | AW37: 6379.8 | AX37: 5135.4 | AY37: 4560.7 | AZ37: 6073.4 | BA37: =ROUND(AO37-SUM(AP37:AZ37),1) -> 244.2 | BF37: =IF(AND(BA37>0,OR(BB37="+",BC37="+",BD37="+",BE37="+")),0,BA37) -> 244.2
A38: Пестравский | B38: 1 | C38: 10 | D38: 4373 | E38: 5328.6 | F38: =IF(G38=0,0,IF(D38=0,1,IF(E38<0,0,IF(E38/D38>1.2,IF((E38/D38-1.2)*0.1+1.2>1.3,1.3,(E38/D38-1.2)*0.1+1.2),E38/D38)))) -> 1.2018523 | G38: 10 | H38: 60 | I38: 101.6 | J38: =IF(K38=0,0,IF(H38=0,1,IF(I38<0,0,IF(I38/H38>1.2,IF((I38/H38-1.2)*0.1+1.2>1.3,1.3,(I38/H38-1.2)*0.1+1.2),I38/H38)))) -> 1.2493333 | K38: 15 | L38: 3733 | M38: 4267 | N38: =IF(O38=0,0,IF(L38=0,1,IF(M38<0,0,IF(M38/L38>1.2,IF((M38/L38-1.2)*0.1+1.2>1.3,1.3,(M38/L38-1.2)*0.1+1.2),M38/L38)))) -> 1.1430485 | O38: 5 | P38: 105.5 | Q38: 189.5 | R38: =IF(S38=0,0,IF(P38=0,1,IF(Q38<0,0,IF(Q38/P38>1.2,IF((Q38/P38-1.2)*0.1+1.2>1.3,1.3,(Q38/P38-1.2)*0.1+1.2),Q38/P38)))) -> 1.2596209 | S38: 10 | T38: 6877.6 | U38: 6009 | V38: =IF(W38=0,0,IF(T38=0,1,IF(U38<0,0,IF(U38/T38>1.2,IF((U38/T38-1.2)*0.1+1.2>1.3,1.3,(U38/T38-1.2)*0.1+1.2),U38/T38)))) -> 0.87370594 | W38: 10 | X38: 2303.9 | Y38: 1430 | Z38: =IF(AA38=0,0,IF(X38=0,1,IF(Y38<0,0,IF(Y38/X38>1.2,IF((Y38/X38-1.2)*0.1+1.2>1.3,1.3,(Y38/X38-1.2)*0.1+1.2),Y38/X38)))) -> 0.62068666 | AA38: 10 | AB38: 2426 | AC38: 2484 | AD38: =IF(AE38=0,0,IF(AB38=0,1,IF(AC38<0,0,IF(AC38/AB38>1.2,IF((AC38/AB38-1.2)*0.1+1.2>1.3,1.3,(AC38/AB38-1.2)*0.1+1.2),AC38/AB38)))) -> 1.0239077 | AE38: 12 | AF38: 190 | AG38: 81 | AH38: =IF(AI38=0,0,IF(AG38=0,1.3,IF(AG38<0,0,IF(AF38/AG38>1.2,IF((AF38/AG38-1.2)*0.1+1.2>1.3,1.3,(AF38/AG38-1.2)*0.1+1.2),AF38/AG38)))) -> 1.3 | AI38: 3 | AJ38: =(B38*C38+F38*G38+J38*K38+N38*O38+R38*S38+V38*W38+Z38*AA38+AD38*AE38+AH38*AI38)/(C38+G38+K38+O38+S38+W38+AA38+AE38+AI38) -> 1.0611858 | AK38: 37861 | AL38: =ROUND(AJ38*AK38,1) -> 40177.6 | AM38: =AL38-AK38 -> 2316.6 | AO38: =AL38-AN38 -> 40177.6 | AP38: 3361.4 | AQ38: 3361.3 | AR38: 1263.9 | AS38: 2662.2 | AT38: 2662.2 | AU38: 7985 | AV38: 5908.9 | AW38: 3886.4 | AX38: 0 | AY38: 3374.4 | AZ38: 3446.6 | BA38: =ROUND(AO38-SUM(AP38:AZ38),1) -> 2265.3 | BF38: =IF(AND(BA38>0,OR(BB38="+",BC38="+",BD38="+",BE38="+")),0,BA38) -> 2265.3
