Workbook

Sheet Расчет дотаций
B1: Распределение дотаций местным бюджетам на поддержку мер по обеспечению сбалансированности местных бюджетов
A2: За 4 месяца 2023 года
A3: Наименование муниципального образования | B3: Отсутствие просроченной кредиторской задолженности бюджета городского округа, консолидированного бюджета городского округа с внутригородским делением, консолидированного бюджета муниципального района по состоянию на конец отчетного периода (по состоянию на 01.05.2023) | D3: Объем алкогольной продукции, зафиксированный в единой государственной автоматизированной информационной системе (дкл.) (по состоянию на 01.04.2023) | H3: Эффективность вовлечения объектов недвижимости в налоговый оборот (%) (по состоянию на 01.04.2023) | L3: Сводная оценка выполнения социально-экономических показателей | M3: Годовое значение, тыс. рублей | N3: План распределения за период, тыс. рублей | O3: Распределение за отчетный период, тыс. рублей | P3: Отклонение от планируемого распределения, тыс. рублей | Q3: Ранее предоставленные дотации в 2023 году, тыс. рублей | V3: Распределение дотаций за апрель за вычетом ранее предоставлен-ных дотаций, тыс. рублей | W3: Соблюдение условий предоставления дотаций*: | Z3: Распределение дотаций за апрель с учетом выполнения условий предоставления дотаций
W4: непривлечение кредитов кредитных организаций в апреле 2023 года | Y4: неувеличение объема муниципального долга в части кредитов кредитных организаций в апреле 2023 года (не применяется если объем долга на 01.05.2023 не превышает его объем по состоянию на начало 2023 года)
Q5: за январь | R5: досрочное перечисление (распоряжение МУФ СО от 16.02.2023 № 01-08/14) | S5: за февраль | T5: досрочное перечисление (распоряжение МУФ СО от 04.04.2023 № 01-08/21) | U5: за март | W5: МО у которых доля дотаций на выравнивание бюджетной обеспеченности в доходах бюджета (без учета субвенций) за 2022 год > 15 % | X5: МО, муниципальный долг которых на 01.05.2023 > 90% от утвержденного общего годового объема доходов без учета утвержденного объема безвозмездных поступлений
B6: Исполнение | C6: Вес | D6: Прогнозное значение | E6: Фактически сложившийся уровень | F6: Исполнение с уч. корректир. макс. перевыполнения | G6: Вес | H6: Прогнозное значение | I6: Фактически сложившийся уровень | J6: Исполнение с уч. корректир. макс. перевыполнения | K6: Вес
A7: 1 | B7: 2 | C7: 3 | D7: 4 | E7: 5 | F7: 6=5/4 | G7: 7 | H7: 8 | I7: 9 | J7: 10=9/8 | K7: 11 | L7: 12 | M7: 13 | N7: 14=13/11мес.*3 | O7: 15=12*14 | P7: 16=15-14 | Q7: 17 | R7: 18 | S7: 19 | T7: 20 | U7: 21 | V7: 22=15-(17+…+21) | W7: 23 | X7: 24 | Y7: 25 | Z7: 26
A8: Городские округа (городской округ с внутригородским делением) | D8: =SUM(D9:D18) -> 452514 | E8: =SUM(E9:E18) -> 433239.4 | F8: =IF(E8/D8>1.2,IF((E8/D8-1.2)*0.1+1.2>1.3,1.3,(E8/D8-1.2)*0.1+1.2),E8/D8) -> 0.95740552 | M8: =SUM(M9:M18) -> 1627322 | N8: =SUM(N9:N18) -> 591753.5 | O8: =SUM(O9:O18) -> 617152.6 | P8: =SUM(P9:P18) -> 25399.1 | Q8: =SUM(Q9:Q18) -> 143262.1 | R8: =SUM(R9:R18) -> 202244.4 | S8: =SUM(S9:S18) -> 51327.8 | T8: =SUM(T9:T18) -> 0 | ... V8: =SUM(V9:V18) -> 171509.4 | Z8: =SUM(Z9:Z18) -> 167958.3
A9: Самара | B9: 1 | C9: 10 | D9: 239030 | E9: 226815 | F9: =IF(G9=0,0,IF(D9=0,1,IF(E9<0,0,IF(E9/D9>1.2,IF((E9/D9-1.2)*0.1+1.2>1.3,1.3,(E9/D9-1.2)*0.1+1.2),E9/D9)))) -> 0.94889763 | G9: 15 | H9: 86 | I9: 82.8 | J9: =IF(K9=0,0,IF(H9=0,1,IF(I9<0,0,IF(I9/H9>1.2,IF((I9/H9-1.2)*0.1+1.2>1.3,1.3,(I9/H9-1.2)*0.1+1.2),I9/H9)))) -> 0.9627907 | K9: 20 | L9: =(B9*C9+F9*G9+J9*K9)/(C9+G9+K9) -> 0.96642841 | M9: 406152 | N9: =ROUND(M9/11*4,1) -> 147691.6 | O9: =ROUND(L9*N9,1) -> 142733.4 | P9: =O9-N9 -> -4958.2 | Q9: 36922.9 | R9: 81230.4 | S9: 0 | U9: 0 | V9: =ROUND(O9-SUM(Q9:U9),1) -> 24580.1 | Z9: =IF(OR(W9="+",X9="+",Y9="+"),0,IF(V9<0,0,V9)) -> 24580.1
A10: Тольятти | B10: 1 | C10: 10 | D10: 108910 | E10: 106739.2 | F10: =IF(G10=0,0,IF(D10=0,1,IF(E10<0,0,IF(E10/D10>1.2,IF((E10/D10-1.2)*0.1+1.2>1.3,1.3,(E10/D10-1.2)*0.1+1.2),E10/D10)))) -> 0.98006795 | G10: 15 | H10: 86 | I10: 153.5 | J10: =IF(K10=0,0,IF(H10=0,1,IF(I10<0,0,IF(I10/H10>1.2,IF((I10/H10-1.2)*0.1+1.2>1.3,1.3,(I10/H10-1.2)*0.1+1.2),I10/H10)))) -> 1.2584884 | K10: 20 | L10: =(B10*C10+F10*G10+J10*K10)/(C10+G10+K10) -> 1.1082397 | M10: 614455 | N10: =ROUND(M10/11*4,1) -> 223438.2 | O10: =ROUND(L10*N10,1) -> 247623.1 | P10: =O10-N10 -> 24184.9 | Q10: 51642.7 | R10: 113614 | S10: 0 | U10: 317.8 | V10: =ROUND(O10-SUM(Q10:U10),1) -> 82048.6 | Z10: =IF(OR(W10="+",X10="+",Y10="+"),0,IF(V10<0,0,V10)) -> 82048.6
A11: Сызрань | B11: 1 | C11: 10 | D11: 33048 | E11: 31781.6 | F11: =IF(G11=0,0,IF(D11=0,1,IF(E11<0,0,IF(E11/D11>1.2,IF((E11/D11-1.2)*0.1+1.2>1.3,1.3,(E11/D11-1.2)*0.1+1.2),E11/D11)))) -> 0.96167998 | G11: 15 | H11: 86 | I11: 126.1 | J11: =IF(K11=0,0,IF(H11=0,1,IF(I11<0,0,IF(I11/H11>1.2,IF((I11/H11-1.2)*0.1+1.2>1.3,1.3,(I11/H11-1.2)*0.1+1.2),I11/H11)))) -> 1.2266279 | K11: 20 | L11: =(B11*C11+F11*G11+J11*K11)/(C11+G11+K11) -> 1.0879502 | M11: 173185 | N11: =ROUND(M11/11*4,1) -> 62976.4 | O11: =ROUND(L11*N11,1) -> 68515.2 | P11: =O11-N11 -> 5538.8 | Q11: 15744.1 | S11: 15744.1 | U11: 14658.1 | V11: =ROUND(O11-SUM(Q11:U11),1) -> 22368.9 | Z11: =IF(OR(W11="+",X11="+",Y11="+"),0,IF(V11<0,0,V11)) -> 22368.9
A12: Новокуйбышевск | B12: 1 | C12: 10 | D12: 20219 | E12: 18999.4 | F12: =IF(G12=0,0,IF(D12=0,1,IF(E12<0,0,IF(E12/D12>1.2,IF((E12/D12-1.2)*0.1+1.2>1.3,1.3,(E12/D12-1.2)*0.1+1.2),E12/D12)))) -> 0.9396805 | G12: 15 | H12: 130 | I12: 147.6 | J12: =IF(K12=0,0,IF(H12=0,1,IF(I12<0,0,IF(I12/H12>1.2,IF((I12/H12-1.2)*0.1+1.2>1.3,1.3,(I12/H12-1.2)*0.1+1.2),I12/H12)))) -> 1.1353846 | K12: 20 | L12: =(B12*C12+F12*G12+J12*K12)/(C12+G12+K12) -> 1.0400644 | M12: 91189 | N12: =ROUND(M12/11*4,1) -> 33159.6 | O12: =ROUND(L12*N12,1) -> 34488.1 | P12: =O12-N12 -> 1328.5 | Q12: 7847.2 | S12: 7847.2 | U12: 8275.2 | V12: =ROUND(O12-SUM(Q12:U12),1) -> 10518.5 | Z12: =IF(OR(W12="+",X12="+",Y12="+"),0,IF(V12<0,0,V12)) -> 10518.5
A13: Чапаевск | B13: 1 | C13: 10 | D13: 10638 | E13: 10711.7 | F13: =IF(G13=0,0,IF(D13=0,1,IF(E13<0,0,IF(E13/D13>1.2,IF((E13/D13-1.2)*0.1+1.2>1.3,1.3,(E13/D13-1.2)*0.1+1.2),E13/D13)))) -> 1.006928 | G13: 15 | H13: 86 | I13: 89.3 | J13: =IF(K13=0,0,IF(H13=0,1,IF(I13<0,0,IF(I13/H13>1.2,IF((I13/H13-1.2)*0.1+1.2>1.3,1.3,(I13/H13-1.2)*0.1+1.2),I13/H13)))) -> 1.0383721 | K13: 20 | L13: =(B13*C13+F13*G13+J13*K13)/(C13+G13+K13) -> 1.0193636 | M13: 78766 | N13: =ROUND(M13/11*4,1) -> 28642.2 | O13: =ROUND(L13*N13,1) -> 29196.8 | P13: =O13-N13 -> 554.6 | Q13: 7160.5 | S13: 7160.6 | U13: 7249.8 | V13: =ROUND(O13-SUM(Q13:U13),1) -> 7625.9 | Z13: =IF(OR(W13="+",X13="+",Y13="+"),0,IF(V13<0,0,V13)) -> 7625.9
A14: Отрадный | B14: 1 | C14: 10 | D14: 9954 | E14: 9664.2 | F14: =IF(G14=0,0,IF(D14=0,1,IF(E14<0,0,IF(E14/D14>1.2,IF((E14/D14-1.2)*0.1+1.2>1.3,1.3,(E14/D14-1.2)*0.1+1.2),E14/D14)))) -> 0.97088608 | G14: 15 | H14: 86 | I14: 82.4 | J14: =IF(K14=0,0,IF(H14=0,1,IF(I14<0,0,IF(I14/H14>1.2,IF((I14/H14-1.2)*0.1+1.2>1.3,1.3,(I14/H14-1.2)*0.1+1.2),I14/H14)))) -> 0.95813953 | K14: 20 | L14: =(B14*C14+F14*G14+J14*K14)/(C14+G14+K14) -> 0.97169071 | M14: 45600 | N14: =ROUND(M14/11*4,1) -> 16581.8 | O14: =ROUND(L14*N14,1) -> 16112.4 | P14: =O14-N14 -> -469.4 | Q14: 4128.7 | S14: 4162.2 | U14: 3928.3 | V14: =ROUND(O14-SUM(Q14:U14),1) -> 3893.2 | Z14: =IF(OR(W14="+",X14="+",Y14="+"),0,IF(V14<0,0,V14)) -> 3893.2
A15: Жигулевск | B15: 1 | C15: 10 | D15: 10314 | E15: 9664.2 | F15: =IF(G15=0,0,IF(D15=0,1,IF(E15<0,0,IF(E15/D15>1.2,IF((E15/D15-1.2)*0.1+1.2>1.3,1.3,(E15/D15-1.2)*0.1+1.2),E15/D15)))) -> 0.93699825 | G15: 15 | H15: 86 | I15: 124.2 | J15: =IF(K15=0,0,IF(H15=0,1,IF(I15<0,0,IF(I15/H15>1.2,IF((I15/H15-1.2)*0.1+1.2>1.3,1.3,(I15/H15-1.2)*0.1+1.2),I15/H15)))) -> 1.2244186 | K15: 20 | L15: =(B15*C15+F15*G15+J15*K15)/(C15+G15+K15) -> 1.078741 | M15: 65915 | N15: =ROUND(M15/11*4,1) -> 23969.1 | O15: =ROUND(L15*N15,1) -> 25856.5 | P15: =O15-N15 -> 1887.4 | Q15: 5992.3 | S15: 5992.2 | U15: 5312.8 | V15: =ROUND(O15-SUM(Q15:U15),1) -> 8559.2 | Z15: =IF(OR(W15="+",X15="+",Y15="+"),0,IF(V15<0,0,V15)) -> 8559.2
A16: Октябрьск | B16: 1 | C16: 10 | D16: 3585 | E16: 3406.9 | F16: =IF(G16=0,0,IF(D16=0,1,IF(E16<0,0,IF(E16/D16>1.2,IF((E16/D16-1.2)*0.1+1.2>1.3,1.3,(E16/D16-1.2)*0.1+1.2),E16/D16)))) -> 0.95032078 | G16: 15 | H16: 138 | I16: 137.8 | J16: =IF(K16=0,0,IF(H16=0,1,IF(I16<0,0,IF(I16/H16>1.2,IF((I16/H16-1.2)*0.1+1.2>1.3,1.3,(I16/H16-1.2)*0.1+1.2),I16/H16)))) -> 0.99855072 | K16: 20 | L16: =(B16*C16+F16*G16+J16*K16)/(C16+G16+K16) -> 0.98279614 | M16: 47129 | N16: =ROUND(M16/11*4,1) -> 17137.8 | O16: =ROUND(L16*N16,1) -> 16843 | P16: =O16-N16 -> -294.8 | Q16: 4284.5 | S16: 4284.4 | U16: 3901.4 | V16: =ROUND(O16-SUM(Q16:U16),1) -> 4372.7 | Z16: =IF(OR(W16="+",X16="+",Y16="+"),0,IF(V16<0,0,V16)) -> 4372.7
A17: Кинель | B17: 1 | C17: 10 | D17: 11855 | E17: 10812.3 | F17: =IF(G17=0,0,IF(D17=0,1,IF(E17<0,0,IF(E17/D17>1.2,IF((E17/D17-1.2)*0.1+1.2>1.3,1.3,(E17/D17-1.2)*0.1+1.2),E17/D17)))) -> 0.91204555 | G17: 15 | H17: 86 | I17: 67.1 | J17: =IF(K17=0,0,IF(H17=0,1,IF(I17<0,0,IF(I17/H17>1.2,IF((I17/H17-1.2)*0.1+1.2>1.3,1.3,(I17/H17-1.2)*0.1+1.2),I17/H17)))) -> 0.78023256 | K17: 20 | L17: =(B17*C17+F17*G17+J17*K17)/(C17+G17+K17) -> 0.87300743 | M17: 67508 | N17: =ROUND(M17/11*4,1) -> 24548.4 | O17: =ROUND(L17*N17,1) -> 21430.9 | P17: =O17-N17 -> -3117.5 | Q17: 6137.1 | S17: 6137.1 | U17: 5165.5 | V17: =ROUND(O17-SUM(Q17:U17),1) -> 3991.2 | Z17: =IF(OR(W17="+",X17="+",Y17="+"),0,IF(V17<0,0,V17)) -> 3991.2
A18: Похвистнево | B18: 1 | C18: 10 | D18: 4961 | E18: 4644.9 | F18: =IF(G18=0,0,IF(D18=0,1,IF(E18<0,0,IF(E18/D18>1.2,IF((E18/D18-1.2)*0.1+1.2>1.3,1.3,(E18/D18-1.2)*0.1+1.2),E18/D18)))) -> 0.93628301 | G18: 15 | H18: 86 | I18: 100.7 | J18: =IF(K18=0,0,IF(H18=0,1,IF(I18<0,0,IF(I18/H18>1.2,IF((I18/H18-1.2)*0.1+1.2>1.3,1.3,(I18/H18-1.2)*0.1+1.2),I18/H18)))) -> 1.1709302 | K18: 20 | L18: =(B18*C18+F18*G18+J18*K18)/(C18+G18+K18) -> 1.05473 | M18: 37423 | N18: =ROUND(M18/11*4,1) -> 13608.4 | O18: =ROUND(L18*N18,1) -> 14353.2 | P18: =O18-N18 -> 744.8 | Q18: 3402.1 | R18: 7400 | S18: 0 | U18: 0 | V18: =ROUND(O18-SUM(Q18:U18),1) -> 3551.1 | Y18: + | Z18: =IF(OR(W18="+",X18="+",Y18="+"),0,IF(V18<0,0,V18)) -> 0
A19: Муниципальные районы | D19: =SUM(D20:D46) -> 94003 | E19: =SUM(E20:E46) -> 88973 | F19: =IF(E19/D19>1.2,IF((E19/D19-1.2)*0.1+1.2>1.3,1.3,(E19/D19-1.2)*0.1+1.2),E19/D19) -> 0.94649107 | M19: =SUM(M20:M46) -> 1287928 | N19: =SUM(N20:N46) -> 468337.5 | O19: =SUM(O20:O46) -> 485233.8 | P19: =SUM(P20:P46) -> 16896.3 | Q19: =SUM(Q20:Q46) -> 110482.4 | R19: =SUM(R20:R46) -> 11376.8 | S19: =SUM(S20:S46) -> 103282.7 | T19: =SUM(T20:T46) -> 5925 | ... V19: =SUM(V20:V46) -> 137430.7 | Z19: =SUM(Z20:Z46) -> 137430.7
A20: Алексеевский | B20: 1 | C20: 10 | D20: 756 | E20: 748.2 | F20: =IF(G20=0,0,IF(D20=0,1,IF(E20<0,0,IF(E20/D20>1.2,IF((E20/D20-1.2)*0.1+1.2>1.3,1.3,(E20/D20-1.2)*0.1+1.2),E20/D20)))) -> 0.98968254 | G20: 10 | H20: 86 | I20: 144.7 | J20: =IF(K20=0,0,IF(H20=0,1,IF(I20<0,0,IF(I20/H20>1.2,IF((I20/H20-1.2)*0.1+1.2>1.3,1.3,(I20/H20-1.2)*0.1+1.2),I20/H20)))) -> 1.2482558 | K20: 15 | L20: =(B20*C20+F20*G20+J20*K20)/(C20+G20+K20) -> 1.1034475 | M20: 28405 | N20: =ROUND(M20/11*4,1) -> 10329.1 | O20: =ROUND(L20*N20,1) -> 11397.6 | P20: =O20-N20 -> 1068.5 | Q20: 2403.2 | S20: 2403.2 | U20: 2900.4 | V20: =ROUND(O20-SUM(Q20:U20),1) -> 3690.8 | Z20: =IF(OR(W20="+",X20="+",Y20="+"),0,IF(V20<0,0,V20)) -> 3690.8
A21: Безенчукский | B21: 1 | C21: 10 | D21: 5631 | E21: 5628.4 | F21: =IF(G21=0,0,IF(D21=0,1,IF(E21<0,0,IF(E21/D21>1.2,IF((E21/D21-1.2)*0.1+1.2>1.3,1.3,(E21/D21-1.2)*0.1+1.2),E21/D21)))) -> 0.99953827 | G21: 10 | H21: 86 | I21: 122.1 | J21: =IF(K21=0,0,IF(H21=0,1,IF(I21<0,0,IF(I21/H21>1.2,IF((I21/H21-1.2)*0.1+1.2>1.3,1.3,(I21/H21-1.2)*0.1+1.2),I21/H21)))) -> 1.2219767 | K21: 15 | L21: =(B21*C21+F21*G21+J21*K21)/(C21+G21+K21) -> 1.095001 | M21: 51295 | N21: =ROUND(M21/11*4,1) -> 18652.7 | O21: =ROUND(L21*N21,1) -> 20424.7 | P21: =O21-N21 -> 1772 | Q21: 4663.2 | S21: 4663.2 | U21: 4659.9 | V21: =ROUND(O21-SUM(Q21:U21),1) -> 6438.4 | Z21: =IF(OR(W21="+",X21="+",Y21="+"),0,IF(V21<0,0,V21)) -> 6438.4
A22: Богатовский | B22: 1 | C22: 10 | D22: 1616 | E22: 1615.3 | F22: =IF(G22=0,0,IF(D22=0,1,IF(E22<0,0,IF(E22/D22>1.2,IF((E22/D22-1.2)*0.1+1.2>1.3,1.3,(E22/D22-1.2)*0.1+1.2),E22/D22)))) -> 0.99956683 | G22: 10 | H22: 148 | I22: 126.1 | J22: =IF(K22=0,0,IF(H22=0,1,IF(I22<0,0,IF(I22/H22>1.2,IF((I22/H22-1.2)*0.1+1.2>1.3,1.3,(I22/H22-1.2)*0.1+1.2),I22/H22)))) -> 0.85202703 | K22: 15 | L22: =(B22*C22+F22*G22+J22*K22)/(C22+G22+K22) -> 0.93645925 | M22: 35636 | N22: =ROUND(M22/11*4,1) -> 12958.5 | O22: =ROUND(L22*N22,1) -> 12135.1 | P22: =O22-N22 -> -823.4 | Q22: 2893.7 | S22: 3210.7 | U22: 3612.4 | V22: =ROUND(O22-SUM(Q22:U22),1) -> 2418.3 | Z22: =IF(OR(W22="+",X22="+",Y22="+"),0,IF(V22<0,0,V22)) -> 2418.3
A23: Большеглушицкий | B23: 1 | C23: 10 | D23: 1702 | E23: 1720.2 | F23: =IF(G23=0,0,IF(D23=0,1,IF(E23<0,0,IF(E23/D23>1.2,IF((E23/D23-1.2)*0.1+1.2>1.3,1.3,(E23/D23-1.2)*0.1+1.2),E23/D23)))) -> 1.0106933 | G23: 10 | H23: 141 | I23: 169.3 | J23: =IF(K23=0,0,IF(H23=0,1,IF(I23<0,0,IF(I23/H23>1.2,IF((I23/H23-1.2)*0.1+1.2>1.3,1.3,(I23/H23-1.2)*0.1+1.2),I23/H23)))) -> 1.2000709 | K23: 15 | L23: =(B23*C23+F23*G23+J23*K23)/(C23+G23+K23) -> 1.0887999 | M23: 40954 | N23: =ROUND(M23/11*4,1) -> 14892.4 | O23: =ROUND(L23*N23,1) -> 16214.8 | P23: =O23-N23 -> 1322.4 | Q23: 3488.5 | S23: 3488.4 | U23: 4252.1 | V23: =ROUND(O23-SUM(Q23:U23),1) -> 4985.8 | Z23: =IF(OR(W23="+",X23="+",Y23="+"),0,IF(V23<0,0,V23)) -> 4985.8
A24: Большечерниговский | B24: 1 | C24: 10 | D24: 1254 | E24: 1353.7 | F24: =IF(G24=0,0,IF(D24=0,1,IF(E24<0,0,IF(E24/D24>1.2,IF((E24/D24-1.2)*0.1+1.2>1.3,1.3,(E24/D24-1.2)*0.1+1.2),E24/D24)))) -> 1.0795056 | G24: 10 | H24: 108 | I24: 121.1 | J24: =IF(K24=0,0,IF(H24=0,1,IF(I24<0,0,IF(I24/H24>1.2,IF((I24/H24-1.2)*0.1+1.2>1.3,1.3,(I24/H24-1.2)*0.1+1.2),I24/H24)))) -> 1.1212963 | K24: 15 | L24: =(B24*C24+F24*G24+J24*K24)/(C24+G24+K24) -> 1.0747 | M24: 49835 | N24: =ROUND(M24/11*4,1) -> 18121.8 | O24: =ROUND(L24*N24,1) -> 19475.5 | P24: =O24-N24 -> 1353.7 | Q24: 3662.2 | S24: 3662.2 | U24: 6807.3 | V24: =ROUND(O24-SUM(Q24:U24),1) -> 5343.8 | Z24: =IF(OR(W24="+",X24="+",Y24="+"),0,IF(V24<0,0,V24)) -> 5343.8
A25: Борский | B25: 1 | C25: 10 | D25: 1895 | E25: 1941.3 | F25: =IF(G25=0,0,IF(D25=0,1,IF(E25<0,0,IF(E25/D25>1.2,IF((E25/D25-1.2)*0.1+1.2>1.3,1.3,(E25/D25-1.2)*0.1+1.2),E25/D25)))) -> 1.0244327 | G25: 10 | H25: 134 | I25: 168 | J25: =IF(K25=0,0,IF(H25=0,1,IF(I25<0,0,IF(I25/H25>1.2,IF((I25/H25-1.2)*0.1+1.2>1.3,1.3,(I25/H25-1.2)*0.1+1.2),I25/H25)))) -> 1.2053731 | K25: 15 | L25: =(B25*C25+F25*G25+J25*K25)/(C25+G25+K25) -> 1.0949978 | M25: 47341 | N25: =ROUND(M25/11*4,1) -> 17214.9 | O25: =ROUND(L25*N25,1) -> 18850.3 | P25: =O25-N25 -> 1635.4 | Q25: 4143.2 | S25: 4143.2 | U25: 4782.5 | V25: =ROUND(O25-SUM(Q25:U25),1) -> 5781.4 | Z25: =IF(OR(W25="+",X25="+",Y25="+"),0,IF(V25<0,0,V25)) -> 5781.4
A26: Волжский | B26: 1 | C26: 10 | D26: 16510 | E26: 16954.7 | F26: =IF(G26=0,0,IF(D26=0,1,IF(E26<0,0,IF(E26/D26>1.2,IF((E26/D26-1.2)*0.1+1.2>1.3,1.3,(E26/D26-1.2)*0.1+1.2),E26/D26)))) -> 1.0269352 | G26: 10 | H26: 86 | I26: 91.2 | J26: =IF(K26=0,0,IF(H26=0,1,IF(I26<0,0,IF(I26/H26>1.2,IF((I26/H26-1.2)*0.1+1.2>1.3,1.3,(I26/H26-1.2)*0.1+1.2),I26/H26)))) -> 1.0604651 | K26: 15 | L26: =(B26*C26+F26*G26+J26*K26)/(C26+G26+K26) -> 1.0336094 | M26: 111545 | N26: =ROUND(M26/11*4,1) -> 40561.8 | O26: =ROUND(L26*N26,1) -> 41925.1 | P26: =O26-N26 -> 1363.3 | Q26: 10140.5 | S26: 10140.4 | U26: 10550.2 | V26: =ROUND(O26-SUM(Q26:U26),1) -> 11094 | Z26: =IF(OR(W26="+",X26="+",Y26="+"),0,IF(V26<0,0,V26)) -> 11094
A27: Елховский | B27: 1 | C27: 10 | D27: 831 | E27: 857 | F27: =IF(G27=0,0,IF(D27=0,1,IF(E27<0,0,IF(E27/D27>1.2,IF((E27/D27-1.2)*0.1+1.2>1.3,1.3,(E27/D27-1.2)*0.1+1.2),E27/D27)))) -> 1.0312876 | G27: 10 | H27: 107 | I27: 120.6 | J27: =IF(K27=0,0,IF(H27=0,1,IF(I27<0,0,IF(I27/H27>1.2,IF((I27/H27-1.2)*0.1+1.2>1.3,1.3,(I27/H27-1.2)*0.1+1.2),I27/H27)))) -> 1.1271028 | K27: 15 | L27: =(B27*C27+F27*G27+J27*K27)/(C27+G27+K27) -> 1.0634119 | M27: 20005 | N27: =ROUND(M27/11*4,1) -> 7274.5 | O27: =ROUND(L27*N27,1) -> 7735.8 | P27: =O27-N27 -> 461.3 | Q27: 1811.1 | S27: 1811.1 | U27: 1919.1 | V27: =ROUND(O27-SUM(Q27:U27),1) -> 2194.5 | Z27: =IF(OR(W27="+",X27="+",Y27="+"),0,IF(V27<0,0,V27)) -> 2194.5
A28: Исаклинский | B28: 1 | C28: 10 | D28: 870 | E28: 895.6 | F28: =IF(G28=0,0,IF(D28=0,1,IF(E28<0,0,IF(E28/D28>1.2,IF((E28/D28-1.2)*0.1+1.2>1.3,1.3,(E28/D28-1.2)*0.1+1.2),E28/D28)))) -> 1.0294253 | G28: 10 | H28: 115 | I28: 143.3 | J28: =IF(K28=0,0,IF(H28=0,1,IF(I28<0,0,IF(I28/H28>1.2,IF((I28/H28-1.2)*0.1+1.2>1.3,1.3,(I28/H28-1.2)*0.1+1.2),I28/H28)))) -> 1.2046087 | K28: 15 | L28: =(B28*C28+F28*G28+J28*K28)/(C28+G28+K28) -> 1.0960967 | M28: 43642 | N28: =ROUND(M28/11*4,1) -> 15869.8 | O28: =ROUND(L28*N28,1) -> 17394.8 | P28: =O28-N28 -> 1525 | Q28: 3372.6 | S28: 3372.7 | U28: 5332.2 | V28: =ROUND(O28-SUM(Q28:U28),1) -> 5317.3 | Z28: =IF(OR(W28="+",X28="+",Y28="+"),0,IF(V28<0,0,V28)) -> 5317.3
A29: Камышлинский | B29: 1 | C29: 10 | D29: 774 | E29: 747.5 | F29: =IF(G29=0,0,IF(D29=0,1,IF(E29<0,0,IF(E29/D29>1.2,IF((E29/D29-1.2)*0.1+1.2>1.3,1.3,(E29/D29-1.2)*0.1+1.2),E29/D29)))) -> 0.96576227 | G29: 10 | H29: 86 | I29: 103.4 | J29: =IF(K29=0,0,IF(H29=0,1,IF(I29<0,0,IF(I29/H29>1.2,IF((I29/H29-1.2)*0.1+1.2>1.3,1.3,(I29/H29-1.2)*0.1+1.2),I29/H29)))) -> 1.2002326 | K29: 15 | L29: =(B29*C29+F29*G29+J29*K29)/(C29+G29+K29) -> 1.0760317 | M29: 24547 | N29: =ROUND(M29/11*4,1) -> 8926.2 | O29: =ROUND(L29*N29,1) -> 9604.9 | P29: =O29-N29 -> 678.7 | Q29: 2134.6 | S29: 2134.7 | U29: 2310.7 | V29: =ROUND(O29-SUM(Q29:U29),1) -> 3024.9 | Z29: =IF(OR(W29="+",X29="+",Y29="+"),0,IF(V29<0,0,V29)) -> 3024.9
A30: Кинельский | B30: 1 | C30: 10 | D30: 2464 | E30: 2407.3 | F30: =IF(G30=0,0,IF(D30=0,1,IF(E30<0,0,IF(E30/D30>1.2,IF((E30/D30-1.2)*0.1+1.2>1.3,1.3,(E30/D30-1.2)*0.1+1.2),E30/D30)))) -> 0.97698864 | G30: 10 | H30: 86 | I30: 58.2 | J30: =IF(K30=0,0,IF(H30=0,1,IF(I30<0,0,IF(I30/H30>1.2,IF((I30/H30-1.2)*0.1+1.2>1.3,1.3,(I30/H30-1.2)*0.1+1.2),I30/H30)))) -> 0.67674419 | K30: 15 | L30: =(B30*C30+F30*G30+J30*K30)/(C30+G30+K30) -> 0.85488712 | M30: 34183 | N30: =ROUND(M30/11*4,1) -> 12430.2 | O30: =ROUND(L30*N30,1) -> 10626.4 | P30: =O30-N30 -> -1803.8 | Q30: 3107.5 | S30: 3107.6 | U30: 3000.2 | V30: =ROUND(O30-SUM(Q30:U30),1) -> 1411.1 | Z30: =IF(OR(W30="+",X30="+",Y30="+"),0,IF(V30<0,0,V30)) -> 1411.1
A31: Кинель-Черкасский | B31: 1 | C31: 10 | D31: 4515 | E31: 4524.9 | F31: =IF(G31=0,0,IF(D31=0,1,IF(E31<0,0,IF(E31/D31>1.2,IF((E31/D31-1.2)*0.1+1.2>1.3,1.3,(E31/D31-1.2)*0.1+1.2),E31/D31)))) -> 1.0021927 | G31: 10 | H31: 138 | I31: 165.9 | J31: =IF(K31=0,0,IF(H31=0,1,IF(I31<0,0,IF(I31/H31>1.2,IF((I31/H31-1.2)*0.1+1.2>1.3,1.3,(I31/H31-1.2)*0.1+1.2),I31/H31)))) -> 1.2002174 | K31: 15 | L31: =(B31*C31+F31*G31+J31*K31)/(C31+G31+K31) -> 1.0864339 | M31: 68749 | N31: =ROUND(M31/11*4,1) -> 24999.6 | O31: =ROUND(L31*N31,1) -> 27160.4 | P31: =O31-N31 -> 2160.8 | Q31: 6200.2 | S31: 6200.2 | U31: 6369.9 | V31: =ROUND(O31-SUM(Q31:U31),1) -> 8390.1 | Z31: =IF(OR(W31="+",X31="+",Y31="+"),0,IF(V31<0,0,V31)) -> 8390.1
A32: Клявлинский | B32: 1 | C32: 10 | D32: 1055 | E32: 1038.8 | F32: =IF(G32=0,0,IF(D32=0,1,IF(E32<0,0,IF(E32/D32>1.2,IF((E32/D32-1.2)*0.1+1.2>1.3,1.3,(E32/D32-1.2)*0.1+1.2),E32/D32)))) -> 0.98464455 | G32: 10 | H32: 147 | I32: 152.1 | J32: =IF(K32=0,0,IF(H32=0,1,IF(I32<0,0,IF(I32/H32>1.2,IF((I32/H32-1.2)*0.1+1.2>1.3,1.3,(I32/H32-1.2)*0.1+1.2),I32/H32)))) -> 1.0346939 | K32: 15 | L32: =(B32*C32+F32*G32+J32*K32)/(C32+G32+K32) -> 1.0104815 | M32: 32495 | N32: =ROUND(M32/11*4,1) -> 11816.4 | O32: =ROUND(L32*N32,1) -> 11940.3 | P32: =O32-N32 -> 123.9 | Q32: 2693.2 | S32: 2693.2 | T32: 5925 | U32: 0 | V32: =ROUND(O32-SUM(Q32:U32),1) -> 628.9 | Z32: =IF(OR(W32="+",X32="+",Y32="+"),0,IF(V32<0,0,V32)) -> 628.9
A33: Кошкинский | B33: 1 | C33: 10 | D33: 3271 | E33: 3072 | F33: =IF(G33=0,0,IF(D33=0,1,IF(E33<0,0,IF(E33/D33>1.2,IF((E33/D33-1.2)*0.1+1.2>1.3,1.3,(E33/D33-1.2)*0.1+1.2),E33/D33)))) -> 0.93916234 | G33: 10 | H33: 113 | I33: 120.9 | J33: =IF(K33=0,0,IF(H33=0,1,IF(I33<0,0,IF(I33/H33>1.2,IF((I33/H33-1.2)*0.1+1.2>1.3,1.3,(I33/H33-1.2)*0.1+1.2),I33/H33)))) -> 1.0699115 | K33: 15 | L33: =(B33*C33+F33*G33+J33*K33)/(C33+G33+K33) -> 1.0125799 | M33: 45310 | N33: =ROUND(M33/11*4,1) -> 16476.4 | O33: =ROUND(L33*N33,1) -> 16683.7 | P33: =O33-N33 -> 207.3 | Q33: 3975.7 | R33: 4000 | S33: 0 | U33: 4005.7 | V33: =ROUND(O33-SUM(Q33:U33),1) -> 4702.3 | Z33: =IF(OR(W33="+",X33="+",Y33="+"),0,IF(V33<0,0,V33)) -> 4702.3
A34: Красноармейский | B34: 1 | C34: 10 | D34: 1324 | E34: 1222.6 | F34: =IF(G34=0,0,IF(D34=0,1,IF(E34<0,0,IF(E34/D34>1.2,IF((E34/D34-1.2)*0.1+1.2>1.3,1.3,(E34/D34-1.2)*0.1+1.2),E34/D34)))) -> 0.9234139 | G34: 10 | H34: 102 | I34: 137.1 | J34: =IF(K34=0,0,IF(H34=0,1,IF(I34<0,0,IF(I34/H34>1.2,IF((I34/H34-1.2)*0.1+1.2>1.3,1.3,(I34/H34-1.2)*0.1+1.2),I34/H34)))) -> 1.2144118 | K34: 15 | L34: =(B34*C34+F34*G34+J34*K34)/(C34+G34+K34) -> 1.070009 | M34: 48129 | N34: =ROUND(M34/11*4,1) -> 17501.5 | O34: =ROUND(L34*N34,1) -> 18726.8 | P34: =O34-N34 -> 1225.3 | Q34: 3563.5 | S34: 3563.4 | U34: 5496.6 | V34: =ROUND(O34-SUM(Q34:U34),1) -> 6103.3 | Z34: =IF(OR(W34="+",X34="+",Y34="+"),0,IF(V34<0,0,V34)) -> 6103.3
A35: Красноярский | B35: 1 | C35: 10 | D35: 9729 | E35: 8511.5 | F35: =IF(G35=0,0,IF(D35=0,1,IF(E35<0,0,IF(E35/D35>1.2,IF((E35/D35-1.2)*0.1+1.2>1.3,1.3,(E35/D35-1.2)*0.1+1.2),E35/D35)))) -> 0.87485867 | G35: 10 | H35: 86 | I35: 87 | J35: =IF(K35=0,0,IF(H35=0,1,IF(I35<0,0,IF(I35/H35>1.2,IF((I35/H35-1.2)*0.1+1.2>1.3,1.3,(I35/H35-1.2)*0.1+1.2),I35/H35)))) -> 1.0116279 | K35: 15 | L35: =(B35*C35+F35*G35+J35*K35)/(C35+G35+K35) -> 0.96922872 | M35: 62862 | N35: =ROUND(M35/11*4,1) -> 22858.9 | O35: =ROUND(L35*N35,1) -> 22155.5 | P35: =O35-N35 -> -703.4 | Q35: 5714.7 | S35: 5714.8 | U35: 4642 | V35: =ROUND(O35-SUM(Q35:U35),1) -> 6084 | Z35: =IF(OR(W35="+",X35="+",Y35="+"),0,IF(V35<0,0,V35)) -> 6084
A36: Нефтегорский | B36: 1 | C36: 10 | D36: 4328 | E36: 4245.6 | F36: =IF(G36=0,0,IF(D36=0,1,IF(E36<0,0,IF(E36/D36>1.2,IF((E36/D36-1.2)*0.1+1.2>1.3,1.3,(E36/D36-1.2)*0.1+1.2),E36/D36)))) -> 0.98096118 | G36: 10 | H36: 86 | I36: 87.6 | J36: =IF(K36=0,0,IF(H36=0,1,IF(I36<0,0,IF(I36/H36>1.2,IF((I36/H36-1.2)*0.1+1.2>1.3,1.3,(I36/H36-1.2)*0.1+1.2),I36/H36)))) -> 1.0186047 | K36: 15 | L36: =(B36*C36+F36*G36+J36*K36)/(C36+G36+K36) -> 1.0025338 | M36: 45090 | N36: =ROUND(M36/11*4,1) -> 16396.4 | O36: =ROUND(L36*N36,1) -> 16437.9 | P36: =O36-N36 -> 41.5 | Q36: 4099.1 | S36: 4099.1 | U36: 3982 | V36: =ROUND(O36-SUM(Q36:U36),1) -> 4257.7 | Z36: =IF(OR(W36="+",X36="+",Y36="+"),0,IF(V36<0,0,V36)) -> 4257.7
A37: Пестравский | B37: 1 | C37: 10 | D37: 1288 | E37: 1337 | F37: =IF(G37=0,0,IF(D37=0,1,IF(E37<0,0,IF(E37/D37>1.2,IF((E37/D37-1.2)*0.1+1.2>1.3,1.3,(E37/D37-1.2)*0.1+1.2),E37/D37)))) -> 1.0380435 | G37: 10 | H37: 107 | I37: 115.8 | J37: =IF(K37=0,0,IF(H37=0,1,IF(I37<0,0,IF(I37/H37>1.2,IF((I37/H37-1.2)*0.1+1.2>1.3,1.3,(I37/H37-1.2)*0.1+1.2),I37/H37)))) -> 1.082243 | K37: 15 | L37: =(B37*C37+F37*G37+J37*K37)/(C37+G37+K37) -> 1.0461166 | M37: 25173 | N37: =ROUND(M37/11*4,1) -> 9153.8 | O37: =ROUND(L37*N37,1) -> 9575.9 | P37: =O37-N37 -> 422.1 | Q37: 2288.5 | S37: 2288.4 | U37: 2419.1 | V37: =ROUND(O37-SUM(Q37:U37),1) -> 2579.9 | Z37: =IF(OR(W37="+",X37="+",Y37="+"),0,IF(V37<0,0,V37)) -> 2579.9
A38: Похвистневский | B38: 1 | C38: 10 | D38: 1558 | E38: 1472 | F38: =IF(G38=0,0,IF(D38=0,1,IF(E38<0,0,IF(E38/D38>1.2,IF((E38/D38-1.2)*0.1+1.2>1.3,1.3,(E38/D38-1.2)*0.1+1.2),E38/D38)))) -> 0.94480103 | G38: 10 | H38: 114 | I38: 116.9 | J38: =IF(K38=0,0,IF(H38=0,1,IF(I38<0,0,IF(I38/H38>1.2,IF((I38/H38-1.2)*0.1+1.2>1.3,1.3,(I38/H38-1.2)*0.1+1.2),I38/H38)))) -> 1.0254386 | K38: 15 | L38: =(B38*C38+F38*G38+J38*K38)/(C38+G38+K38) -> 0.99513112 | M38: 62800 | N38: =ROUND(M38/11*4,1) -> 22836.4 | O38: =ROUND(L38*N38,1) -> 22725.2 | P38: =O38-N38 -> -111.2 | Q38: 5501.5 | S38: 5501.4 | U38: 5651.7 | V38: =ROUND(O38-SUM(Q38:U38),1) -> 6070.6 | Z38: =IF(OR(W38="+",X38="+",Y38="+"),0,IF(V38<0,0,V38)) -> 6070.6
A39: Приволжский | B39: 1 | C39: 10 | D39: 1882 | E39: 1873.2 | F39: =IF(G39=0,0,IF(D39=0,1,IF(E39<0,0,IF(E39/D39>1.2,IF((E39/D39-1.2)*0.1+1.2>1.3,1.3,(E39/D39-1.2)*0.1+1.2),E39/D39)))) -> 0.99532412 | G39: 10 | H39: 86 | I39: 119.8 | J39: =IF(K39=0,0,IF(H39=0,1,IF(I39<0,0,IF(I39/H39>1.2,IF((I39/H39-1.2)*0.1+1.2>1.3,1.3,(I39/H39-1.2)*0.1+1.2),I39/H39)))) -> 1.2193023 | K39: 15 | L39: =(B39*C39+F39*G39+J39*K39)/(C39+G39+K39) -> 1.0926507 | M39: 49997 | N39: =ROUND(M39/11*4,1) -> 18180.7 | O39: =ROUND(L39*N39,1) -> 19865.2 | P39: =O39-N39 -> 1684.5 | Q39: 4176.7 | S39: 4176.8 | U39: 5250.1 | V39: =ROUND(O39-SUM(Q39:U39),1) -> 6261.6 | Z39: =IF(OR(W39="+",X39="+",Y39="+"),0,IF(V39<0,0,V39)) -> 6261.6
A40: Сергиевский | B40: 1 | C40: 10 | D40: 5255 | E40: 5501.6 | F40: =IF(G40=0,0,IF(D40=0,1,IF(E40<0,0,IF(E40/D40>1.2,IF((E40/D40-1.2)*0.1+1.2>1.3,1.3,(E40/D40-1.2)*0.1+1.2),E40/D40)))) -> 1.0469267 | G40: 10 | H40: 138 | I40: 143 | J40: =IF(K40=0,0,IF(H40=0,1,IF(I40<0,0,IF(I40/H40>1.2,IF((I40/H40-1.2)*0.1+1.2>1.3,1.3,(I40/H40-1.2)*0.1+1.2),I40/H40)))) -> 1.0362319 | K40: 15 | L40: =(B40*C40+F40*G40+J40*K40)/(C40+G40+K40) -> 1.0289356 | M40: 58982 | N40: =ROUND(M40/11*4,1) -> 21448 | O40: =ROUND(L40*N40,1) -> 22068.6 | P40: =O40-N40 -> 620.6 | Q40: 5362 | S40: 5362 | U40: 5739.4 | V40: =ROUND(O40-SUM(Q40:U40),1) -> 5605.2 | Z40: =IF(OR(W40="+",X40="+",Y40="+"),0,IF(V40<0,0,V40)) -> 5605.2
...

Sheet Плюсы и минусы
A1: Факторный анализ влияния отдельных показателей на итоговое распределение за 4 месяца 2023 года
L2: тыс. рублей
A3: Наименование муниципального образования | B3: +/- по итогам отчётного периода | C3: Отсутствие просроченной кредиторской задолженности бюджета городского округа, консолидированного бюджета городского округа с внутригородским делением, консолидированного бюджета муниципального района по состоянию на конец отчетного периода | F3: Объем алкогольной продукции, зафиксированный в единой государственной автоматизированной информационной системе | I3: Эффективность вовлечения объектов недвижимости в налоговый оборот | L3: Общая сумма весов влияния
C4: Отклонение от прогноза | D4: Вес влияния на результат | E4: + / - (5)=(2)*(3)/(12) | F4: Отклонение от прогноза | G4: Вес влияния на результат | H4: + / - (8)=(2)*(6)/(12) | I4: Отклонение от прогноза | J4: Вес влияния на результат | K4: + / - (11)=(2)*(9)/(12)
A5: 1 | B5: 2 | C5: 3 | D5: 4 | E5: 5 | F5: 6 | G5: 7 | H5: 8 | I5: 9 | J5: 10 | K5: 11 | L5: 12
A6: Городские округа | B6: =SUM(B7:B16) -> 25399.1 | E6: =SUM(E7:E16) -> 0 | H6: =SUM(H7:H16) -> -7362.1057 | K6: =SUM(K7:K16) -> 32761.206
A7: Самара | B7: ='Расчет дотаций'!P9 -> -4958.2 | C7: ='Расчет дотаций'!B9-1 -> 0 | D7: =C7*'Расчет дотаций'!C9 -> 0 | E7: =$B7*D7/$L7 -> 0 | F7: ='Расчет дотаций'!F9-1 -> -0.051102372 | G7: =F7*'Расчет дотаций'!G9 -> -0.76653558 | H7: =$B7*G7/$L7 -> -2515.7757 | I7: ='Расчет дотаций'!J9-1 -> -0.037209302 | J7: =I7*'Расчет дотаций'!K9 -> -0.74418605 | K7: =$B7*J7/$L7 -> -2442.4243 | L7: =D7+G7+J7 -> -1.5107216
A8: Тольятти | B8: ='Расчет дотаций'!P10 -> 24184.9 | C8: ='Расчет дотаций'!B10-1 -> 0 | D8: =C8*'Расчет дотаций'!C10 -> 0 | E8: =$B8*D8/$L8 -> 0 | F8: ='Расчет дотаций'!F10-1 -> -0.019932054 | G8: =F8*'Расчет дотаций'!G10 -> -0.29898081 | H8: =$B8*G8/$L8 -> -1484.5284 | I8: ='Расчет дотаций'!J10-1 -> 0.25848837 | J8: =I8*'Расчет дотаций'!K10 -> 5.1697674 | K8: =$B8*J8/$L8 -> 25669.428 | L8: =D8+G8+J8 -> 4.8707866
A9: Сызрань | B9: ='Расчет дотаций'!P11 -> 5538.8 | C9: ='Расчет дотаций'!B11-1 -> 0 | D9: =C9*'Расчет дотаций'!C11 -> 0 | E9: =$B9*D9/$L9 -> 0 | F9: ='Расчет дотаций'!F11-1 -> -0.038320019 | G9: =F9*'Расчет дотаций'!G11 -> -0.57480029 | H9: =$B9*G9/$L9 -> -804.42108 | I9: ='Расчет дотаций'!J11-1 -> 0.22662791 | J9: =I9*'Расчет дотаций'!K11 -> 4.5325581 | K9: =$B9*J9/$L9 -> 6343.2211 | L9: =D9+G9+J9 -> 3.9577578
A10: Новокуйбышевск | B10: ='Расчет дотаций'!P12 -> 1328.5 | C10: ='Расчет дотаций'!B12-1 -> 0 | D10: =C10*'Расчет дотаций'!C12 -> 0 | E10: =$B10*D10/$L10 -> 0 | F10: ='Расчет дотаций'!F12-1 -> -0.060319501 | G10: =F10*'Расчет дотаций'!G12 -> -0.90479252 | H10: =$B10*G10/$L10 -> -666.71308 | I10: ='Расчет дотаций'!J12-1 -> 0.13538462 | J10: =I10*'Расчет дотаций'!K12 -> 2.7076923 | K10: =$B10*J10/$L10 -> 1995.2131 | L10: =D10+G10+J10 -> 1.8028998
A11: Чапаевск | B11: ='Расчет дотаций'!P13 -> 554.6 | C11: ='Расчет дотаций'!B13-1 -> 0 | D11: =C11*'Расчет дотаций'!C13 -> 0 | E11: =$B11*D11/$L11 -> 0 | F11: ='Расчет дотаций'!F13-1 -> 0.006927994 | G11: =F11*'Расчет дотаций'!G13 -> 0.10391991 | H11: =$B11*G11/$L11 -> 66.142427 | I11: ='Расчет дотаций'!J13-1 -> 0.038372093 | J11: =I11*'Расчет дотаций'!K13 -> 0.76744186 | K11: =$B11*J11/$L11 -> 488.45757 | L11: =D11+G11+J11 -> 0.87136177
A12: Отрадный | B12: ='Расчет дотаций'!P14 -> -469.4 | C12: ='Расчет дотаций'!B14-1 -> 0 | D12: =C12*'Расчет дотаций'!C14 -> 0 | E12: =$B12*D12/$L12 -> 0 | F12: ='Расчет дотаций'!F14-1 -> -0.029113924 | G12: =F12*'Расчет дотаций'!G14 -> -0.43670886 | H12: =$B12*G12/$L12 -> -160.9139 | I12: ='Расчет дотаций'!J14-1 -> -0.041860465 | J12: =I12*'Расчет дотаций'!K14 -> -0.8372093 | K12: =$B12*J12/$L12 -> -308.4861 | L12: =D12+G12+J12 -> -1.2739182
A13: Жигулевск | B13: ='Расчет дотаций'!P15 -> 1887.4 | C13: ='Расчет дотаций'!B15-1 -> 0 | D13: =C13*'Расчет дотаций'!C15 -> 0 | E13: =$B13*D13/$L13 -> 0 | F13: ='Расчет дотаций'!F15-1 -> -0.063001745 | G13: =F13*'Расчет дотаций'!G15 -> -0.94502618 | H13: =$B13*G13/$L13 -> -503.37801 | I13: ='Расчет дотаций'!J15-1 -> 0.2244186 | J13: =I13*'Расчет дотаций'!K15 -> 4.4883721 | K13: =$B13*J13/$L13 -> 2390.778 | L13: =D13+G13+J13 -> 3.5433459
A14: Октябрьск | B14: ='Расчет дотаций'!P16 -> -294.8 | C14: ='Расчет дотаций'!B16-1 -> 0 | D14: =C14*'Расчет дотаций'!C16 -> 0 | E14: =$B14*D14/$L14 -> 0 | F14: ='Расчет дотаций'!F16-1 -> -0.049679219 | G14: =F14*'Расчет дотаций'!G16 -> -0.74518828 | H14: =$B14*G14/$L14 -> -283.76252 | I14: ='Расчет дотаций'!J16-1 -> -0.0014492754 | J14: =I14*'Расчет дотаций'!K16 -> -0.028985507 | K14: =$B14*J14/$L14 -> -11.03748 | L14: =D14+G14+J14 -> -0.77417379
A15: Кинель | B15: ='Расчет дотаций'!P17 -> -3117.5 | C15: ='Расчет дотаций'!B17-1 -> 0 | D15: =C15*'Расчет дотаций'!C17 -> 0 | E15: =$B15*D15/$L15 -> 0 | F15: ='Расчет дотаций'!F17-1 -> -0.08795445 | G15: =F15*'Расчет дотаций'!G17 -> -1.3193167 | H15: =$B15*G15/$L15 -> -719.7219 | I15: ='Расчет дотаций'!J17-1 -> -0.21976744 | J15: =I15*'Расчет дотаций'!K17 -> -4.3953488 | K15: =$B15*J15/$L15 -> -2397.7781 | L15: =D15+G15+J15 -> -5.7146656
A16: Похвистнево | B16: ='Расчет дотаций'!P18 -> 744.8 | C16: ='Расчет дотаций'!B18-1 -> 0 | D16: =C16*'Расчет дотаций'!C18 -> 0 | E16: =$B16*D16/$L16 -> 0 | F16: ='Расчет дотаций'!F18-1 -> -0.063716993 | G16: =F16*'Расчет дотаций'!G18 -> -0.95575489 | H16: =$B16*G16/$L16 -> -289.03356 | I16: ='Расчет дотаций'!J18-1 -> 0.17093023 | J16: =I16*'Расчет дотаций'!K18 -> 3.4186047 | K16: =$B16*J16/$L16 -> 1033.8336 | L16: =D16+G16+J16 -> 2.4628498
A17: Муниципальные районы | B17: =SUM(B18:B44) -> 16896.3 | E17: =SUM(E18:E44) -> 0 | H17: =SUM(H18:H44) -> -4893.21 | K17: =SUM(K18:K44) -> 21789.51
A18: Алексеевский | B18: ='Расчет дотаций'!P20 -> 1068.5 | C18: ='Расчет дотаций'!B20-1 -> 0 | D18: =C18*'Расчет дотаций'!C20 -> 0 | E18: =$B18*D18/$L18 -> 0 | F18: ='Расчет дотаций'!F20-1 -> -0.01031746 | G18: =F18*'Расчет дотаций'!G20 -> -0.1031746 | H18: =$B18*G18/$L18 -> -30.448035 | I18: ='Расчет дотаций'!J20-1 -> 0.24825581 | J18: =I18*'Расчет дотаций'!K20 -> 3.7238372 | K18: =$B18*J18/$L18 -> 1098.948 | L18: =D18+G18+J18 -> 3.6206626
A19: Безенчукский | B19: ='Расчет дотаций'!P21 -> 1772 | C19: ='Расчет дотаций'!B21-1 -> 0 | D19: =C19*'Расчет дотаций'!C21 -> 0 | E19: =$B19*D19/$L19 -> 0 | F19: ='Расчет дотаций'!F21-1 -> -0.00046172971 | G19: =F19*'Расчет дотаций'!G21 -> -0.0046172971 | H19: =$B19*G19/$L19 -> -2.4606818 | I19: ='Расчет дотаций'!J21-1 -> 0.22197674 | J19: =I19*'Расчет дотаций'!K21 -> 3.3296512 | K19: =$B19*J19/$L19 -> 1774.4607 | L19: =D19+G19+J19 -> 3.3250339
A20: Богатовский | B20: ='Расчет дотаций'!P22 -> -823.4 | C20: ='Расчет дотаций'!B22-1 -> 0 | D20: =C20*'Расчет дотаций'!C22 -> 0 | E20: =$B20*D20/$L20 -> 0 | F20: ='Расчет дотаций'!F22-1 -> -0.00043316832 | G20: =F20*'Расчет дотаций'!G22 -> -0.0043316832 | H20: =$B20*G20/$L20 -> -1.6037887 | I20: ='Расчет дотаций'!J22-1 -> -0.14797297 | J20: =I20*'Расчет дотаций'!K22 -> -2.2195946 | K20: =$B20*J20/$L20 -> -821.79621 | L20: =D20+G20+J20 -> -2.2239263
A21: Большеглушицкий | B21: ='Расчет дотаций'!P23 -> 1322.4 | C21: ='Расчет дотаций'!B23-1 -> 0 | D21: =C21*'Расчет дотаций'!C23 -> 0 | E21: =$B21*D21/$L21 -> 0 | F21: ='Расчет дотаций'!F23-1 -> 0.010693302 | G21: =F21*'Расчет дотаций'!G23 -> 0.10693302 | H21: =$B21*G21/$L21 -> 45.498188 | I21: ='Расчет дотаций'!J23-1 -> 0.20007092 | J21: =I21*'Расчет дотаций'!K23 -> 3.0010638 | K21: =$B21*J21/$L21 -> 1276.9018 | L21: =D21+G21+J21 -> 3.1079968
A22: Большечерниговский | B22: ='Расчет дотаций'!P24 -> 1353.7 | C22: ='Расчет дотаций'!B24-1 -> 0 | D22: =C22*'Расчет дотаций'!C24 -> 0 | E22: =$B22*D22/$L22 -> 0 | F22: ='Расчет дотаций'!F24-1 -> 0.079505582 | G22: =F22*'Расчет дотаций'!G24 -> 0.79505582 | H22: =$B22*G22/$L22 -> 411.65307 | I22: ='Расчет дотаций'!J24-1 -> 0.1212963 | J22: =I22*'Расчет дотаций'!K24 -> 1.8194444 | K22: =$B22*J22/$L22 -> 942.04693 | L22: =D22+G22+J22 -> 2.6145003
A23: Борский | B23: ='Расчет дотаций'!P25 -> 1635.4 | C23: ='Расчет дотаций'!B25-1 -> 0 | D23: =C23*'Расчет дотаций'!C25 -> 0 | E23: =$B23*D23/$L23 -> 0 | F23: ='Расчет дотаций'!F25-1 -> 0.024432718 | G23: =F23*'Расчет дотаций'!G25 -> 0.24432718 | H23: =$B23*G23/$L23 -> 120.17497 | I23: ='Расчет дотаций'!J25-1 -> 0.20537313 | J23: =I23*'Расчет дотаций'!K25 -> 3.080597 | K23: =$B23*J23/$L23 -> 1515.225 | L23: =D23+G23+J23 -> 3.3249242
A24: Волжский | B24: ='Расчет дотаций'!P26 -> 1363.3 | C24: ='Расчет дотаций'!B26-1 -> 0 | D24: =C24*'Расчет дотаций'!C26 -> 0 | E24: =$B24*D24/$L24 -> 0 | F24: ='Расчет дотаций'!F26-1 -> 0.026935191 | G24: =F24*'Расчет дотаций'!G26 -> 0.26935191 | H24: =$B24*G24/$L24 -> 312.164 | I24: ='Расчет дотаций'!J26-1 -> 0.060465116 | J24: =I24*'Расчет дотаций'!K26 -> 0.90697674 | K24: =$B24*J24/$L24 -> 1051.136 | L24: =D24+G24+J24 -> 1.1763287
A25: Елховский | B25: ='Расчет дотаций'!P27 -> 461.3 | C25: ='Расчет дотаций'!B27-1 -> 0 | D25: =C25*'Расчет дотаций'!C27 -> 0 | E25: =$B25*D25/$L25 -> 0 | F25: ='Расчет дотаций'!F27-1 -> 0.031287605 | G25: =F25*'Расчет дотаций'!G27 -> 0.31287605 | H25: =$B25*G25/$L25 -> 65.030434 | I25: ='Расчет дотаций'!J27-1 -> 0.1271028 | J25: =I25*'Расчет дотаций'!K27 -> 1.9065421 | K25: =$B25*J25/$L25 -> 396.26957 | L25: =D25+G25+J25 -> 2.2194181
A26: Исаклинский | B26: ='Расчет дотаций'!P28 -> 1525 | C26: ='Расчет дотаций'!B28-1 -> 0 | D26: =C26*'Расчет дотаций'!C28 -> 0 | E26: =$B26*D26/$L26 -> 0 | F26: ='Расчет дотаций'!F28-1 -> 0.029425287 | G26: =F26*'Расчет дотаций'!G28 -> 0.29425287 | H26: =$B26*G26/$L26 -> 133.41793 | I26: ='Расчет дотаций'!J28-1 -> 0.2046087 | J26: =I26*'Расчет дотаций'!K28 -> 3.0691304 | K26: =$B26*J26/$L26 -> 1391.5821 | L26: =D26+G26+J26 -> 3.3633833
A27: Камышлинский | B27: ='Расчет дотаций'!P29 -> 678.7 | C27: ='Расчет дотаций'!B29-1 -> 0 | D27: =C27*'Расчет дотаций'!C29 -> 0 | E27: =$B27*D27/$L27 -> 0 | F27: ='Расчет дотаций'!F29-1 -> -0.034237726 | G27: =F27*'Расчет дотаций'!G29 -> -0.34237726 | H27: =$B27*G27/$L27 -> -87.321212 | I27: ='Расчет дотаций'!J29-1 -> 0.20023256 | J27: =I27*'Расчет дотаций'!K29 -> 3.0034884 | K27: =$B27*J27/$L27 -> 766.02121 | L27: =D27+G27+J27 -> 2.6611111
A28: Кинельский | B28: ='Расчет дотаций'!P30 -> -1803.8 | C28: ='Расчет дотаций'!B30-1 -> 0 | D28: =C28*'Расчет дотаций'!C30 -> 0 | E28: =$B28*D28/$L28 -> 0 | F28: ='Расчет дотаций'!F30-1 -> -0.023011364 | G28: =F28*'Расчет дотаций'!G30 -> -0.23011364 | H28: =$B28*G28/$L28 -> -81.725339 | I28: ='Расчет дотаций'!J30-1 -> -0.32325581 | J28: =I28*'Расчет дотаций'!K30 -> -4.8488372 | K28: =$B28*J28/$L28 -> -1722.0747 | L28: =D28+G28+J28 -> -5.0789508
A29: Кинель-Черкасский | B29: ='Расчет дотаций'!P31 -> 2160.8 | C29: ='Расчет дотаций'!B31-1 -> 0 | D29: =C29*'Расчет дотаций'!C31 -> 0 | E29: =$B29*D29/$L29 -> 0 | F29: ='Расчет дотаций'!F31-1 -> 0.002192691 | G29: =F29*'Расчет дотаций'!G31 -> 0.02192691 | H29: =$B29*G29/$L29 -> 15.661728 | I29: ='Расчет дотаций'!J31-1 -> 0.20021739 | J29: =I29*'Расчет дотаций'!K31 -> 3.0032609 | K29: =$B29*J29/$L29 -> 2145.1383 | L29: =D29+G29+J29 -> 3.0251878
... A44: Шигонский | B44: ='Расчет дотаций'!P46 -> 664.4 | C44: ='Расчет дотаций'!B46-1 -> 0 | D44: =C44*'Расчет дотаций'!C46 -> 0 | E44: =$B44*D44/$L44 -> 0 | F44: ='Расчет дотаций'!F46-1 -> -0.20749631 | G44: =F44*'Расчет дотаций'!G46 -> -2.0749631 | H44: =$B44*G44/$L44 -> -1286.5544 | I44: ='Расчет дотаций'!J46-1 -> 0.20976744 | J44: =I44*'Расчет дотаций'!K46 -> 3.1465116 | K44: =$B44*J44/$L44 -> 1950.9544 | L44: =D44+G44+J44 -> 1.0715486
A45: ИТОГО | B45: =B6+B17 -> 42295.4 | E45: =E6+E17 -> 0 | H45: =H6+H17 -> -12255.316 | K45: =K6+K17 -> 54550.716
