Workbook

Sheet Расчет дотаций
B1: Распределение дотаций местным бюджетам на поддержку мер по обеспечению сбалансированности местных бюджетов
A2: За 3 месяца 2023 года
A3: Наименование муниципального образования | B3: Отсутствие просроченной кредиторской задолженности бюджета городского округа, консолидированного бюджета городского округа с внутригородским делением, консолидированного бюджета муниципального района по состоянию на конец отчетного периода | D3: Объем алкогольной продукции, зафиксированный в единой государственной автоматизированной информационной системе (дкл.) | H3: Эффективность вовлечения объектов недвижимости в налоговый оборот (%) | L3: Сводная оценка выполнения социально-экономических показателей | M3: Годовое значение, тыс. рублей | N3: План распределения за период, тыс. рублей | O3: Распределение за отчетный период, тыс. рублей | P3: Отклонение от планируемого распределения, тыс. рублей | Q3: Ранее предоставленные дотации в 2023 году, тыс. рублей | U3: Распределение дотаций за март за вычетом ранее предоставлен-ных дотаций, тыс. рублей | V3: Соблюдение условий предоставления дотаций*: | Z3: Распределение дотаций за март с учетом выполнения условий предоставления дотаций
V4: Соблюдение норматива формирования расходов на содержание органов местного самоуправления | W4: непривлечение кредитов кредитных организаций в марте 2023 года | Y4: неувеличение объема муниципального долга в части кредитов кредитных организаций в марте 2023 года (не применяется если объем долга на 01.04.2023 не превышает его объем по состоянию на начало 2023 года)
Q5: за январь | R5: досрочное перечисление (распоряжение МУФ СО от 16.02.2023 № 01-08/14) | S5: за февраль | T5: досрочное перечисление (распоряжение МУФ СО от 04.04.2023 № 01-08/21) | W5: МО у которых доля дотаций на выравнивание бюджетной обеспеченности в доходах бюджета (без учета субвенций) за 2022 год > 15 % | X5: МО, муниципальный долг которых на 01.04.2023 > 90% от утвержденного общего годового объема доходов без учета утвержденного объема безвозмездных поступлений
B6: Исполнение | C6: Вес | D6: Прогнозное значение | E6: Фактически сложившийся уровень | F6: Исполнение с уч. корректир. макс. перевыполнения | G6: Вес | H6: Прогнозное значение | I6: Фактически сложившийся уровень | J6: Исполнение с уч. корректир. макс. перевыполнения | K6: Вес
A7: 1 | B7: 2 | C7: 3 | D7: 4 | E7: 5 | F7: 6=5/4 | G7: 7 | H7: 8 | I7: 9 | J7: 10=9/8 | K7: 11 | L7: 12 | M7: 13 | N7: 14=13/11мес.*3 | O7: 15=12*14 | P7: 16=15-14 | Q7: 17 | R7: 18 | S7: 19 | T7: 20 | U7: 21=15-(17+…+19) | V7: 22 | W7: 23 | X7: 24 | Y7: 25 | Z7: 26
A8: Городские округа (городской округ с внутригородским делением) | D8: =SUM(D9:D18) -> 452514 | E8: =SUM(E9:E18) -> 433239.4 | F8: =IF(E8/D8>1.2,IF((E8/D8-1.2)*0.1+1.2>1.3,1.3,(E8/D8-1.2)*0.1+1.2),E8/D8) -> 0.95740552 | M8: =SUM(M9:M18) -> 1627322 | N8: =SUM(N9:N18) -> 443815.1 | O8: =SUM(O9:O18) -> 433876.3 | P8: =SUM(P9:P18) -> -9938.8 | Q8: =SUM(Q9:Q18) -> 143262.1 | R8: =SUM(R9:R18) -> 202244.4 | S8: =SUM(S9:S18) -> 51327.8 | T8: =SUM(T9:T18) -> 0 | U8: =SUM(U9:U18) -> 37042 | Z8: =SUM(Z9:Z18) -> 48808.9
A9: Самара | B9: 1 | C9: 10 | D9: 239030 | E9: 226815 | F9: =IF(G9=0,0,IF(D9=0,1,IF(E9<0,0,IF(E9/D9>1.2,IF((E9/D9-1.2)*0.1+1.2>1.3,1.3,(E9/D9-1.2)*0.1+1.2),E9/D9)))) -> 0.94889763 | G9: 15 | H9: н/д | I9: н/д | J9: н/д | K9: 20 | L9: =(B9*C9+F9*G9)/(C9+G9) -> 0.96933858 | M9: 406152 | N9: =ROUND(M9/11*3,1) -> 110768.7 | O9: =ROUND(L9*N9,1) -> 107372.4 | P9: =O9-N9 -> -3396.3 | Q9: 36922.9 | R9: 81230.4 | S9: 0 | U9: =ROUND(O9-SUM(Q9:T9),1) -> -10780.9 | Z9: =IF(OR(V9="+",W9="+",X9="+",Y9="+"),0,IF(U9<0,0,U9)) -> 0
A10: Тольятти | B10: 1 | C10: 10 | D10: 108910 | E10: 106739.2 | F10: =IF(G10=0,0,IF(D10=0,1,IF(E10<0,0,IF(E10/D10>1.2,IF((E10/D10-1.2)*0.1+1.2>1.3,1.3,(E10/D10-1.2)*0.1+1.2),E10/D10)))) -> 0.98006795 | G10: 15 | H10: н/д | I10: н/д | J10: н/д | K10: 20 | L10: =(B10*C10+F10*G10)/(C10+G10) -> 0.98804077 | M10: 614455 | N10: =ROUND(M10/11*3,1) -> 167578.6 | O10: =ROUND(L10*N10,1) -> 165574.5 | P10: =O10-N10 -> -2004.1 | Q10: 51642.7 | R10: 113614 | S10: 0 | U10: =ROUND(O10-SUM(Q10:T10),1) -> 317.8 | Z10: =IF(OR(V10="+",W10="+",X10="+",Y10="+"),0,IF(U10<0,0,U10)) -> 317.8
A11: Сызрань | B11: 1 | C11: 10 | D11: 33048 | E11: 31781.6 | F11: =IF(G11=0,0,IF(D11=0,1,IF(E11<0,0,IF(E11/D11>1.2,IF((E11/D11-1.2)*0.1+1.2>1.3,1.3,(E11/D11-1.2)*0.1+1.2),E11/D11)))) -> 0.96167998 | G11: 15 | H11: н/д | I11: н/д | J11: н/д | K11: 20 | L11: =(B11*C11+F11*G11)/(C11+G11) -> 0.97700799 | M11: 173185 | N11: =ROUND(M11/11*3,1) -> 47232.3 | O11: =ROUND(L11*N11,1) -> 46146.3 | P11: =O11-N11 -> -1086 | Q11: 15744.1 | S11: 15744.1 | U11: =ROUND(O11-SUM(Q11:T11),1) -> 14658.1 | Z11: =IF(OR(V11="+",W11="+",X11="+",Y11="+"),0,IF(U11<0,0,U11)) -> 14658.1
A12: Новокуйбышевск | B12: 1 | C12: 10 | D12: 20219 | E12: 18999.4 | F12: =IF(G12=0,0,IF(D12=0,1,IF(E12<0,0,IF(E12/D12>1.2,IF((E12/D12-1.2)*0.1+1.2>1.3,1.3,(E12/D12-1.2)*0.1+1.2),E12/D12)))) -> 0.9396805 | G12: 15 | H12: н/д | I12: н/д | J12: н/д | K12: 20 | L12: =(B12*C12+F12*G12)/(C12+G12) -> 0.9638083 | M12: 91189 | N12: =ROUND(M12/11*3,1) -> 24869.7 | O12: =ROUND(L12*N12,1) -> 23969.6 | P12: =O12-N12 -> -900.1 | Q12: 7847.2 | S12: 7847.2 | U12: =ROUND(O12-SUM(Q12:T12),1) -> 8275.2 | Z12: =IF(OR(V12="+",W12="+",X12="+",Y12="+"),0,IF(U12<0,0,U12)) -> 8275.2
A13: Чапаевск | B13: 1 | C13: 10 | D13: 10638 | E13: 10711.7 | F13: =IF(G13=0,0,IF(D13=0,1,IF(E13<0,0,IF(E13/D13>1.2,IF((E13/D13-1.2)*0.1+1.2>1.3,1.3,(E13/D13-1.2)*0.1+1.2),E13/D13)))) -> 1.006928 | G13: 15 | H13: н/д | I13: н/д | J13: н/д | K13: 20 | L13: =(B13*C13+F13*G13)/(C13+G13) -> 1.0041568 | M13: 78766 | N13: =ROUND(M13/11*3,1) -> 21481.6 | O13: =ROUND(L13*N13,1) -> 21570.9 | P13: =O13-N13 -> 89.3 | Q13: 7160.5 | S13: 7160.6 | U13: =ROUND(O13-SUM(Q13:T13),1) -> 7249.8 | Z13: =IF(OR(V13="+",W13="+",X13="+",Y13="+"),0,IF(U13<0,0,U13)) -> 7249.8
A14: Отрадный | B14: 1 | C14: 10 | D14: 9954 | E14: 9664.2 | F14: =IF(G14=0,0,IF(D14=0,1,IF(E14<0,0,IF(E14/D14>1.2,IF((E14/D14-1.2)*0.1+1.2>1.3,1.3,(E14/D14-1.2)*0.1+1.2),E14/D14)))) -> 0.97088608 | G14: 15 | H14: н/д | I14: н/д | J14: н/д | K14: 20 | L14: =(B14*C14+F14*G14)/(C14+G14) -> 0.98253165 | M14: 45600 | N14: =ROUND(M14/11*3,1) -> 12436.4 | O14: =ROUND(L14*N14,1) -> 12219.2 | P14: =O14-N14 -> -217.2 | Q14: 4128.7 | S14: 4162.2 | U14: =ROUND(O14-SUM(Q14:T14),1) -> 3928.3 | Z14: =IF(OR(V14="+",W14="+",X14="+",Y14="+"),0,IF(U14<0,0,U14)) -> 3928.3
A15: Жигулевск | B15: 1 | C15: 10 | D15: 10314 | E15: 9664.2 | F15: =IF(G15=0,0,IF(D15=0,1,IF(E15<0,0,IF(E15/D15>1.2,IF((E15/D15-1.2)*0.1+1.2>1.3,1.3,(E15/D15-1.2)*0.1+1.2),E15/D15)))) -> 0.93699825 | G15: 15 | H15: н/д | I15: н/д | J15: н/д | K15: 20 | L15: =(B15*C15+F15*G15)/(C15+G15) -> 0.96219895 | M15: 65915 | N15: =ROUND(M15/11*3,1) -> 17976.8 | O15: =ROUND(L15*N15,1) -> 17297.3 | P15: =O15-N15 -> -679.5 | Q15: 5992.3 | S15: 5992.2 | U15: =ROUND(O15-SUM(Q15:T15),1) -> 5312.8 | Z15: =IF(OR(V15="+",W15="+",X15="+",Y15="+"),0,IF(U15<0,0,U15)) -> 5312.8
A16: Октябрьск | B16: 1 | C16: 10 | D16: 3585 | E16: 3406.9 | F16: =IF(G16=0,0,IF(D16=0,1,IF(E16<0,0,IF(E16/D16>1.2,IF((E16/D16-1.2)*0.1+1.2>1.3,1.3,(E16/D16-1.2)*0.1+1.2),E16/D16)))) -> 0.95032078 | G16: 15 | H16: н/д | I16: н/д | J16: н/д | K16: 20 | L16: =(B16*C16+F16*G16)/(C16+G16) -> 0.97019247 | M16: 47129 | N16: =ROUND(M16/11*3,1) -> 12853.4 | O16: =ROUND(L16*N16,1) -> 12470.3 | P16: =O16-N16 -> -383.1 | Q16: 4284.5 | S16: 4284.4 | U16: =ROUND(O16-SUM(Q16:T16),1) -> 3901.4 | Z16: =IF(OR(V16="+",W16="+",X16="+",Y16="+"),0,IF(U16<0,0,U16)) -> 3901.4
A17: Кинель | B17: 1 | C17: 10 | D17: 11855 | E17: 10812.3 | F17: =IF(G17=0,0,IF(D17=0,1,IF(E17<0,0,IF(E17/D17>1.2,IF((E17/D17-1.2)*0.1+1.2>1.3,1.3,(E17/D17-1.2)*0.1+1.2),E17/D17)))) -> 0.91204555 | G17: 15 | H17: н/д | I17: н/д | J17: н/д | K17: 20 | L17: =(B17*C17+F17*G17)/(C17+G17) -> 0.94722733 | M17: 67508 | N17: =ROUND(M17/11*3,1) -> 18411.3 | O17: =ROUND(L17*N17,1) -> 17439.7 | P17: =O17-N17 -> -971.6 | Q17: 6137.1 | S17: 6137.1 | U17: =ROUND(O17-SUM(Q17:T17),1) -> 5165.5 | Z17: =IF(OR(V17="+",W17="+",X17="+",Y17="+"),0,IF(U17<0,0,U17)) -> 5165.5
A18: Похвистнево | B18: 1 | C18: 10 | D18: 4961 | E18: 4644.9 | F18: =IF(G18=0,0,IF(D18=0,1,IF(E18<0,0,IF(E18/D18>1.2,IF((E18/D18-1.2)*0.1+1.2>1.3,1.3,(E18/D18-1.2)*0.1+1.2),E18/D18)))) -> 0.93628301 | G18: 15 | H18: н/д | I18: н/д | J18: н/д | K18: 20 | L18: =(B18*C18+F18*G18)/(C18+G18) -> 0.9617698 | M18: 37423 | N18: =ROUND(M18/11*3,1) -> 10206.3 | O18: =ROUND(L18*N18,1) -> 9816.1 | P18: =O18-N18 -> -390.2 | Q18: 3402.1 | R18: 7400 | S18: 0 | U18: =ROUND(O18-SUM(Q18:T18),1) -> -986 | Y18: + | Z18: =IF(OR(V18="+",W18="+",X18="+",Y18="+"),0,IF(U18<0,0,U18)) -> 0
A19: Муниципальные районы | D19: =SUM(D20:D46) -> 94003 | E19: =SUM(E20:E46) -> 88973 | F19: =IF(E19/D19>1.2,IF((E19/D19-1.2)*0.1+1.2>1.3,1.3,(E19/D19-1.2)*0.1+1.2),E19/D19) -> 0.94649107 | M19: =SUM(M20:M46) -> 1287928 | N19: =SUM(N20:N46) -> 351253.2 | O19: =SUM(O20:O46) -> 344830.1 | P19: =SUM(P20:P46) -> -6423.1 | Q19: =SUM(Q20:Q46) -> 110482.4 | R19: =SUM(R20:R46) -> 11376.8 | S19: =SUM(S20:S46) -> 103282.7 | T19: =SUM(T20:T46) -> 5925 | U19: =SUM(U20:U46) -> 113763.2 | Z19: =SUM(Z20:Z46) -> 116736.2
A20: Алексеевский | B20: 1 | C20: 10 | D20: 756 | E20: 748.2 | F20: =IF(G20=0,0,IF(D20=0,1,IF(E20<0,0,IF(E20/D20>1.2,IF((E20/D20-1.2)*0.1+1.2>1.3,1.3,(E20/D20-1.2)*0.1+1.2),E20/D20)))) -> 0.98968254 | G20: 10 | H20: н/д | I20: н/д | J20: н/д | K20: 15 | L20: =(B20*C20+F20*G20)/(C20+G20) -> 0.99484127 | M20: 28405 | N20: =ROUND(M20/11*3,1) -> 7746.8 | O20: =ROUND(L20*N20,1) -> 7706.8 | P20: =O20-N20 -> -40 | Q20: 2403.2 | S20: 2403.2 | U20: =ROUND(O20-SUM(Q20:T20),1) -> 2900.4 | Z20: =IF(OR(V20="+",W20="+",X20="+",Y20="+"),0,IF(U20<0,0,U20)) -> 2900.4
A21: Безенчукский | B21: 1 | C21: 10 | D21: 5631 | E21: 5628.4 | F21: =IF(G21=0,0,IF(D21=0,1,IF(E21<0,0,IF(E21/D21>1.2,IF((E21/D21-1.2)*0.1+1.2>1.3,1.3,(E21/D21-1.2)*0.1+1.2),E21/D21)))) -> 0.99953827 | G21: 10 | H21: н/д | I21: н/д | J21: н/д | K21: 15 | L21: =(B21*C21+F21*G21)/(C21+G21) -> 0.99976914 | M21: 51295 | N21: =ROUND(M21/11*3,1) -> 13989.5 | O21: =ROUND(L21*N21,1) -> 13986.3 | P21: =O21-N21 -> -3.2 | Q21: 4663.2 | S21: 4663.2 | U21: =ROUND(O21-SUM(Q21:T21),1) -> 4659.9 | Z21: =IF(OR(V21="+",W21="+",X21="+",Y21="+"),0,IF(U21<0,0,U21)) -> 4659.9
A22: Богатовский | B22: 1 | C22: 10 | D22: 1616 | E22: 1615.3 | F22: =IF(G22=0,0,IF(D22=0,1,IF(E22<0,0,IF(E22/D22>1.2,IF((E22/D22-1.2)*0.1+1.2>1.3,1.3,(E22/D22-1.2)*0.1+1.2),E22/D22)))) -> 0.99956683 | G22: 10 | H22: н/д | I22: н/д | J22: н/д | K22: 15 | L22: =(B22*C22+F22*G22)/(C22+G22) -> 0.99978342 | M22: 35636 | N22: =ROUND(M22/11*3,1) -> 9718.9 | O22: =ROUND(L22*N22,1) -> 9716.8 | P22: =O22-N22 -> -2.1 | Q22: 2893.7 | S22: 3210.7 | U22: =ROUND(O22-SUM(Q22:T22),1) -> 3612.4 | Z22: =IF(OR(V22="+",W22="+",X22="+",Y22="+"),0,IF(U22<0,0,U22)) -> 3612.4
A23: Большеглушицкий | B23: 1 | C23: 10 | D23: 1702 | E23: 1720.2 | F23: =IF(G23=0,0,IF(D23=0,1,IF(E23<0,0,IF(E23/D23>1.2,IF((E23/D23-1.2)*0.1+1.2>1.3,1.3,(E23/D23-1.2)*0.1+1.2),E23/D23)))) -> 1.0106933 | G23: 10 | H23: н/д | I23: н/д | J23: н/д | K23: 15 | L23: =(B23*C23+F23*G23)/(C23+G23) -> 1.0053467 | M23: 40954 | N23: =ROUND(M23/11*3,1) -> 11169.3 | O23: =ROUND(L23*N23,1) -> 11229 | P23: =O23-N23 -> 59.7 | Q23: 3488.5 | S23: 3488.4 | U23: =ROUND(O23-SUM(Q23:T23),1) -> 4252.1 | Z23: =IF(OR(V23="+",W23="+",X23="+",Y23="+"),0,IF(U23<0,0,U23)) -> 4252.1
A24: Большечерниговский | B24: 1 | C24: 10 | D24: 1254 | E24: 1353.7 | F24: =IF(G24=0,0,IF(D24=0,1,IF(E24<0,0,IF(E24/D24>1.2,IF((E24/D24-1.2)*0.1+1.2>1.3,1.3,(E24/D24-1.2)*0.1+1.2),E24/D24)))) -> 1.0795056 | G24: 10 | H24: н/д | I24: н/д | J24: н/д | K24: 15 | L24: =(B24*C24+F24*G24)/(C24+G24) -> 1.0397528 | M24: 49835 | N24: =ROUND(M24/11*3,1) -> 13591.4 | O24: =ROUND(L24*N24,1) -> 14131.7 | P24: =O24-N24 -> 540.3 | Q24: 3662.2 | S24: 3662.2 | U24: =ROUND(O24-SUM(Q24:T24),1) -> 6807.3 | Z24: =IF(OR(V24="+",W24="+",X24="+",Y24="+"),0,IF(U24<0,0,U24)) -> 6807.3
A25: Борский | B25: 1 | C25: 10 | D25: 1895 | E25: 1941.3 | F25: =IF(G25=0,0,IF(D25=0,1,IF(E25<0,0,IF(E25/D25>1.2,IF((E25/D25-1.2)*0.1+1.2>1.3,1.3,(E25/D25-1.2)*0.1+1.2),E25/D25)))) -> 1.0244327 | G25: 10 | H25: н/д | I25: н/д | J25: н/д | K25: 15 | L25: =(B25*C25+F25*G25)/(C25+G25) -> 1.0122164 | M25: 47341 | N25: =ROUND(M25/11*3,1) -> 12911.2 | O25: =ROUND(L25*N25,1) -> 13068.9 | P25: =O25-N25 -> 157.7 | Q25: 4143.2 | S25: 4143.2 | U25: =ROUND(O25-SUM(Q25:T25),1) -> 4782.5 | Z25: =IF(OR(V25="+",W25="+",X25="+",Y25="+"),0,IF(U25<0,0,U25)) -> 4782.5
A26: Волжский | B26: 1 | C26: 10 | D26: 16510 | E26: 16954.7 | F26: =IF(G26=0,0,IF(D26=0,1,IF(E26<0,0,IF(E26/D26>1.2,IF((E26/D26-1.2)*0.1+1.2>1.3,1.3,(E26/D26-1.2)*0.1+1.2),E26/D26)))) -> 1.0269352 | G26: 10 | H26: н/д | I26: н/д | J26: н/д | K26: 15 | L26: =(B26*C26+F26*G26)/(C26+G26) -> 1.0134676 | M26: 111545 | N26: =ROUND(M26/11*3,1) -> 30421.4 | O26: =ROUND(L26*N26,1) -> 30831.1 | P26: =O26-N26 -> 409.7 | Q26: 10140.5 | S26: 10140.4 | U26: =ROUND(O26-SUM(Q26:T26),1) -> 10550.2 | Z26: =IF(OR(V26="+",W26="+",X26="+",Y26="+"),0,IF(U26<0,0,U26)) -> 10550.2
A27: Елховский | B27: 1 | C27: 10 | D27: 831 | E27: 857 | F27: =IF(G27=0,0,IF(D27=0,1,IF(E27<0,0,IF(E27/D27>1.2,IF((E27/D27-1.2)*0.1+1.2>1.3,1.3,(E27/D27-1.2)*0.1+1.2),E27/D27)))) -> 1.0312876 | G27: 10 | H27: н/д | I27: н/д | J27: н/д | K27: 15 | L27: =(B27*C27+F27*G27)/(C27+G27) -> 1.0156438 | M27: 20005 | N27: =ROUND(M27/11*3,1) -> 5455.9 | O27: =ROUND(L27*N27,1) -> 5541.3 | P27: =O27-N27 -> 85.4 | Q27: 1811.1 | S27: 1811.1 | U27: =ROUND(O27-SUM(Q27:T27),1) -> 1919.1 | Z27: =IF(OR(V27="+",W27="+",X27="+",Y27="+"),0,IF(U27<0,0,U27)) -> 1919.1
A28: Исаклинский | B28: 1 | C28: 10 | D28: 870 | E28: 895.6 | F28: =IF(G28=0,0,IF(D28=0,1,IF(E28<0,0,IF(E28/D28>1.2,IF((E28/D28-1.2)*0.1+1.2>1.3,1.3,(E28/D28-1.2)*0.1+1.2),E28/D28)))) -> 1.0294253 | G28: 10 | H28: н/д | I28: н/д | J28: н/д | K28: 15 | L28: =(B28*C28+F28*G28)/(C28+G28) -> 1.0147126 | M28: 43642 | N28: =ROUND(M28/11*3,1) -> 11902.4 | O28: =ROUND(L28*N28,1) -> 12077.5 | P28: =O28-N28 -> 175.1 | Q28: 3372.6 | S28: 3372.7 | U28: =ROUND(O28-SUM(Q28:T28),1) -> 5332.2 | Z28: =IF(OR(V28="+",W28="+",X28="+",Y28="+"),0,IF(U28<0,0,U28)) -> 5332.2
A29: Камышлинский | B29: 1 | C29: 10 | D29: 774 | E29: 747.5 | F29: =IF(G29=0,0,IF(D29=0,1,IF(E29<0,0,IF(E29/D29>1.2,IF((E29/D29-1.2)*0.1+1.2>1.3,1.3,(E29/D29-1.2)*0.1+1.2),E29/D29)))) -> 0.96576227 | G29: 10 | H29: н/д | I29: н/д | J29: н/д | K29: 15 | L29: =(B29*C29+F29*G29)/(C29+G29) -> 0.98288114 | M29: 24547 | N29: =ROUND(M29/11*3,1) -> 6694.6 | O29: =ROUND(L29*N29,1) -> 6580 | P29: =O29-N29 -> -114.6 | Q29: 2134.6 | S29: 2134.7 | U29: =ROUND(O29-SUM(Q29:T29),1) -> 2310.7 | Z29: =IF(OR(V29="+",W29="+",X29="+",Y29="+"),0,IF(U29<0,0,U29)) -> 2310.7
A30: Кинельский | B30: 1 | C30: 10 | D30: 2464 | E30: 2407.3 | F30: =IF(G30=0,0,IF(D30=0,1,IF(E30<0,0,IF(E30/D30>1.2,IF((E30/D30-1.2)*0.1+1.2>1.3,1.3,(E30/D30-1.2)*0.1+1.2),E30/D30)))) -> 0.97698864 | G30: 10 | H30: н/д | I30: н/д | J30: н/д | K30: 15 | L30: =(B30*C30+F30*G30)/(C30+G30) -> 0.98849432 | M30: 34183 | N30: =ROUND(M30/11*3,1) -> 9322.6 | O30: =ROUND(L30*N30,1) -> 9215.3 | P30: =O30-N30 -> -107.3 | Q30: 3107.5 | S30: 3107.6 | U30: =ROUND(O30-SUM(Q30:T30),1) -> 3000.2 | Z30: =IF(OR(V30="+",W30="+",X30="+",Y30="+"),0,IF(U30<0,0,U30)) -> 3000.2
A31: Кинель-Черкасский | B31: 1 | C31: 10 | D31: 4515 | E31: 4524.9 | F31: =IF(G31=0,0,IF(D31=0,1,IF(E31<0,0,IF(E31/D31>1.2,IF((E31/D31-1.2)*0.1+1.2>1.3,1.3,(E31/D31-1.2)*0.1+1.2),E31/D31)))) -> 1.0021927 | G31: 10 | H31: н/д | I31: н/д | J31: н/д | K31: 15 | L31: =(B31*C31+F31*G31)/(C31+G31) -> 1.0010963 | M31: 68749 | N31: =ROUND(M31/11*3,1) -> 18749.7 | O31: =ROUND(L31*N31,1) -> 18770.3 | P31: =O31-N31 -> 20.6 | Q31: 6200.2 | S31: 6200.2 | U31: =ROUND(O31-SUM(Q31:T31),1) -> 6369.9 | Z31: =IF(OR(V31="+",W31="+",X31="+",Y31="+"),0,IF(U31<0,0,U31)) -> 6369.9
A32: Клявлинский | B32: 1 | C32: 10 | D32: 1055 | E32: 1038.8 | F32: =IF(G32=0,0,IF(D32=0,1,IF(E32<0,0,IF(E32/D32>1.2,IF((E32/D32-1.2)*0.1+1.2>1.3,1.3,(E32/D32-1.2)*0.1+1.2),E32/D32)))) -> 0.98464455 | G32: 10 | H32: н/д | I32: н/д | J32: н/д | K32: 15 | L32: =(B32*C32+F32*G32)/(C32+G32) -> 0.99232227 | M32: 32495 | N32: =ROUND(M32/11*3,1) -> 8862.3 | O32: =ROUND(L32*N32,1) -> 8794.3 | P32: =O32-N32 -> -68 | Q32: 2693.2 | S32: 2693.2 | T32: 5925 | U32: =ROUND(O32-SUM(Q32:T32),1) -> -2517.1 | Z32: =IF(OR(V32="+",W32="+",X32="+",Y32="+"),0,IF(U32<0,0,U32)) -> 0
A33: Кошкинский | B33: 1 | C33: 10 | D33: 3271 | E33: 3072 | F33: =IF(G33=0,0,IF(D33=0,1,IF(E33<0,0,IF(E33/D33>1.2,IF((E33/D33-1.2)*0.1+1.2>1.3,1.3,(E33/D33-1.2)*0.1+1.2),E33/D33)))) -> 0.93916234 | G33: 10 | H33: н/д | I33: н/д | J33: н/д | K33: 15 | L33: =(B33*C33+F33*G33)/(C33+G33) -> 0.96958117 | M33: 45310 | N33: =ROUND(M33/11*3,1) -> 12357.3 | O33: =ROUND(L33*N33,1) -> 11981.4 | P33: =O33-N33 -> -375.9 | Q33: 3975.7 | R33: 4000 | S33: 0 | U33: =ROUND(O33-SUM(Q33:T33),1) -> 4005.7 | Z33: =IF(OR(V33="+",W33="+",X33="+",Y33="+"),0,IF(U33<0,0,U33)) -> 4005.7
A34: Красноармейский | B34: 1 | C34: 10 | D34: 1324 | E34: 1222.6 | F34: =IF(G34=0,0,IF(D34=0,1,IF(E34<0,0,IF(E34/D34>1.2,IF((E34/D34-1.2)*0.1+1.2>1.3,1.3,(E34/D34-1.2)*0.1+1.2),E34/D34)))) -> 0.9234139 | G34: 10 | H34: н/д | I34: н/д | J34: н/д | K34: 15 | L34: =(B34*C34+F34*G34)/(C34+G34) -> 0.96170695 | M34: 48129 | N34: =ROUND(M34/11*3,1) -> 13126.1 | O34: =ROUND(L34*N34,1) -> 12623.5 | P34: =O34-N34 -> -502.6 | Q34: 3563.5 | S34: 3563.4 | U34: =ROUND(O34-SUM(Q34:T34),1) -> 5496.6 | Z34: =IF(OR(V34="+",W34="+",X34="+",Y34="+"),0,IF(U34<0,0,U34)) -> 5496.6
A35: Красноярский | B35: 1 | C35: 10 | D35: 9729 | E35: 8511.5 | F35: =IF(G35=0,0,IF(D35=0,1,IF(E35<0,0,IF(E35/D35>1.2,IF((E35/D35-1.2)*0.1+1.2>1.3,1.3,(E35/D35-1.2)*0.1+1.2),E35/D35)))) -> 0.87485867 | G35: 10 | H35: н/д | I35: н/д | J35: н/д | K35: 15 | L35: =(B35*C35+F35*G35)/(C35+G35) -> 0.93742933 | M35: 62862 | N35: =ROUND(M35/11*3,1) -> 17144.2 | O35: =ROUND(L35*N35,1) -> 16071.5 | P35: =O35-N35 -> -1072.7 | Q35: 5714.7 | S35: 5714.8 | U35: =ROUND(O35-SUM(Q35:T35),1) -> 4642 | Z35: =IF(OR(V35="+",W35="+",X35="+",Y35="+"),0,IF(U35<0,0,U35)) -> 4642
A36: Нефтегорский | B36: 1 | C36: 10 | D36: 4328 | E36: 4245.6 | F36: =IF(G36=0,0,IF(D36=0,1,IF(E36<0,0,IF(E36/D36>1.2,IF((E36/D36-1.2)*0.1+1.2>1.3,1.3,(E36/D36-1.2)*0.1+1.2),E36/D36)))) -> 0.98096118 | G36: 10 | H36: н/д | I36: н/д | J36: н/д | K36: 15 | L36: =(B36*C36+F36*G36)/(C36+G36) -> 0.99048059 | M36: 45090 | N36: =ROUND(M36/11*3,1) -> 12297.3 | O36: =ROUND(L36*N36,1) -> 12180.2 | P36: =O36-N36 -> -117.1 | Q36: 4099.1 | S36: 4099.1 | U36: =ROUND(O36-SUM(Q36:T36),1) -> 3982 | Z36: =IF(OR(V36="+",W36="+",X36="+",Y36="+"),0,IF(U36<0,0,U36)) -> 3982
A37: Пестравский | B37: 1 | C37: 10 | D37: 1288 | E37: 1337 | F37: =IF(G37=0,0,IF(D37=0,1,IF(E37<0,0,IF(E37/D37>1.2,IF((E37/D37-1.2)*0.1+1.2>1.3,1.3,(E37/D37-1.2)*0.1+1.2),E37/D37)))) -> 1.0380435 | G37: 10 | H37: н/д | I37: н/д | J37: н/д | K37: 15 | L37: =(B37*C37+F37*G37)/(C37+G37) -> 1.0190217 | M37: 25173 | N37: =ROUND(M37/11*3,1) -> 6865.4 | O37: =ROUND(L37*N37,1) -> 6996 | P37: =O37-N37 -> 130.6 | Q37: 2288.5 | S37: 2288.4 | U37: =ROUND(O37-SUM(Q37:T37),1) -> 2419.1 | Z37: =IF(OR(V37="+",W37="+",X37="+",Y37="+"),0,IF(U37<0,0,U37)) -> 2419.1
A38: Похвистневский | B38: 1 | C38: 10 | D38: 1558 | E38: 1472 | F38: =IF(G38=0,0,IF(D38=0,1,IF(E38<0,0,IF(E38/D38>1.2,IF((E38/D38-1.2)*0.1+1.2>1.3,1.3,(E38/D38-1.2)*0.1+1.2),E38/D38)))) -> 0.94480103 | G38: 10 | H38: н/д | I38: н/д | J38: н/д | K38: 15 | L38: =(B38*C38+F38*G38)/(C38+G38) -> 0.97240051 | M38: 62800 | N38: =ROUND(M38/11*3,1) -> 17127.3 | O38: =ROUND(L38*N38,1) -> 16654.6 | P38: =O38-N38 -> -472.7 | Q38: 5501.5 | S38: 5501.4 | U38: =ROUND(O38-SUM(Q38:T38),1) -> 5651.7 | Z38: =IF(OR(V38="+",W38="+",X38="+",Y38="+"),0,IF(U38<0,0,U38)) -> 5651.7
A39: Приволжский | B39: 1 | C39: 10 | D39: 1882 | E39: 1873.2 | F39: =IF(G39=0,0,IF(D39=0,1,IF(E39<0,0,IF(E39/D39>1.2,IF((E39/D39-1.2)*0.1+1.2>1.3,1.3,(E39/D39-1.2)*0.1+1.2),E39/D39)))) -> 0.99532412 | G39: 10 | H39: н/д | I39: н/д | J39: н/д | K39: 15 | L39: =(B39*C39+F39*G39)/(C39+G39) -> 0.99766206 | M39: 49997 | N39: =ROUND(M39/11*3,1) -> 13635.5 | O39: =ROUND(L39*N39,1) -> 13603.6 | P39: =O39-N39 -> -31.9 | Q39: 4176.7 | S39: 4176.8 | U39: =ROUND(O39-SUM(Q39:T39),1) -> 5250.1 | Z39: =IF(OR(V39="+",W39="+",X39="+",Y39="+"),0,IF(U39<0,0,U39)) -> 5250.1
A40: Сергиевский | B40: 1 | C40: 10 | D40: 5255 | E40: 5501.6 | F40: =IF(G40=0,0,IF(D40=0,1,IF(E40<0,0,IF(E40/D40>1.2,IF((E40/D40-1.2)*0.1+1.2>1.3,1.3,(E40/D40-1.2)*0.1+1.2),E40/D40)))) -> 1.0469267 | G40: 10 | H40: н/д | I40: н/д | J40: н/д | K40: 15 | L40: =(B40*C40+F40*G40)/(C40+G40) -> 1.0234634 | M40: 58982 | N40: =ROUND(M40/11*3,1) -> 16086 | O40: =ROUND(L40*N40,1) -> 16463.4 | P40: =O40-N40 -> 377.4 | Q40: 5362 | S40: 5362 | U40: =ROUND(O40-SUM(Q40:T40),1) -> 5739.4 | Z40: =IF(OR(V40="+",W40="+",X40="+",Y40="+"),0,IF(U40<0,0,U40)) -> 5739.4
...

Sheet Плюсы и минусы
A1: Факторный анализ влияния отдельных показателей на итоговое распределение за 3 месяца 2023 года
L2: тыс. рублей
A3: Наименование муниципального образования | B3: +/- по итогам отчётного периода | C3: Отсутствие просроченной кредиторской задолженности бюджета городского округа, консолидированного бюджета городского округа с внутригородским делением, консолидированного бюджета муниципального района по состоянию на конец отчетного периода | F3: Объем алкогольной продукции, зафиксированный в единой государственной автоматизированной информационной системе | I3: Эффективность вовлечения объектов недвижимости в налоговый оборот | L3: Общая сумма весов влияния
C4: Отклонение от прогноза | D4: Вес влияния на результат | E4: + / - (5)=(2)*(3)/(12) | F4: Отклонение от прогноза | G4: Вес влияния на результат | H4: + / - (8)=(2)*(6)/(12) | I4: Отклонение от прогноза | J4: Вес влияния на результат | K4: + / - (11)=(2)*(9)/(12)
A5: 1 | B5: 2 | C5: 3 | D5: 4 | E5: 5 | F5: 6 | G5: 7 | H5: 8 | I5: 9 | J5: 10 | K5: 11 | L5: 12
A6: Городские округа | B6: =SUM(B7:B16) -> -9938.8 | E6: =SUM(E7:E16) -> 0 | H6: =SUM(H7:H16) -> -9938.8
A7: Самара | B7: ='Расчет дотаций'!P9 -> -3396.3 | C7: ='Расчет дотаций'!B9-1 -> 0 | D7: =C7*'Расчет дотаций'!C9 -> 0 | E7: =$B7*D7/$L7 -> 0 | F7: ='Расчет дотаций'!F9-1 -> -0.051102372 | G7: =F7*'Расчет дотаций'!G9 -> -0.76653558 | H7: =$B7*G7/$L7 -> -3396.3 | I7: н/д | J7: н/д | K7: н/д | L7: =D7+G7 -> -0.76653558
A8: Тольятти | B8: ='Расчет дотаций'!P10 -> -2004.1 | C8: ='Расчет дотаций'!B10-1 -> 0 | D8: =C8*'Расчет дотаций'!C10 -> 0 | E8: =$B8*D8/$L8 -> 0 | F8: ='Расчет дотаций'!F10-1 -> -0.019932054 | G8: =F8*'Расчет дотаций'!G10 -> -0.29898081 | H8: =$B8*G8/$L8 -> -2004.1 | I8: н/д | J8: н/д | K8: н/д | L8: =D8+G8 -> -0.29898081
A9: Сызрань | B9: ='Расчет дотаций'!P11 -> -1086 | C9: ='Расчет дотаций'!B11-1 -> 0 | D9: =C9*'Расчет дотаций'!C11 -> 0 | E9: =$B9*D9/$L9 -> 0 | F9: ='Расчет дотаций'!F11-1 -> -0.038320019 | G9: =F9*'Расчет дотаций'!G11 -> -0.57480029 | H9: =$B9*G9/$L9 -> -1086 | I9: н/д | J9: н/д | K9: н/д | L9: =D9+G9 -> -0.57480029
A10: Новокуйбышевск | B10: ='Расчет дотаций'!P12 -> -900.1 | C10: ='Расчет дотаций'!B12-1 -> 0 | D10: =C10*'Расчет дотаций'!C12 -> 0 | E10: =$B10*D10/$L10 -> 0 | F10: ='Расчет дотаций'!F12-1 -> -0.060319501 | G10: =F10*'Расчет дотаций'!G12 -> -0.90479252 | H10: =$B10*G10/$L10 -> -900.1 | I10: н/д | J10: н/д | K10: н/д | L10: =D10+G10 -> -0.90479252
A11: Чапаевск | B11: ='Расчет дотаций'!P13 -> 89.3 | C11: ='Расчет дотаций'!B13-1 -> 0 | D11: =C11*'Расчет дотаций'!C13 -> 0 | E11: =$B11*D11/$L11 -> 0 | F11: ='Расчет дотаций'!F13-1 -> 0.006927994 | G11: =F11*'Расчет дотаций'!G13 -> 0.10391991 | H11: =$B11*G11/$L11 -> 89.3 | I11: н/д | J11: н/д | K11: н/д | L11: =D11+G11 -> 0.10391991
A12: Отрадный | B12: ='Расчет дотаций'!P14 -> -217.2 | C12: ='Расчет дотаций'!B14-1 -> 0 | D12: =C12*'Расчет дотаций'!C14 -> 0 | E12: =$B12*D12/$L12 -> 0 | F12: ='Расчет дотаций'!F14-1 -> -0.029113924 | G12: =F12*'Расчет дотаций'!G14 -> -0.43670886 | H12: =$B12*G12/$L12 -> -217.2 | I12: н/д | J12: н/д | K12: н/д | L12: =D12+G12 -> -0.43670886
A13: Жигулевск | B13: ='Расчет дотаций'!P15 -> -679.5 | C13: ='Расчет дотаций'!B15-1 -> 0 | D13: =C13*'Расчет дотаций'!C15 -> 0 | E13: =$B13*D13/$L13 -> 0 | F13: ='Расчет дотаций'!F15-1 -> -0.063001745 | G13: =F13*'Расчет дотаций'!G15 -> -0.94502618 | H13: =$B13*G13/$L13 -> -679.5 | I13: н/д | J13: н/д | K13: н/д | L13: =D13+G13 -> -0.94502618
A14: Октябрьск | B14: ='Расчет дотаций'!P16 -> -383.1 | C14: ='Расчет дотаций'!B16-1 -> 0 | D14: =C14*'Расчет дотаций'!C16 -> 0 | E14: =$B14*D14/$L14 -> 0 | F14: ='Расчет дотаций'!F16-1 -> -0.049679219 | G14: =F14*'Расчет дотаций'!G16 -> -0.74518828 | H14: =$B14*G14/$L14 -> -383.1 | I14: н/д | J14: н/д | K14: н/д | L14: =D14+G14 -> -0.74518828
A15: Кинель | B15: ='Расчет дотаций'!P17 -> -971.6 | C15: ='Расчет дотаций'!B17-1 -> 0 | D15: =C15*'Расчет дотаций'!C17 -> 0 | E15: =$B15*D15/$L15 -> 0 | F15: ='Расчет дотаций'!F17-1 -> -0.08795445 | G15: =F15*'Расчет дотаций'!G17 -> -1.3193167 | H15: =$B15*G15/$L15 -> -971.6 | I15: н/д | J15: н/д | K15: н/д | L15: =D15+G15 -> -1.3193167
A16: Похвистнево | B16: ='Расчет дотаций'!P18 -> -390.2 | C16: ='Расчет дотаций'!B18-1 -> 0 | D16: =C16*'Расчет дотаций'!C18 -> 0 | E16: =$B16*D16/$L16 -> 0 | F16: ='Расчет дотаций'!F18-1 -> -0.063716993 | G16: =F16*'Расчет дотаций'!G18 -> -0.95575489 | H16: =$B16*G16/$L16 -> -390.2 | I16: н/д | J16: н/д | K16: н/д | L16: =D16+G16 -> -0.95575489
A17: Муниципальные районы | B17: =SUM(B18:B44) -> -6423.1 | E17: =SUM(E18:E44) -> 0 | H17: =SUM(H18:H44) -> -6423.1
A18: Алексеевский | B18: ='Расчет дотаций'!P20 -> -40 | C18: ='Расчет дотаций'!B20-1 -> 0 | D18: =C18*'Расчет дотаций'!C20 -> 0 | E18: =$B18*D18/$L18 -> 0 | F18: ='Расчет дотаций'!F20-1 -> -0.01031746 | G18: =F18*'Расчет дотаций'!G20 -> -0.1031746 | H18: =$B18*G18/$L18 -> -40 | I18: н/д | J18: н/д | K18: н/д | L18: =D18+G18 -> -0.1031746
A19: Безенчукский | B19: ='Расчет дотаций'!P21 -> -3.2 | C19: ='Расчет дотаций'!B21-1 -> 0 | D19: =C19*'Расчет дотаций'!C21 -> 0 | E19: =$B19*D19/$L19 -> 0 | F19: ='Расчет дотаций'!F21-1 -> -0.00046172971 | G19: =F19*'Расчет дотаций'!G21 -> -0.0046172971 | H19: =$B19*G19/$L19 -> -3.2 | I19: н/д | J19: н/д | K19: н/д | L19: =D19+G19 -> -0.0046172971
A20: Богатовский | B20: ='Расчет дотаций'!P22 -> -2.1 | C20: ='Расчет дотаций'!B22-1 -> 0 | D20: =C20*'Расчет дотаций'!C22 -> 0 | E20: =$B20*D20/$L20 -> 0 | F20: ='Расчет дотаций'!F22-1 -> -0.00043316832 | G20: =F20*'Расчет дотаций'!G22 -> -0.0043316832 | H20: =$B20*G20/$L20 -> -2.1 | I20: н/д | J20: н/д | K20: н/д | L20: =D20+G20 -> -0.0043316832
A21: Большеглушицкий | B21: ='Расчет дотаций'!P23 -> 59.7 | C21: ='Расчет дотаций'!B23-1 -> 0 | D21: =C21*'Расчет дотаций'!C23 -> 0 | E21: =$B21*D21/$L21 -> 0 | F21: ='Расчет дотаций'!F23-1 -> 0.010693302 | G21: =F21*'Расчет дотаций'!G23 -> 0.10693302 | H21: =$B21*G21/$L21 -> 59.7 | I21: н/д | J21: н/д | K21: н/д | L21: =D21+G21 -> 0.10693302
A22: Большечерниговский | B22: ='Расчет дотаций'!P24 -> 540.3 | C22: ='Расчет дотаций'!B24-1 -> 0 | D22: =C22*'Расчет дотаций'!C24 -> 0 | E22: =$B22*D22/$L22 -> 0 | F22: ='Расчет дотаций'!F24-1 -> 0.079505582 | G22: =F22*'Расчет дотаций'!G24 -> 0.79505582 | H22: =$B22*G22/$L22 -> 540.3 | I22: н/д | J22: н/д | K22: н/д | L22: =D22+G22 -> 0.79505582
A23: Борский | B23: ='Расчет дотаций'!P25 -> 157.7 | C23: ='Расчет дотаций'!B25-1 -> 0 | D23: =C23*'Расчет дотаций'!C25 -> 0 | E23: =$B23*D23/$L23 -> 0 | F23: ='Расчет дотаций'!F25-1 -> 0.024432718 | G23: =F23*'Расчет дотаций'!G25 -> 0.24432718 | H23: =$B23*G23/$L23 -> 157.7 | I23: н/д | J23: н/д | K23: н/д | L23: =D23+G23 -> 0.24432718
A24: Волжский | B24: ='Расчет дотаций'!P26 -> 409.7 | C24: ='Расчет дотаций'!B26-1 -> 0 | D24: =C24*'Расчет дотаций'!C26 -> 0 | E24: =$B24*D24/$L24 -> 0 | F24: ='Расчет дотаций'!F26-1 -> 0.026935191 | G24: =F24*'Расчет дотаций'!G26 -> 0.26935191 | H24: =$B24*G24/$L24 -> 409.7 | I24: н/д | J24: н/д | K24: н/д | L24: =D24+G24 -> 0.26935191
A25: Елховский | B25: ='Расчет дотаций'!P27 -> 85.4 | C25: ='Расчет дотаций'!B27-1 -> 0 | D25: =C25*'Расчет дотаций'!C27 -> 0 | E25: =$B25*D25/$L25 -> 0 | F25: ='Расчет дотаций'!F27-1 -> 0.031287605 | G25: =F25*'Расчет дотаций'!G27 -> 0.31287605 | H25: =$B25*G25/$L25 -> 85.4 | I25: н/д | J25: н/д | K25: н/д | L25: =D25+G25 -> 0.31287605
A26: Исаклинский | B26: ='Расчет дотаций'!P28 -> 175.1 | C26: ='Расчет дотаций'!B28-1 -> 0 | D26: =C26*'Расчет дотаций'!C28 -> 0 | E26: =$B26*D26/$L26 -> 0 | F26: ='Расчет дотаций'!F28-1 -> 0.029425287 | G26: =F26*'Расчет дотаций'!G28 -> 0.29425287 | H26: =$B26*G26/$L26 -> 175.1 | I26: н/д | J26: н/д | K26: н/д | L26: =D26+G26 -> 0.29425287
A27: Камышлинский | B27: ='Расчет дотаций'!P29 -> -114.6 | C27: ='Расчет дотаций'!B29-1 -> 0 | D27: =C27*'Расчет дотаций'!C29 -> 0 | E27: =$B27*D27/$L27 -> 0 | F27: ='Расчет дотаций'!F29-1 -> -0.034237726 | G27: =F27*'Расчет дотаций'!G29 -> -0.34237726 | H27: =$B27*G27/$L27 -> -114.6 | I27: н/д | J27: н/д | K27: н/д | L27: =D27+G27 -> -0.34237726
A28: Кинельский | B28: ='Расчет дотаций'!P30 -> -107.3 | C28: ='Расчет дотаций'!B30-1 -> 0 | D28: =C28*'Расчет дотаций'!C30 -> 0 | E28: =$B28*D28/$L28 -> 0 | F28: ='Расчет дотаций'!F30-1 -> -0.023011364 | G28: =F28*'Расчет дотаций'!G30 -> -0.23011364 | H28: =$B28*G28/$L28 -> -107.3 | I28: н/д | J28: н/д | K28: н/д | L28: =D28+G28 -> -0.23011364
A29: Кинель-Черкасский | B29: ='Расчет дотаций'!P31 -> 20.6 | C29: ='Расчет дотаций'!B31-1 -> 0 | D29: =C29*'Расчет дотаций'!C31 -> 0 | E29: =$B29*D29/$L29 -> 0 | F29: ='Расчет дотаций'!F31-1 -> 0.002192691 | G29: =F29*'Расчет дотаций'!G31 -> 0.02192691 | H29: =$B29*G29/$L29 -> 20.6 | I29: н/д | J29: н/д | K29: н/д | L29: =D29+G29 -> 0.02192691
... A44: Шигонский | B44: ='Расчет дотаций'!P46 -> -1688.7 | C44: ='Расчет дотаций'!B46-1 -> 0 | D44: =C44*'Расчет дотаций'!C46 -> 0 | E44: =$B44*D44/$L44 -> 0 | F44: ='Расчет дотаций'!F46-1 -> -0.20749631 | G44: =F44*'Расчет дотаций'!G46 -> -2.0749631 | H44: =$B44*G44/$L44 -> -1688.7 | I44: н/д | J44: н/д | K44: н/д | L44: =D44+G44 -> -2.0749631
A45: ИТОГО | B45: =B6+B17 -> -16361.9 | E45: =E6+E17 -> 0 | H45: =H6+H17 -> -16361.9
