Workbook

Sheet Расчет дотаций
B1: Распределение дотаций местным бюджетам на поддержку мер по обеспечению сбалансированности местных бюджетов
A2: За 4 месяца 2022 года
A3: Наименование муниципального образования | B3: Отсутствие просроченной кредиторской задолженности бюджета городского округа, консолидированного бюджета городского округа с внутригородским делением, консолидированного бюджета муниципального района по состоянию на конец отчетного периода | D3: Объем алкогольной продукции, зафиксированный в единой государственной автоматизированной информационной системе (дкл.) | H3: Эффективность муниципального земельного контроля (единиц) | L3: Уровень задолженности предприятий жилищно-коммунального хозяйства за ранее потребленные топливно-энергетические ресурсы по состоянию на конец отчетного периода (млн. рублей) | P3: Сводная оценка выполнения социально-экономических показателей | Q3: Годовое значение, тыс. рублей | R3: План распределения за период, тыс. рублей | S3: Распределение за отчетный период, тыс. рублей | T3: Отклонение от планируемого распределения, тыс. рублей | U3: Ранее предоставленные дотации в 2022 году, тыс. рублей | X3: Удержано дотаций в 2022 году в связи с исполнением показателей за 2021 год, тыс. рублей | Y3: Распределение дотаций за апрель за вычетом предоставлен-ных дотаций за январь-март, тыс. рублей | Z3: Соблюдение условий предоставления дотаций*: | AC3: Распределение дотаций за апрель с учетом выполнения условий предоставления дотаций, тыс. рублей | AD3: Размер ежемесячного удержания дотаций в связи с исполнением показателей за 2021 год, тыс. рублей | AE3: Распределение дотаций за апрель с учетом удержания и выполнения условий предоставления дотаций, тыс. рублей
Z4: непривлечение кредитов кредитных организаций в апреле 2022 года | AB4: неувеличение объема муниципального долга в части кредитов кредитных организаций в апреле 2022 года (не применяется если объем долга на 01.05.2022 не превышает его объем по состоянию на начало 2022 года)
U5: за январь | V5: за февраль | W5: за март | Z5: МО у которых доля дотаций на выравнивание бюджетной обеспеченности в доходах бюджета (без учета субвенций) за 2021 год > 15 % | AA5: МО, муниципальный долг которых на 01.05.2022 > 90% от утвержденного общего годового объема доходов без учета утвержденного объема безвозмездных поступлений
B6: Исполнение | C6: Вес | D6: Прогнозное значение | E6: Фактически сложившийся уровень | F6: Исполнение с уч. корректир. макс. перевыполнения | G6: Вес | H6: Прогнозное значение | I6: Фактически сложившийся уровень | J6: Исполнение с уч. корректир. макс. перевыполнения | K6: Вес | L6: Прогнозное значение | M6: Фактически сложившийся уровень | N6: Исполнение с уч. корректир. макс. перевыполнения | O6: Вес
A7: 1 | B7: 2 | C7: 3 | D7: 4 | E7: 5 | F7: 6=5/4 | G7: 7 | H7: 8 | I7: 9 | J7: 10=9/8 | K7: 11 | L7: 12 | M7: 13 | N7: 14=12/13 | O7: 15 | P7: 16 | Q7: 17 | R7: 18=17/11мес.*4 | S7: 19=16*18 | T7: 20=19-18 | U7: 21 | V7: 22 | W7: 23 | X7: 24 | Y7: 25=19-(21+…+24) | Z7: 26 | AA7: 27 | AB7: 28 | AC7: 29 | AD7: 30 | AE7: 31=29-30
A8: Городские округа (городской округ с внутригородским делением) | D8: =SUM(D9:D18) -> 395249 | E8: =SUM(E9:E18) -> 427761.2 | F8: =IF(E8/D8>1.2,IF((E8/D8-1.2)*0.1+1.2>1.3,1.3,(E8/D8-1.2)*0.1+1.2),E8/D8) -> 1.0822575 | L8: =SUM(L9:L18) -> 1821.4 | M8: =SUM(M9:M18) -> 1225.9 | N8: =IF(L8/M8>1.2,IF((L8/M8-1.2)*0.1+1.2>1.3,1.3,(L8/M8-1.2)*0.1+1.2),L8/M8) -> 1.2285766 | Q8: =SUM(Q9:Q18) -> 2127375 | R8: =SUM(R9:R18) -> 773590.9 | S8: =SUM(S9:S18) -> 806285.3 | T8: =SUM(T9:T18) -> 32694.4 | U8: =SUM(U9:U18) -> 175259.5 | V8: =SUM(V9:V18) -> 175259.7 | W8: =SUM(W9:W18) -> 219413.6 | X8: =SUM(X9:X18) -> 23205.4 | Y8: =SUM(Y9:Y18) -> 213147.1 | AC8: =SUM(AC9:AC18) -> 213147.1 | AD8: =SUM(AD9:AD18) -> 20453.2 | AE8: =SUM(AE9:AE18) -> 192693.9
A9: Самара | B9: 1 | C9: 15 | D9: 211985 | E9: 225803.9 | F9: =IF(G9=0,0,IF(D9=0,1,IF(E9<0,0,IF(E9/D9>1.2,IF((E9/D9-1.2)*0.1+1.2>1.3,1.3,(E9/D9-1.2)*0.1+1.2),E9/D9)))) -> 1.0651881 | G9: 15 | H9: н/д | I9: н/д | J9: н/д | K9: 20 | L9: 602.8 | M9: 200.3 | N9: =IF(O9=0,0,IF(M9=0,1.3,IF(M9<0,0,IF(L9/M9>1.2,IF((L9/M9-1.2)*0.1+1.2>1.3,1.3,(L9/M9-1.2)*0.1+1.2),L9/M9)))) -> 1.3 | O9: 15 | P9: =(B9*C9+F9*G9+N9*O9)/(C9+G9+O9) -> 1.1217294 | Q9: 370251 | R9: =ROUND(Q9/11*4,1) -> 134636.7 | S9: =ROUND(P9*R9,1) -> 151025.9 | T9: =S9-R9 -> 16389.2 | U9: 33659.2 | V9: 33659.2 | W9: 45951 | Y9: =ROUND(S9-SUM(U9:X9),1) -> 37756.5 | AC9: =IF(OR(Z9="+",AA9="+",AB9="+"),0,Y9) -> 37756.5 | AE9: =ROUND(AC9-AD9,1) -> 37756.5
A10: Тольятти | B10: 1 | C10: 15 | D10: 93942 | E10: 105404.7 | F10: =IF(G10=0,0,IF(D10=0,1,IF(E10<0,0,IF(E10/D10>1.2,IF((E10/D10-1.2)*0.1+1.2>1.3,1.3,(E10/D10-1.2)*0.1+1.2),E10/D10)))) -> 1.1220189 | G10: 15 | H10: н/д | I10: н/д | J10: н/д | K10: 20 | L10: 184.7 | M10: 212.3 | N10: =IF(O10=0,0,IF(M10=0,1.3,IF(M10<0,0,IF(L10/M10>1.2,IF((L10/M10-1.2)*0.1+1.2>1.3,1.3,(L10/M10-1.2)*0.1+1.2),L10/M10)))) -> 0.86999529 | O10: 15 | P10: =(B10*C10+F10*G10+N10*O10)/(C10+G10+O10) -> 0.99733806 | Q10: 872487 | R10: =ROUND(Q10/11*4,1) -> 317268 | S10: =ROUND(P10*R10,1) -> 316423.5 | T10: =S10-R10 -> -844.5 | U10: 71421 | V10: 71421 | W10: 74646.3 | X10: 19829.3 | Y10: =ROUND(S10-SUM(U10:X10),1) -> 79105.9 | AC10: =IF(OR(Z10="+",AA10="+",AB10="+"),0,Y10) -> 79105.9 | AD10: =MIN(AC10,19829.3) -> 19829.3 | AE10: =ROUND(AC10-AD10,1) -> 59276.6
A11: Сызрань | B11: 1 | C11: 15 | D11: 28666 | E11: 30611.3 | F11: =IF(G11=0,0,IF(D11=0,1,IF(E11<0,0,IF(E11/D11>1.2,IF((E11/D11-1.2)*0.1+1.2>1.3,1.3,(E11/D11-1.2)*0.1+1.2),E11/D11)))) -> 1.0678609 | G11: 15 | H11: н/д | I11: н/д | J11: н/д | K11: 20 | L11: 199.7 | M11: 223.4 | N11: =IF(O11=0,0,IF(M11=0,1.3,IF(M11<0,0,IF(L11/M11>1.2,IF((L11/M11-1.2)*0.1+1.2>1.3,1.3,(L11/M11-1.2)*0.1+1.2),L11/M11)))) -> 0.89391226 | O11: 15 | P11: =(B11*C11+F11*G11+N11*O11)/(C11+G11+O11) -> 0.98725772 | Q11: 250292 | R11: =ROUND(Q11/11*4,1) -> 91015.3 | S11: =ROUND(P11*R11,1) -> 89855.6 | T11: =S11-R11 -> -1159.7 | U11: 20718 | V11: 20718 | W11: 25955.7 | Y11: =ROUND(S11-SUM(U11:X11),1) -> 22463.9 | AC11: =IF(OR(Z11="+",AA11="+",AB11="+"),0,Y11) -> 22463.9 | AE11: =ROUND(AC11-AD11,1) -> 22463.9
A12: Новокуйбышевск | B12: 1 | C12: 15 | D12: 18099 | E12: 18751.5 | F12: =IF(G12=0,0,IF(D12=0,1,IF(E12<0,0,IF(E12/D12>1.2,IF((E12/D12-1.2)*0.1+1.2>1.3,1.3,(E12/D12-1.2)*0.1+1.2),E12/D12)))) -> 1.0360517 | G12: 15 | H12: н/д | I12: н/д | J12: н/д | K12: 20 | L12: 185.5 | M12: 181 | N12: =IF(O12=0,0,IF(M12=0,1.3,IF(M12<0,0,IF(L12/M12>1.2,IF((L12/M12-1.2)*0.1+1.2>1.3,1.3,(L12/M12-1.2)*0.1+1.2),L12/M12)))) -> 1.0248619 | O12: 15 | P12: =(B12*C12+F12*G12+N12*O12)/(C12+G12+O12) -> 1.0203045 | Q12: 118130 | R12: =ROUND(Q12/11*4,1) -> 42956.4 | S12: =ROUND(P12*R12,1) -> 43828.6 | T12: =S12-R12 -> 872.2 | U12: 8732.6 | V12: 8732.7 | W12: 12721.4 | X12: 2684.8 | Y12: =ROUND(S12-SUM(U12:X12),1) -> 10957.1 | AC12: =IF(OR(Z12="+",AA12="+",AB12="+"),0,Y12) -> 10957.1 | AD12: =MIN(AC12,623.9) -> 623.9 | AE12: =ROUND(AC12-AD12,1) -> 10333.2
A13: Чапаевск | B13: 1 | C13: 15 | D13: 9186 | E13: 9992.3 | F13: =IF(G13=0,0,IF(D13=0,1,IF(E13<0,0,IF(E13/D13>1.2,IF((E13/D13-1.2)*0.1+1.2>1.3,1.3,(E13/D13-1.2)*0.1+1.2),E13/D13)))) -> 1.0877749 | G13: 15 | H13: н/д | I13: н/д | J13: н/д | K13: 20 | L13: 50.1 | M13: 50 | N13: =IF(O13=0,0,IF(M13=0,1.3,IF(M13<0,0,IF(L13/M13>1.2,IF((L13/M13-1.2)*0.1+1.2>1.3,1.3,(L13/M13-1.2)*0.1+1.2),L13/M13)))) -> 1.002 | O13: 15 | P13: =(B13*C13+F13*G13+N13*O13)/(C13+G13+O13) -> 1.029925 | Q13: 109453 | R13: =ROUND(Q13/11*4,1) -> 39801.1 | S13: =ROUND(P13*R13,1) -> 40992.1 | T13: =S13-R13 -> 1191 | U13: 9169.5 | V13: 9169.6 | W13: 12405 | Y13: =ROUND(S13-SUM(U13:X13),1) -> 10248 | AC13: =IF(OR(Z13="+",AA13="+",AB13="+"),0,Y13) -> 10248 | AE13: =ROUND(AC13-AD13,1) -> 10248
A14: Отрадный | B14: 1 | C14: 15 | D14: 8771 | E14: 9451.8 | F14: =IF(G14=0,0,IF(D14=0,1,IF(E14<0,0,IF(E14/D14>1.2,IF((E14/D14-1.2)*0.1+1.2>1.3,1.3,(E14/D14-1.2)*0.1+1.2),E14/D14)))) -> 1.0776194 | G14: 15 | H14: н/д | I14: н/д | J14: н/д | K14: 20 | L14: 45.9 | M14: 45.8 | N14: =IF(O14=0,0,IF(M14=0,1.3,IF(M14<0,0,IF(L14/M14>1.2,IF((L14/M14-1.2)*0.1+1.2>1.3,1.3,(L14/M14-1.2)*0.1+1.2),L14/M14)))) -> 1.0021834 | O14: 15 | P14: =(B14*C14+F14*G14+N14*O14)/(C14+G14+O14) -> 1.0266009 | Q14: 57581 | R14: =ROUND(Q14/11*4,1) -> 20938.5 | S14: =ROUND(P14*R14,1) -> 21495.5 | T14: =S14-R14 -> 557 | U14: 5234.6 | V14: 5234.7 | W14: 5180.5 | X14: 471.8 | Y14: =ROUND(S14-SUM(U14:X14),1) -> 5373.9 | AC14: =IF(OR(Z14="+",AA14="+",AB14="+"),0,Y14) -> 5373.9 | AE14: =ROUND(AC14-AD14,1) -> 5373.9
A15: Жигулевск | B15: 1 | C15: 15 | D15: 7732 | E15: 9463.2 | F15: =IF(G15=0,0,IF(D15=0,1,IF(E15<0,0,IF(E15/D15>1.2,IF((E15/D15-1.2)*0.1+1.2>1.3,1.3,(E15/D15-1.2)*0.1+1.2),E15/D15)))) -> 1.2023901 | G15: 15 | H15: н/д | I15: н/д | J15: н/д | K15: 20 | L15: 414.4 | M15: 221.5 | N15: =IF(O15=0,0,IF(M15=0,1.3,IF(M15<0,0,IF(L15/M15>1.2,IF((L15/M15-1.2)*0.1+1.2>1.3,1.3,(L15/M15-1.2)*0.1+1.2),L15/M15)))) -> 1.267088 | O15: 15 | P15: =(B15*C15+F15*G15+N15*O15)/(C15+G15+O15) -> 1.1564927 | Q15: 95592 | R15: =ROUND(Q15/11*4,1) -> 34760.7 | S15: =ROUND(P15*R15,1) -> 40200.5 | T15: =S15-R15 -> 5439.8 | U15: 7924.2 | V15: 7924.2 | W15: 14301.9 | Y15: =ROUND(S15-SUM(U15:X15),1) -> 10050.2 | AC15: =IF(OR(Z15="+",AA15="+",AB15="+"),0,Y15) -> 10050.2 | AE15: =ROUND(AC15-AD15,1) -> 10050.2
A16: Октябрьск | B16: 1 | C16: 15 | D16: 2890 | E16: 3235.9 | F16: =IF(G16=0,0,IF(D16=0,1,IF(E16<0,0,IF(E16/D16>1.2,IF((E16/D16-1.2)*0.1+1.2>1.3,1.3,(E16/D16-1.2)*0.1+1.2),E16/D16)))) -> 1.1196886 | G16: 15 | H16: н/д | I16: н/д | J16: н/д | K16: 20 | L16: 71.7 | M16: 57.7 | N16: =IF(O16=0,0,IF(M16=0,1.3,IF(M16<0,0,IF(L16/M16>1.2,IF((L16/M16-1.2)*0.1+1.2>1.3,1.3,(L16/M16-1.2)*0.1+1.2),L16/M16)))) -> 1.2042634 | O16: 15 | P16: =(B16*C16+F16*G16+N16*O16)/(C16+G16+O16) -> 1.107984 | Q16: 102582 | R16: =ROUND(Q16/11*4,1) -> 37302.5 | S16: =ROUND(P16*R16,1) -> 41330.6 | T16: =S16-R16 -> 4028.1 | U16: 5843.1 | V16: 5843.1 | W16: 7736 | Y16: =ROUND(S16-SUM(U16:X16),1) -> 21908.4 | AC16: =IF(OR(Z16="+",AA16="+",AB16="+"),0,Y16) -> 21908.4 | AE16: =ROUND(AC16-AD16,1) -> 21908.4
A17: Кинель | B17: 1 | C17: 15 | D17: 9634 | E17: 10557.5 | F17: =IF(G17=0,0,IF(D17=0,1,IF(E17<0,0,IF(E17/D17>1.2,IF((E17/D17-1.2)*0.1+1.2>1.3,1.3,(E17/D17-1.2)*0.1+1.2),E17/D17)))) -> 1.0958584 | G17: 15 | H17: н/д | I17: н/д | J17: н/д | K17: 20 | L17: 56.3 | M17: 33.6 | N17: =IF(O17=0,0,IF(M17=0,1.3,IF(M17<0,0,IF(L17/M17>1.2,IF((L17/M17-1.2)*0.1+1.2>1.3,1.3,(L17/M17-1.2)*0.1+1.2),L17/M17)))) -> 1.2475595 | O17: 15 | P17: =(B17*C17+F17*G17+N17*O17)/(C17+G17+O17) -> 1.1144726 | Q17: 97813 | R17: =ROUND(Q17/11*4,1) -> 35568.4 | S17: =ROUND(P17*R17,1) -> 39640 | T17: =S17-R17 -> 4071.6 | U17: 8204.9 | V17: 8204.9 | W17: 13320.2 | Y17: =ROUND(S17-SUM(U17:X17),1) -> 9910 | AC17: =IF(OR(Z17="+",AA17="+",AB17="+"),0,Y17) -> 9910 | AE17: =ROUND(AC17-AD17,1) -> 9910
A18: Похвистнево | B18: 1 | C18: 15 | D18: 4344 | E18: 4489.1 | F18: =IF(G18=0,0,IF(D18=0,1,IF(E18<0,0,IF(E18/D18>1.2,IF((E18/D18-1.2)*0.1+1.2>1.3,1.3,(E18/D18-1.2)*0.1+1.2),E18/D18)))) -> 1.0334024 | G18: 15 | H18: н/д | I18: н/д | J18: н/д | K18: 20 | L18: 10.3 | M18: 0.3 | N18: =IF(O18=0,0,IF(M18=0,1.3,IF(M18<0,0,IF(L18/M18>1.2,IF((L18/M18-1.2)*0.1+1.2>1.3,1.3,(L18/M18-1.2)*0.1+1.2),L18/M18)))) -> 1.3 | O18: 15 | P18: =(B18*C18+F18*G18+N18*O18)/(C18+G18+O18) -> 1.1111341 | Q18: 53194 | R18: =ROUND(Q18/11*4,1) -> 19343.3 | S18: =ROUND(P18*R18,1) -> 21493 | T18: =S18-R18 -> 2149.7 | U18: 4352.4 | V18: 4352.3 | W18: 7195.6 | X18: 219.5 | Y18: =ROUND(S18-SUM(U18:X18),1) -> 5373.2 | AC18: =IF(OR(Z18="+",AA18="+",AB18="+"),0,Y18) -> 5373.2 | AE18: =ROUND(AC18-AD18,1) -> 5373.2
A19: Муниципальные районы | D19: =SUM(D20:D46) -> 74902 | E19: =SUM(E20:E46) -> 82703.6 | F19: =IF(E19/D19>1.2,IF((E19/D19-1.2)*0.1+1.2>1.3,1.3,(E19/D19-1.2)*0.1+1.2),E19/D19) -> 1.1041574 | L19: =SUM(L20:L46) -> 832 | M19: =SUM(M20:M46) -> 852 | N19: =IF(L19/M19>1.2,IF((L19/M19-1.2)*0.1+1.2>1.3,1.3,(L19/M19-1.2)*0.1+1.2),L19/M19) -> 0.97652582 | Q19: =SUM(Q20:Q46) -> 1670076 | R19: =SUM(R20:R46) -> 607300.6 | S19: =SUM(S20:S46) -> 635060.4 | T19: =SUM(T20:T46) -> 27759.8 | U19: =SUM(U20:U46) -> 150687 | V19: =SUM(V20:V46) -> 150687 | W19: =SUM(W20:W46) -> 161003.9 | X19: =SUM(X20:X46) -> 13917 | Y19: =SUM(Y20:Y46) -> 158765.5 | AC19: =SUM(AC20:AC46) -> 158765.5 | AD19: =SUM(AD20:AD46) -> 12936.8 | AE19: =SUM(AE20:AE46) -> 145828.7
A20: Алексеевский | B20: 1 | C20: 10 | D20: 590 | E20: 687.4 | F20: =IF(G20=0,0,IF(D20=0,1,IF(E20<0,0,IF(E20/D20>1.2,IF((E20/D20-1.2)*0.1+1.2>1.3,1.3,(E20/D20-1.2)*0.1+1.2),E20/D20)))) -> 1.1650847 | G20: 10 | H20: н/д | I20: н/д | J20: н/д | K20: 15 | L20: 4.5 | M20: 5.3 | N20: =IF(O20=0,0,IF(M20=0,1.3,IF(M20<0,0,IF(L20/M20>1.2,IF((L20/M20-1.2)*0.1+1.2>1.3,1.3,(L20/M20-1.2)*0.1+1.2),L20/M20)))) -> 0.8490566 | O20: 15 | P20: =(B20*C20+F20*G20+N20*O20)/(C20+G20+O20) -> 0.98247704 | Q20: 39115 | R20: =ROUND(Q20/11*4,1) -> 14223.6 | S20: =ROUND(P20*R20,1) -> 13974.4 | T20: =S20-R20 -> -249.2 | U20: 3555.9 | V20: 3555.9 | W20: 2480 | X20: 889 | Y20: =ROUND(S20-SUM(U20:X20),1) -> 3493.6 | AC20: =IF(OR(Z20="+",AA20="+",AB20="+"),0,Y20) -> 3493.6 | AD20: =MIN(AC20,889) -> 889 | AE20: =ROUND(AC20-AD20,1) -> 2604.6
A21: Безенчукский | B21: 1 | C21: 10 | D21: 5016 | E21: 5307.4 | F21: =IF(G21=0,0,IF(D21=0,1,IF(E21<0,0,IF(E21/D21>1.2,IF((E21/D21-1.2)*0.1+1.2>1.3,1.3,(E21/D21-1.2)*0.1+1.2),E21/D21)))) -> 1.0580941 | G21: 10 | H21: н/д | I21: н/д | J21: н/д | K21: 15 | L21: 4.9 | M21: 0.8 | N21: =IF(O21=0,0,IF(M21=0,1.3,IF(M21<0,0,IF(L21/M21>1.2,IF((L21/M21-1.2)*0.1+1.2>1.3,1.3,(L21/M21-1.2)*0.1+1.2),L21/M21)))) -> 1.3 | O21: 15 | P21: =(B21*C21+F21*G21+N21*O21)/(C21+G21+O21) -> 1.1451697 | Q21: 68580 | R21: =ROUND(Q21/11*4,1) -> 24938.2 | S21: =ROUND(P21*R21,1) -> 28558.5 | T21: =S21-R21 -> 3620.3 | U21: 6234.5 | V21: 6234.6 | W21: 8949.7 | Y21: =ROUND(S21-SUM(U21:X21),1) -> 7139.7 | AC21: =IF(OR(Z21="+",AA21="+",AB21="+"),0,Y21) -> 7139.7 | AE21: =ROUND(AC21-AD21,1) -> 7139.7
A22: Богатовский | B22: 1 | C22: 10 | D22: 1327 | E22: 1454.2 | F22: =IF(G22=0,0,IF(D22=0,1,IF(E22<0,0,IF(E22/D22>1.2,IF((E22/D22-1.2)*0.1+1.2>1.3,1.3,(E22/D22-1.2)*0.1+1.2),E22/D22)))) -> 1.0958553 | G22: 10 | H22: н/д | I22: н/д | J22: н/д | K22: 15 | L22: 12 | M22: 9.5 | N22: =IF(O22=0,0,IF(M22=0,1.3,IF(M22<0,0,IF(L22/M22>1.2,IF((L22/M22-1.2)*0.1+1.2>1.3,1.3,(L22/M22-1.2)*0.1+1.2),L22/M22)))) -> 1.2063158 | O22: 15 | P22: =(B22*C22+F22*G22+N22*O22)/(C22+G22+O22) -> 1.1158083 | Q22: 45233 | R22: =ROUND(Q22/11*4,1) -> 16448.4 | S22: =ROUND(P22*R22,1) -> 18353.3 | T22: =S22-R22 -> 1904.9 | U22: 4112.1 | V22: 4112.1 | W22: 5540.7 | Y22: =ROUND(S22-SUM(U22:X22),1) -> 4588.4 | AC22: =IF(OR(Z22="+",AA22="+",AB22="+"),0,Y22) -> 4588.4 | AE22: =ROUND(AC22-AD22,1) -> 4588.4
A23: Большеглушицкий | B23: 1 | C23: 10 | D23: 1373 | E23: 1577.8 | F23: =IF(G23=0,0,IF(D23=0,1,IF(E23<0,0,IF(E23/D23>1.2,IF((E23/D23-1.2)*0.1+1.2>1.3,1.3,(E23/D23-1.2)*0.1+1.2),E23/D23)))) -> 1.1491624 | G23: 10 | H23: н/д | I23: н/д | J23: н/д | K23: 15 | L23: 5.7 | M23: 3.5 | N23: =IF(O23=0,0,IF(M23=0,1.3,IF(M23<0,0,IF(L23/M23>1.2,IF((L23/M23-1.2)*0.1+1.2>1.3,1.3,(L23/M23-1.2)*0.1+1.2),L23/M23)))) -> 1.2428571 | O23: 15 | P23: =(B23*C23+F23*G23+N23*O23)/(C23+G23+O23) -> 1.1466995 | Q23: 50661 | R23: =ROUND(Q23/11*4,1) -> 18422.2 | S23: =ROUND(P23*R23,1) -> 21124.7 | T23: =S23-R23 -> 2702.5 | U23: 4605.5 | V23: 4605.6 | W23: 5481 | X23: 1151.4 | Y23: =ROUND(S23-SUM(U23:X23),1) -> 5281.2 | AC23: =IF(OR(Z23="+",AA23="+",AB23="+"),0,Y23) -> 5281.2 | AD23: =MIN(AC23,212.9) -> 212.9 | AE23: =ROUND(AC23-AD23,1) -> 5068.3
A24: Большечерниговский | B24: 1 | C24: 10 | D24: 1108 | E24: 1126.8 | F24: =IF(G24=0,0,IF(D24=0,1,IF(E24<0,0,IF(E24/D24>1.2,IF((E24/D24-1.2)*0.1+1.2>1.3,1.3,(E24/D24-1.2)*0.1+1.2),E24/D24)))) -> 1.0169675 | G24: 10 | H24: н/д | I24: н/д | J24: н/д | K24: 15 | L24: 9.3 | M24: 9.3 | N24: =IF(O24=0,0,IF(M24=0,1.3,IF(M24<0,0,IF(L24/M24>1.2,IF((L24/M24-1.2)*0.1+1.2>1.3,1.3,(L24/M24-1.2)*0.1+1.2),L24/M24)))) -> 1 | O24: 15 | P24: =(B24*C24+F24*G24+N24*O24)/(C24+G24+O24) -> 1.0048479 | Q24: 55514 | R24: =ROUND(Q24/11*4,1) -> 20186.9 | S24: =ROUND(P24*R24,1) -> 20284.8 | T24: =S24-R24 -> 97.9 | U24: 5046.7 | V24: 5046.8 | W24: 3858.4 | X24: 1261.7 | Y24: =ROUND(S24-SUM(U24:X24),1) -> 5071.2 | AC24: =IF(OR(Z24="+",AA24="+",AB24="+"),0,Y24) -> 5071.2 | AD24: =MIN(AC24,1220) -> 1220 | AE24: =ROUND(AC24-AD24,1) -> 3851.2
A25: Борский | B25: 1 | C25: 10 | D25: 1544 | E25: 1710 | F25: =IF(G25=0,0,IF(D25=0,1,IF(E25<0,0,IF(E25/D25>1.2,IF((E25/D25-1.2)*0.1+1.2>1.3,1.3,(E25/D25-1.2)*0.1+1.2),E25/D25)))) -> 1.107513 | G25: 10 | H25: н/д | I25: н/д | J25: н/д | K25: 15 | L25: 7 | M25: 0 | N25: =IF(O25=0,0,IF(M25=0,1.3,IF(M25<0,0,IF(L25/M25>1.2,IF((L25/M25-1.2)*0.1+1.2>1.3,1.3,(L25/M25-1.2)*0.1+1.2),L25/M25)))) -> 1.3 | O25: 15 | P25: =(B25*C25+F25*G25+N25*O25)/(C25+G25+O25) -> 1.1592894 | Q25: 62560 | R25: =ROUND(Q25/11*4,1) -> 22749.1 | S25: =ROUND(P25*R25,1) -> 26372.8 | T25: =S25-R25 -> 3623.7 | U25: 5687.3 | V25: 5687.2 | W25: 8405.1 | Y25: =ROUND(S25-SUM(U25:X25),1) -> 6593.2 | AC25: =IF(OR(Z25="+",AA25="+",AB25="+"),0,Y25) -> 6593.2 | AE25: =ROUND(AC25-AD25,1) -> 6593.2
A26: Волжский | B26: 1 | C26: 10 | D26: 13383 | E26: 15040.6 | F26: =IF(G26=0,0,IF(D26=0,1,IF(E26<0,0,IF(E26/D26>1.2,IF((E26/D26-1.2)*0.1+1.2>1.3,1.3,(E26/D26-1.2)*0.1+1.2),E26/D26)))) -> 1.1238586 | G26: 10 | H26: н/д | I26: н/д | J26: н/д | K26: 15 | L26: 128.6 | M26: 121 | N26: =IF(O26=0,0,IF(M26=0,1.3,IF(M26<0,0,IF(L26/M26>1.2,IF((L26/M26-1.2)*0.1+1.2>1.3,1.3,(L26/M26-1.2)*0.1+1.2),L26/M26)))) -> 1.0628099 | O26: 15 | P26: =(B26*C26+F26*G26+N26*O26)/(C26+G26+O26) -> 1.0623067 | Q26: 147428 | R26: =ROUND(Q26/11*4,1) -> 53610.2 | S26: =ROUND(P26*R26,1) -> 56950.5 | T26: =S26-R26 -> 3340.3 | U26: 13402.5 | V26: 13402.6 | W26: 15907.7 | Y26: =ROUND(S26-SUM(U26:X26),1) -> 14237.7 | AC26: =IF(OR(Z26="+",AA26="+",AB26="+"),0,Y26) -> 14237.7 | AE26: =ROUND(AC26-AD26,1) -> 14237.7
A27: Елховский | B27: 1 | C27: 10 | D27: 550 | E27: 706.5 | F27: =IF(G27=0,0,IF(D27=0,1,IF(E27<0,0,IF(E27/D27>1.2,IF((E27/D27-1.2)*0.1+1.2>1.3,1.3,(E27/D27-1.2)*0.1+1.2),E27/D27)))) -> 1.2084545 | G27: 10 | H27: н/д | I27: н/д | J27: н/д | K27: 15 | L27: 12 | M27: 11.6 | N27: =IF(O27=0,0,IF(M27=0,1.3,IF(M27<0,0,IF(L27/M27>1.2,IF((L27/M27-1.2)*0.1+1.2>1.3,1.3,(L27/M27-1.2)*0.1+1.2),L27/M27)))) -> 1.0344828 | O27: 15 | P27: =(B27*C27+F27*G27+N27*O27)/(C27+G27+O27) -> 1.0743368 | Q27: 27974 | R27: =ROUND(Q27/11*4,1) -> 10172.4 | S27: =ROUND(P27*R27,1) -> 10928.6 | T27: =S27-R27 -> 756.2 | U27: 2543.1 | V27: 2543.1 | W27: 3110.2 | Y27: =ROUND(S27-SUM(U27:X27),1) -> 2732.2 | AC27: =IF(OR(Z27="+",AA27="+",AB27="+"),0,Y27) -> 2732.2 | AE27: =ROUND(AC27-AD27,1) -> 2732.2
A28: Исаклинский | B28: 1 | C28: 10 | D28: 729 | E28: 782.7 | F28: =IF(G28=0,0,IF(D28=0,1,IF(E28<0,0,IF(E28/D28>1.2,IF((E28/D28-1.2)*0.1+1.2>1.3,1.3,(E28/D28-1.2)*0.1+1.2),E28/D28)))) -> 1.0736626 | G28: 10 | H28: н/д | I28: н/д | J28: н/д | K28: 15 | L28: 3.5 | M28: 5.7 | N28: =IF(O28=0,0,IF(M28=0,1.3,IF(M28<0,0,IF(L28/M28>1.2,IF((L28/M28-1.2)*0.1+1.2>1.3,1.3,(L28/M28-1.2)*0.1+1.2),L28/M28)))) -> 0.61403509 | O28: 15 | P28: =(B28*C28+F28*G28+N28*O28)/(C28+G28+O28) -> 0.85563291 | Q28: 54634 | R28: =ROUND(Q28/11*4,1) -> 19866.9 | S28: =ROUND(P28*R28,1) -> 16998.8 | T28: =S28-R28 -> -2868.1 | U28: 4966.7 | V28: 4966.8 | W28: 2815.6 | Y28: =ROUND(S28-SUM(U28:X28),1) -> 4249.7 | AC28: =IF(OR(Z28="+",AA28="+",AB28="+"),0,Y28) -> 4249.7 | AE28: =ROUND(AC28-AD28,1) -> 4249.7
A29: Камышлинский | B29: 1 | C29: 10 | D29: 677 | E29: 663.4 | F29: =IF(G29=0,0,IF(D29=0,1,IF(E29<0,0,IF(E29/D29>1.2,IF((E29/D29-1.2)*0.1+1.2>1.3,1.3,(E29/D29-1.2)*0.1+1.2),E29/D29)))) -> 0.97991137 | G29: 10 | H29: н/д | I29: н/д | J29: н/д | K29: 15 | L29: 4.3 | M29: 3.1 | N29: =IF(O29=0,0,IF(M29=0,1.3,IF(M29<0,0,IF(L29/M29>1.2,IF((L29/M29-1.2)*0.1+1.2>1.3,1.3,(L29/M29-1.2)*0.1+1.2),L29/M29)))) -> 1.2187097 | O29: 15 | P29: =(B29*C29+F29*G29+N29*O29)/(C29+G29+O29) -> 1.0879931 | Q29: 33018 | R29: =ROUND(Q29/11*4,1) -> 12006.5 | S29: =ROUND(P29*R29,1) -> 13063 | T29: =S29-R29 -> 1056.5 | U29: 3001.6 | V29: 3001.7 | W29: 3794 | Y29: =ROUND(S29-SUM(U29:X29),1) -> 3265.7 | AC29: =IF(OR(Z29="+",AA29="+",AB29="+"),0,Y29) -> 3265.7 | AE29: =ROUND(AC29-AD29,1) -> 3265.7
A30: Кинельский | B30: 1 | C30: 10 | D30: 1650 | E30: 2152.7 | F30: =IF(G30=0,0,IF(D30=0,1,IF(E30<0,0,IF(E30/D30>1.2,IF((E30/D30-1.2)*0.1+1.2>1.3,1.3,(E30/D30-1.2)*0.1+1.2),E30/D30)))) -> 1.2104667 | G30: 10 | H30: н/д | I30: н/д | J30: н/д | K30: 15 | L30: 7 | M30: 7 | N30: =IF(O30=0,0,IF(M30=0,1.3,IF(M30<0,0,IF(L30/M30>1.2,IF((L30/M30-1.2)*0.1+1.2>1.3,1.3,(L30/M30-1.2)*0.1+1.2),L30/M30)))) -> 1 | O30: 15 | P30: =(B30*C30+F30*G30+N30*O30)/(C30+G30+O30) -> 1.0601333 | Q30: 45400 | R30: =ROUND(Q30/11*4,1) -> 16509.1 | S30: =ROUND(P30*R30,1) -> 17501.8 | T30: =S30-R30 -> 992.7 | U30: 4127.3 | V30: 4127.2 | W30: 4871.9 | Y30: =ROUND(S30-SUM(U30:X30),1) -> 4375.4 | AC30: =IF(OR(Z30="+",AA30="+",AB30="+"),0,Y30) -> 4375.4 | AE30: =ROUND(AC30-AD30,1) -> 4375.4
A31: Кинель-Черкасский | B31: 1 | C31: 10 | D31: 3968 | E31: 4203.7 | F31: =IF(G31=0,0,IF(D31=0,1,IF(E31<0,0,IF(E31/D31>1.2,IF((E31/D31-1.2)*0.1+1.2>1.3,1.3,(E31/D31-1.2)*0.1+1.2),E31/D31)))) -> 1.0594002 | G31: 10 | H31: н/д | I31: н/д | J31: н/д | K31: 15 | L31: 11.6 | M31: 11.6 | N31: =IF(O31=0,0,IF(M31=0,1.3,IF(M31<0,0,IF(L31/M31>1.2,IF((L31/M31-1.2)*0.1+1.2>1.3,1.3,(L31/M31-1.2)*0.1+1.2),L31/M31)))) -> 1 | O31: 15 | P31: =(B31*C31+F31*G31+N31*O31)/(C31+G31+O31) -> 1.0169715 | Q31: 90499 | R31: =ROUND(Q31/11*4,1) -> 32908.7 | S31: =ROUND(P31*R31,1) -> 33467.2 | T31: =S31-R31 -> 558.5 | U31: 8227.2 | V31: 8227.2 | W31: 8646 | Y31: =ROUND(S31-SUM(U31:X31),1) -> 8366.8 | AC31: =IF(OR(Z31="+",AA31="+",AB31="+"),0,Y31) -> 8366.8 | AE31: =ROUND(AC31-AD31,1) -> 8366.8
A32: Клявлинский | B32: 1 | C32: 10 | D32: 978 | E32: 928.8 | F32: =IF(G32=0,0,IF(D32=0,1,IF(E32<0,0,IF(E32/D32>1.2,IF((E32/D32-1.2)*0.1+1.2>1.3,1.3,(E32/D32-1.2)*0.1+1.2),E32/D32)))) -> 0.94969325 | G32: 10 | H32: н/д | I32: н/д | J32: н/д | K32: 15 | L32: 2.1 | M32: 2.1 | N32: =IF(O32=0,0,IF(M32=0,1.3,IF(M32<0,0,IF(L32/M32>1.2,IF((L32/M32-1.2)*0.1+1.2>1.3,1.3,(L32/M32-1.2)*0.1+1.2),L32/M32)))) -> 1 | O32: 15 | P32: =(B32*C32+F32*G32+N32*O32)/(C32+G32+O32) -> 0.98562664 | Q32: 40605 | R32: =ROUND(Q32/11*4,1) -> 14765.5 | S32: =ROUND(P32*R32,1) -> 14553.3 | T32: =S32-R32 -> -212.2 | U32: 3691.4 | V32: 3691.3 | W32: 2609.4 | X32: 922.8 | Y32: =ROUND(S32-SUM(U32:X32),1) -> 3638.4 | AC32: =IF(OR(Z32="+",AA32="+",AB32="+"),0,Y32) -> 3638.4 | AD32: =MIN(AC32,922.8) -> 922.8 | AE32: =ROUND(AC32-AD32,1) -> 2715.6
A33: Кошкинский | B33: 1 | C33: 10 | D33: 3030 | E33: 3017.5 | F33: =IF(G33=0,0,IF(D33=0,1,IF(E33<0,0,IF(E33/D33>1.2,IF((E33/D33-1.2)*0.1+1.2>1.3,1.3,(E33/D33-1.2)*0.1+1.2),E33/D33)))) -> 0.99587459 | G33: 10 | H33: н/д | I33: н/д | J33: н/д | K33: 15 | L33: 5 | M33: 1.1 | N33: =IF(O33=0,0,IF(M33=0,1.3,IF(M33<0,0,IF(L33/M33>1.2,IF((L33/M33-1.2)*0.1+1.2>1.3,1.3,(L33/M33-1.2)*0.1+1.2),L33/M33)))) -> 1.3 | O33: 15 | P33: =(B33*C33+F33*G33+N33*O33)/(C33+G33+O33) -> 1.1273927 | Q33: 60054 | R33: =ROUND(Q33/11*4,1) -> 21837.8 | S33: =ROUND(P33*R33,1) -> 24619.8 | T33: =S33-R33 -> 2782 | U33: 5459.5 | V33: 5459.4 | W33: 6181.1 | X33: 1364.9 | Y33: =ROUND(S33-SUM(U33:X33),1) -> 6154.9 | AC33: =IF(OR(Z33="+",AA33="+",AB33="+"),0,Y33) -> 6154.9 | AD33: =MIN(AC33,1364.9) -> 1364.9 | AE33: =ROUND(AC33-AD33,1) -> 4790
A34: Красноармейский | B34: 1 | C34: 10 | D34: 1200 | E34: 1218.1 | F34: =IF(G34=0,0,IF(D34=0,1,IF(E34<0,0,IF(E34/D34>1.2,IF((E34/D34-1.2)*0.1+1.2>1.3,1.3,(E34/D34-1.2)*0.1+1.2),E34/D34)))) -> 1.0150833 | G34: 10 | H34: н/д | I34: н/д | J34: н/д | K34: 15 | L34: 66.5 | M34: 68.1 | N34: =IF(O34=0,0,IF(M34=0,1.3,IF(M34<0,0,IF(L34/M34>1.2,IF((L34/M34-1.2)*0.1+1.2>1.3,1.3,(L34/M34-1.2)*0.1+1.2),L34/M34)))) -> 0.97650514 | O34: 15 | P34: =(B34*C34+F34*G34+N34*O34)/(C34+G34+O34) -> 0.9942403 | Q34: 61604 | R34: =ROUND(Q34/11*4,1) -> 22401.5 | S34: =ROUND(P34*R34,1) -> 22272.5 | T34: =S34-R34 -> -129 | U34: 5022 | V34: 5022 | W34: 6660.3 | Y34: =ROUND(S34-SUM(U34:X34),1) -> 5568.2 | AC34: =IF(OR(Z34="+",AA34="+",AB34="+"),0,Y34) -> 5568.2 | AE34: =ROUND(AC34-AD34,1) -> 5568.2
A35: Красноярский | B35: 1 | C35: 10 | D35: 8533 | E35: 8255 | F35: =IF(G35=0,0,IF(D35=0,1,IF(E35<0,0,IF(E35/D35>1.2,IF((E35/D35-1.2)*0.1+1.2>1.3,1.3,(E35/D35-1.2)*0.1+1.2),E35/D35)))) -> 0.9674206 | G35: 10 | H35: н/д | I35: н/д | J35: н/д | K35: 15 | L35: 62.8 | M35: 48.5 | N35: =IF(O35=0,0,IF(M35=0,1.3,IF(M35<0,0,IF(L35/M35>1.2,IF((L35/M35-1.2)*0.1+1.2>1.3,1.3,(L35/M35-1.2)*0.1+1.2),L35/M35)))) -> 1.2094845 | O35: 15 | P35: =(B35*C35+F35*G35+N35*O35)/(C35+G35+O35) -> 1.0804707 | Q35: 90750 | R35: =ROUND(Q35/11*4,1) -> 33000 | S35: =ROUND(P35*R35,1) -> 35655.5 | T35: =S35-R35 -> 2655.5 | U35: 8250 | V35: 8250 | W35: 8179.1 | X35: 2062.5 | Y35: =ROUND(S35-SUM(U35:X35),1) -> 8913.9 | AC35: =IF(OR(Z35="+",AA35="+",AB35="+"),0,Y35) -> 8913.9 | AD35: =MIN(AC35,2062.5) -> 2062.5 | AE35: =ROUND(AC35-AD35,1) -> 6851.4
A36: Нефтегорский | B36: 1 | C36: 10 | D36: 3418 | E36: 4098.1 | F36: =IF(G36=0,0,IF(D36=0,1,IF(E36<0,0,IF(E36/D36>1.2,IF((E36/D36-1.2)*0.1+1.2>1.3,1.3,(E36/D36-1.2)*0.1+1.2),E36/D36)))) -> 1.198976 | G36: 10 | H36: н/д | I36: н/д | J36: н/д | K36: 15 | L36: 177.3 | M36: 199.4 | N36: =IF(O36=0,0,IF(M36=0,1.3,IF(M36<0,0,IF(L36/M36>1.2,IF((L36/M36-1.2)*0.1+1.2>1.3,1.3,(L36/M36-1.2)*0.1+1.2),L36/M36)))) -> 0.8891675 | O36: 15 | P36: =(B36*C36+F36*G36+N36*O36)/(C36+G36+O36) -> 1.0093506 | Q36: 62785 | R36: =ROUND(Q36/11*4,1) -> 22830.9 | S36: =ROUND(P36*R36,1) -> 23044.4 | T36: =S36-R36 -> 213.5 | U36: 5707.7 | V36: 5707.8 | W36: 5867.8 | Y36: =ROUND(S36-SUM(U36:X36),1) -> 5761.1 | AC36: =IF(OR(Z36="+",AA36="+",AB36="+"),0,Y36) -> 5761.1 | AE36: =ROUND(AC36-AD36,1) -> 5761.1
A37: Пестравский | B37: 1 | C37: 10 | D37: 1093 | E37: 1144.5 | F37: =IF(G37=0,0,IF(D37=0,1,IF(E37<0,0,IF(E37/D37>1.2,IF((E37/D37-1.2)*0.1+1.2>1.3,1.3,(E37/D37-1.2)*0.1+1.2),E37/D37)))) -> 1.047118 | G37: 10 | H37: н/д | I37: н/д | J37: н/д | K37: 15 | L37: 10.1 | M37: 20.9 | N37: =IF(O37=0,0,IF(M37=0,1.3,IF(M37<0,0,IF(L37/M37>1.2,IF((L37/M37-1.2)*0.1+1.2>1.3,1.3,(L37/M37-1.2)*0.1+1.2),L37/M37)))) -> 0.48325359 | O37: 15 | P37: =(B37*C37+F37*G37+N37*O37)/(C37+G37+O37) -> 0.79199954 | Q37: 36975 | R37: =ROUND(Q37/11*4,1) -> 13445.5 | S37: =ROUND(P37*R37,1) -> 10648.8 | T37: =S37-R37 -> -2796.7 | U37: 3361.4 | V37: 3361.3 | W37: 1263.9 | Y37: =ROUND(S37-SUM(U37:X37),1) -> 2662.2 | AC37: =IF(OR(Z37="+",AA37="+",AB37="+"),0,Y37) -> 2662.2 | AE37: =ROUND(AC37-AD37,1) -> 2662.2
A38: Похвистневский | B38: 1 | C38: 10 | D38: 1377 | E38: 1402.9 | F38: =IF(G38=0,0,IF(D38=0,1,IF(E38<0,0,IF(E38/D38>1.2,IF((E38/D38-1.2)*0.1+1.2>1.3,1.3,(E38/D38-1.2)*0.1+1.2),E38/D38)))) -> 1.018809 | G38: 10 | H38: н/д | I38: н/д | J38: н/д | K38: 15 | L38: 3.5 | M38: 3.5 | N38: =IF(O38=0,0,IF(M38=0,1.3,IF(M38<0,0,IF(L38/M38>1.2,IF((L38/M38-1.2)*0.1+1.2>1.3,1.3,(L38/M38-1.2)*0.1+1.2),L38/M38)))) -> 1 | O38: 15 | P38: =(B38*C38+F38*G38+N38*O38)/(C38+G38+O38) -> 1.005374 | Q38: 84816 | R38: =ROUND(Q38/11*4,1) -> 30842.2 | S38: =ROUND(P38*R38,1) -> 31007.9 | T38: =S38-R38 -> 165.7 | U38: 7710.5 | V38: 7710.6 | W38: 7834.8 | Y38: =ROUND(S38-SUM(U38:X38),1) -> 7752 | AC38: =IF(OR(Z38="+",AA38="+",AB38="+"),0,Y38) -> 7752 | AE38: =ROUND(AC38-AD38,1) -> 7752
A39: Приволжский | B39: 1 | C39: 10 | D39: 1543 | E39: 1686.4 | F39: =IF(G39=0,0,IF(D39=0,1,IF(E39<0,0,IF(E39/D39>1.2,IF((E39/D39-1.2)*0.1+1.2>1.3,1.3,(E39/D39-1.2)*0.1+1.2),E39/D39)))) -> 1.0929358 | G39: 10 | H39: н/д | I39: н/д | J39: н/д | K39: 15 | L39: 43.8 | M39: 59.3 | N39: =IF(O39=0,0,IF(M39=0,1.3,IF(M39<0,0,IF(L39/M39>1.2,IF((L39/M39-1.2)*0.1+1.2>1.3,1.3,(L39/M39-1.2)*0.1+1.2),L39/M39)))) -> 0.7386172 | O39: 15 | P39: =(B39*C39+F39*G39+N39*O39)/(C39+G39+O39) -> 0.9145319 | Q39: 65782 | R39: =ROUND(Q39/11*4,1) -> 23920.7 | S39: =ROUND(P39*R39,1) -> 21876.2 | T39: =S39-R39 -> -2044.5 | U39: 5980.2 | V39: 5980.2 | W39: 2951.8 | X39: 1495 | Y39: =ROUND(S39-SUM(U39:X39),1) -> 5469 | AC39: =IF(OR(Z39="+",AA39="+",AB39="+"),0,Y39) -> 5469 | AD39: =MIN(AC39,1495) -> 1495 | AE39: =ROUND(AC39-AD39,1) -> 3974
A40: Сергиевский | B40: 1 | C40: 10 | D40: 4337 | E40: 4922.3 | F40: =IF(G40=0,0,IF(D40=0,1,IF(E40<0,0,IF(E40/D40>1.2,IF((E40/D40-1.2)*0.1+1.2>1.3,1.3,(E40/D40-1.2)*0.1+1.2),E40/D40)))) -> 1.134955 | G40: 10 | H40: н/д | I40: н/д | J40: н/д | K40: 15 | L40: 39.2 | M40: 37.7 | N40: =IF(O40=0,0,IF(M40=0,1.3,IF(M40<0,0,IF(L40/M40>1.2,IF((L40/M40-1.2)*0.1+1.2>1.3,1.3,(L40/M40-1.2)*0.1+1.2),L40/M40)))) -> 1.0397878 | O40: 15 | P40: =(B40*C40+F40*G40+N40*O40)/(C40+G40+O40) -> 1.0556105 | Q40: 83183 | R40: =ROUND(Q40/11*4,1) -> 30248.4 | S40: =ROUND(P40*R40,1) -> 31930.5 | T40: =S40-R40 -> 1682.1 | U40: 7002.4 | V40: 7002.3 | W40: 9943.2 | Y40: =ROUND(S40-SUM(U40:X40),1) -> 7982.6 | AC40: =IF(OR(Z40="+",AA40="+",AB40="+"),0,Y40) -> 7982.6 | AE40: =ROUND(AC40-AD40,1) -> 7982.6
...

Sheet Плюсы и минусы
A1: Факторный анализ влияния отдельных показателей на итоговое распределение за 4 месяца 2022 года
O2: тыс. рублей
A3: Наименование муниципального образования | B3: +/- по итогам отчётного периода | C3: Отсутствие просроченной кредиторской задолженности бюджета городского округа, консолидированного бюджета городского округа с внутригородским делением, консолидированного бюджета муниципального района по состоянию на конец отчетного периода | F3: Объем алкогольной продукции, зафиксированный в единой государственной автоматизированной информационной системе | I3: Эффективность муниципального земельного контроля | L3: Уровень задолженности предприятий жилищно-коммунального хозяйства за ранее потребленные топливно-энергетические ресурсы | O3: Общая сумма весов влияния
C4: Отклонение от прогноза | D4: Вес влияния на результат | E4: + / - (5)=(2)*(3)/(6) | F4: Отклонение от прогноза | G4: Вес влияния на результат | H4: + / - (8)=(2)*(6)/(15) | I4: Отклонение от прогноза | J4: Вес влияния на результат | K4: + / - (11)=(2)*(9)/(15) | L4: Отклонение от прогноза | M4: Вес влияния на результат | N4: + / - (14)=(2)*(12)/(15)
A5: 1 | B5: 2 | C5: 3 | D5: 4 | E5: 5 | F5: 6 | G5: 7 | H5: 8 | I5: 9 | J5: 10 | K5: 11 | L5: 12 | M5: 13 | N5: 14 | O5: 15
A6: Городские округа | B6: =SUM(B7:B16) -> 32694.4 | E6: =SUM(E7:E16) -> 0 | H6: =SUM(H7:H16) -> 25295.427 | N6: =SUM(N7:N16) -> 7398.9734
A7: Самара | B7: ='Расчет дотаций'!T9 -> 16389.2 | C7: ='Расчет дотаций'!B9-1 -> 0 | D7: =C7*'Расчет дотаций'!C9 -> 0 | E7: =$B7*D7/$O7 -> 0 | F7: ='Расчет дотаций'!F9-1 -> 0.065188103 | G7: =F7*'Расчет дотаций'!G9 -> 0.97782154 | H7: =$B7*G7/O7 -> 2925.5631 | I7: н/д | J7: н/д | K7: н/д | L7: ='Расчет дотаций'!N9-1 -> 0.3 | M7: =L7*'Расчет дотаций'!O9 -> 4.5 | N7: =$B7*M7/O7 -> 13463.637 | O7: =D7+G7+M7 -> 5.4778215
A8: Тольятти | B8: ='Расчет дотаций'!T10 -> -844.5 | C8: ='Расчет дотаций'!B10-1 -> 0 | D8: =C8*'Расчет дотаций'!C10 -> 0 | E8: =$B8*D8/$O8 -> 0 | F8: ='Расчет дотаций'!F10-1 -> 0.12201891 | G8: =F8*'Расчет дотаций'!G10 -> 1.8302836 | H8: =$B8*G8/O8 -> 12903.516 | I8: н/д | J8: н/д | K8: н/д | L8: ='Расчет дотаций'!N10-1 -> -0.13000471 | M8: =L8*'Расчет дотаций'!O10 -> -1.9500707 | N8: =$B8*M8/O8 -> -13748.016 | O8: =D8+G8+M8 -> -0.11978708
A9: Сызрань | B9: ='Расчет дотаций'!T11 -> -1159.7 | C9: ='Расчет дотаций'!B11-1 -> 0 | D9: =C9*'Расчет дотаций'!C11 -> 0 | E9: =$B9*D9/$O9 -> 0 | F9: ='Расчет дотаций'!F11-1 -> 0.06786088 | G9: =F9*'Расчет дотаций'!G11 -> 1.0179132 | H9: =$B9*G9/O9 -> 2058.7167 | I9: н/д | J9: н/д | K9: н/д | L9: ='Расчет дотаций'!N11-1 -> -0.10608774 | M9: =L9*'Расчет дотаций'!O11 -> -1.591316 | N9: =$B9*M9/O9 -> -3218.4167 | O9: =D9+G9+M9 -> -0.57340282
A10: Новокуйбышевск | B10: ='Расчет дотаций'!T12 -> 872.2 | C10: ='Расчет дотаций'!B12-1 -> 0 | D10: =C10*'Расчет дотаций'!C12 -> 0 | E10: =$B10*D10/$O10 -> 0 | F10: ='Расчет дотаций'!F12-1 -> 0.036051716 | G10: =F10*'Расчет дотаций'!G12 -> 0.54077573 | H10: =$B10*G10/O10 -> 516.21164 | I10: н/д | J10: н/д | K10: н/д | L10: ='Расчет дотаций'!N12-1 -> 0.024861878 | M10: =L10*'Расчет дотаций'!O12 -> 0.37292818 | N10: =$B10*M10/O10 -> 355.98836 | O10: =D10+G10+M10 -> 0.91370391
A11: Чапаевск | B11: ='Расчет дотаций'!T13 -> 1191 | C11: ='Расчет дотаций'!B13-1 -> 0 | D11: =C11*'Расчет дотаций'!C13 -> 0 | E11: =$B11*D11/$O11 -> 0 | F11: ='Расчет дотаций'!F13-1 -> 0.087774875 | G11: =F11*'Расчет дотаций'!G13 -> 1.3166231 | H11: =$B11*G11/O11 -> 1164.467 | I11: н/д | J11: н/д | K11: н/д | L11: ='Расчет дотаций'!N13-1 -> 0.002 | M11: =L11*'Расчет дотаций'!O13 -> 0.03 | N11: =$B11*M11/O11 -> 26.533036 | O11: =D11+G11+M11 -> 1.3466231
A12: Отрадный | B12: ='Расчет дотаций'!T14 -> 557 | C12: ='Расчет дотаций'!B14-1 -> 0 | D12: =C12*'Расчет дотаций'!C14 -> 0 | E12: =$B12*D12/$O12 -> 0 | F12: ='Расчет дотаций'!F14-1 -> 0.077619428 | G12: =F12*'Расчет дотаций'!G14 -> 1.1642914 | H12: =$B12*G12/O12 -> 541.76048 | I12: н/д | J12: н/д | K12: н/д | L12: ='Расчет дотаций'!N14-1 -> 0.0021834061 | M12: =L12*'Расчет дотаций'!O14 -> 0.032751092 | N12: =$B12*M12/O12 -> 15.239524 | O12: =D12+G12+M12 -> 1.1970425
A13: Жигулевск | B13: ='Расчет дотаций'!T15 -> 5439.8 | C13: ='Расчет дотаций'!B15-1 -> 0 | D13: =C13*'Расчет дотаций'!C15 -> 0 | E13: =$B13*D13/$O13 -> 0 | F13: ='Расчет дотаций'!F15-1 -> 0.20239007 | G13: =F13*'Расчет дотаций'!G15 -> 3.035851 | H13: =$B13*G13/O13 -> 2345.0753 | I13: н/д | J13: н/д | K13: н/д | L13: ='Расчет дотаций'!N15-1 -> 0.26708804 | M13: =L13*'Расчет дотаций'!O15 -> 4.0063205 | N13: =$B13*M13/O13 -> 3094.7247 | O13: =D13+G13+M13 -> 7.0421716
A14: Октябрьск | B14: ='Расчет дотаций'!T16 -> 4028.1 | C14: ='Расчет дотаций'!B16-1 -> 0 | D14: =C14*'Расчет дотаций'!C16 -> 0 | E14: =$B14*D14/$O14 -> 0 | F14: ='Расчет дотаций'!F16-1 -> 0.11968858 | G14: =F14*'Расчет дотаций'!G16 -> 1.7953287 | H14: =$B14*G14/O14 -> 1488.2376 | I14: н/д | J14: н/д | K14: н/д | L14: ='Расчет дотаций'!N16-1 -> 0.20426343 | M14: =L14*'Расчет дотаций'!O16 -> 3.0639515 | N14: =$B14*M14/O14 -> 2539.8624 | O14: =D14+G14+M14 -> 4.8592802
A15: Кинель | B15: ='Расчет дотаций'!T17 -> 4071.6 | C15: ='Расчет дотаций'!B17-1 -> 0 | D15: =C15*'Расчет дотаций'!C17 -> 0 | E15: =$B15*D15/$O15 -> 0 | F15: ='Расчет дотаций'!F17-1 -> 0.095858418 | G15: =F15*'Расчет дотаций'!G17 -> 1.4378763 | H15: =$B15*G15/O15 -> 1136.5077 | I15: н/д | J15: н/д | K15: н/д | L15: ='Расчет дотаций'!N17-1 -> 0.24755952 | M15: =L15*'Расчет дотаций'!O17 -> 3.7133929 | N15: =$B15*M15/O15 -> 2935.0923 | O15: =D15+G15+M15 -> 5.1512691
A16: Похвистнево | B16: ='Расчет дотаций'!T18 -> 2149.7 | C16: ='Расчет дотаций'!B18-1 -> 0 | D16: =C16*'Расчет дотаций'!C18 -> 0 | E16: =$B16*D16/$O16 -> 0 | F16: ='Расчет дотаций'!F18-1 -> 0.033402394 | G16: =F16*'Расчет дотаций'!G18 -> 0.50103591 | H16: =$B16*G16/O16 -> 215.37076 | I16: н/д | J16: н/д | K16: н/д | L16: ='Расчет дотаций'!N18-1 -> 0.3 | M16: =L16*'Расчет дотаций'!O18 -> 4.5 | N16: =$B16*M16/O16 -> 1934.3292 | O16: =D16+G16+M16 -> 5.0010359
A17: Муниципальные районы | B17: =SUM(B18:B44) -> 27759.8 | E17: =SUM(E18:E44) -> 0 | H17: =SUM(H18:H44) -> 13495.706 | N17: =SUM(N18:N44) -> 14264.094
A18: Алексеевский | B18: ='Расчет дотаций'!T20 -> -249.2 | C18: ='Расчет дотаций'!B20-1 -> 0 | D18: =C18*'Расчет дотаций'!C20 -> 0 | E18: =$B18*D18/$O18 -> 0 | F18: ='Расчет дотаций'!F20-1 -> 0.16508475 | G18: =F18*'Расчет дотаций'!G20 -> 1.6508475 | H18: =$B18*G18/O18 -> 670.77914 | I18: н/д | J18: н/д | K18: н/д | L18: ='Расчет дотаций'!N20-1 -> -0.1509434 | M18: =L18*'Расчет дотаций'!O20 -> -2.2641509 | N18: =$B18*M18/O18 -> -919.97914 | O18: =D18+G18+M18 -> -0.61330349
A19: Безенчукский | B19: ='Расчет дотаций'!T21 -> 3620.3 | C19: ='Расчет дотаций'!B21-1 -> 0 | D19: =C19*'Расчет дотаций'!C21 -> 0 | E19: =$B19*D19/$O19 -> 0 | F19: ='Расчет дотаций'!F21-1 -> 0.058094099 | G19: =F19*'Расчет дотаций'!G21 -> 0.58094099 | H19: =$B19*G19/O19 -> 413.93527 | I19: н/д | J19: н/д | K19: н/д | L19: ='Расчет дотаций'!N21-1 -> 0.3 | M19: =L19*'Расчет дотаций'!O21 -> 4.5 | N19: =$B19*M19/O19 -> 3206.3647 | O19: =D19+G19+M19 -> 5.080941
A20: Богатовский | B20: ='Расчет дотаций'!T22 -> 1904.9 | C20: ='Расчет дотаций'!B22-1 -> 0 | D20: =C20*'Расчет дотаций'!C22 -> 0 | E20: =$B20*D20/$O20 -> 0 | F20: ='Расчет дотаций'!F22-1 -> 0.095855313 | G20: =F20*'Расчет дотаций'!G22 -> 0.95855313 | H20: =$B20*G20/O20 -> 450.48538 | I20: н/д | J20: н/д | K20: н/д | L20: ='Расчет дотаций'!N22-1 -> 0.20631579 | M20: =L20*'Расчет дотаций'!O22 -> 3.0947368 | N20: =$B20*M20/O20 -> 1454.4146 | O20: =D20+G20+M20 -> 4.05329
A21: Большеглушицкий | B21: ='Расчет дотаций'!T23 -> 2702.5 | C21: ='Расчет дотаций'!B23-1 -> 0 | D21: =C21*'Расчет дотаций'!C23 -> 0 | E21: =$B21*D21/$O21 -> 0 | F21: ='Расчет дотаций'!F23-1 -> 0.14916242 | G21: =F21*'Расчет дотаций'!G23 -> 1.4916242 | H21: =$B21*G21/O21 -> 785.10644 | I21: н/д | J21: н/д | K21: н/д | L21: ='Расчет дотаций'!N23-1 -> 0.24285714 | M21: =L21*'Расчет дотаций'!O23 -> 3.6428571 | N21: =$B21*M21/O21 -> 1917.3936 | O21: =D21+G21+M21 -> 5.1344813
A22: Большечерниговский | B22: ='Расчет дотаций'!T24 -> 97.9 | C22: ='Расчет дотаций'!B24-1 -> 0 | D22: =C22*'Расчет дотаций'!C24 -> 0 | E22: =$B22*D22/$O22 -> 0 | F22: ='Расчет дотаций'!F24-1 -> 0.016967509 | G22: =F22*'Расчет дотаций'!G24 -> 0.16967509 | H22: =$B22*G22/O22 -> 97.9 | I22: н/д | J22: н/д | K22: н/д | L22: ='Расчет дотаций'!N24-1 -> 0 | M22: =L22*'Расчет дотаций'!O24 -> 0 | N22: =$B22*M22/O22 -> 0 | O22: =D22+G22+M22 -> 0.16967509
A23: Борский | B23: ='Расчет дотаций'!T25 -> 3623.7 | C23: ='Расчет дотаций'!B25-1 -> 0 | D23: =C23*'Расчет дотаций'!C25 -> 0 | E23: =$B23*D23/$O23 -> 0 | F23: ='Расчет дотаций'!F25-1 -> 0.10751295 | G23: =F23*'Расчет дотаций'!G25 -> 1.0751295 | H23: =$B23*G23/O23 -> 698.80832 | I23: н/д | J23: н/д | K23: н/д | L23: ='Расчет дотаций'!N25-1 -> 0.3 | M23: =L23*'Расчет дотаций'!O25 -> 4.5 | N23: =$B23*M23/O23 -> 2924.8917 | O23: =D23+G23+M23 -> 5.5751295
A24: Волжский | B24: ='Расчет дотаций'!T26 -> 3340.3 | C24: ='Расчет дотаций'!B26-1 -> 0 | D24: =C24*'Расчет дотаций'!C26 -> 0 | E24: =$B24*D24/$O24 -> 0 | F24: ='Расчет дотаций'!F26-1 -> 0.12385863 | G24: =F24*'Расчет дотаций'!G26 -> 1.2385863 | H24: =$B24*G24/O24 -> 1897.1813 | I24: н/д | J24: н/д | K24: н/д | L24: ='Расчет дотаций'!N26-1 -> 0.062809917 | M24: =L24*'Расчет дотаций'!O26 -> 0.94214876 | N24: =$B24*M24/O24 -> 1443.1187 | O24: =D24+G24+M24 -> 2.180735
A25: Елховский | B25: ='Расчет дотаций'!T27 -> 756.2 | C25: ='Расчет дотаций'!B27-1 -> 0 | D25: =C25*'Расчет дотаций'!C27 -> 0 | E25: =$B25*D25/$O25 -> 0 | F25: ='Расчет дотаций'!F27-1 -> 0.20845455 | G25: =F25*'Расчет дотаций'!G27 -> 2.0845455 | H25: =$B25*G25/O25 -> 605.86565 | I25: н/д | J25: н/д | K25: н/д | L25: ='Расчет дотаций'!N27-1 -> 0.034482759 | M25: =L25*'Расчет дотаций'!O27 -> 0.51724138 | N25: =$B25*M25/O25 -> 150.33435 | O25: =D25+G25+M25 -> 2.6017868
A26: Исаклинский | B26: ='Расчет дотаций'!T28 -> -2868.1 | C26: ='Расчет дотаций'!B28-1 -> 0 | D26: =C26*'Расчет дотаций'!C28 -> 0 | E26: =$B26*D26/$O26 -> 0 | F26: ='Расчет дотаций'!F28-1 -> 0.073662551 | G26: =F26*'Расчет дотаций'!G28 -> 0.73662551 | H26: =$B26*G26/O26 -> 418.12371 | I26: н/д | J26: н/д | K26: н/д | L26: ='Расчет дотаций'!N28-1 -> -0.38596491 | M26: =L26*'Расчет дотаций'!O28 -> -5.7894737 | N26: =$B26*M26/O26 -> -3286.2237 | O26: =D26+G26+M26 -> -5.0528482
A27: Камышлинский | B27: ='Расчет дотаций'!T29 -> 1056.5 | C27: ='Расчет дотаций'!B29-1 -> 0 | D27: =C27*'Расчет дотаций'!C29 -> 0 | E27: =$B27*D27/$O27 -> 0 | F27: ='Расчет дотаций'!F29-1 -> -0.020088626 | G27: =F27*'Расчет дотаций'!G29 -> -0.20088626 | H27: =$B27*G27/O27 -> -68.913296 | I27: н/д | J27: н/д | K27: н/д | L27: ='Расчет дотаций'!N29-1 -> 0.21870968 | M27: =L27*'Расчет дотаций'!O29 -> 3.2806452 | N27: =$B27*M27/O27 -> 1125.4133 | O27: =D27+G27+M27 -> 3.0797589
A28: Кинельский | B28: ='Расчет дотаций'!T30 -> 992.7 | C28: ='Расчет дотаций'!B30-1 -> 0 | D28: =C28*'Расчет дотаций'!C30 -> 0 | E28: =$B28*D28/$O28 -> 0 | F28: ='Расчет дотаций'!F30-1 -> 0.21046667 | G28: =F28*'Расчет дотаций'!G30 -> 2.1046667 | H28: =$B28*G28/O28 -> 992.7 | I28: н/д | J28: н/д | K28: н/д | L28: ='Расчет дотаций'!N30-1 -> 0 | M28: =L28*'Расчет дотаций'!O30 -> 0 | N28: =$B28*M28/O28 -> 0 | O28: =D28+G28+M28 -> 2.1046667
A29: Кинель-Черкасский | B29: ='Расчет дотаций'!T31 -> 558.5 | C29: ='Расчет дотаций'!B31-1 -> 0 | D29: =C29*'Расчет дотаций'!C31 -> 0 | E29: =$B29*D29/$O29 -> 0 | F29: ='Расчет дотаций'!F31-1 -> 0.059400202 | G29: =F29*'Расчет дотаций'!G31 -> 0.59400202 | H29: =$B29*G29/O29 -> 558.5 | I29: н/д | J29: н/д | K29: н/д | L29: ='Расчет дотаций'!N31-1 -> 0 | M29: =L29*'Расчет дотаций'!O31 -> 0 | N29: =$B29*M29/O29 -> 0 | O29: =D29+G29+M29 -> 0.59400202
... A44: Шигонский | B44: ='Расчет дотаций'!T46 -> 2151 | C44: ='Расчет дотаций'!B46-1 -> 0 | D44: =C44*'Расчет дотаций'!C46 -> 0 | E44: =$B44*D44/$O44 -> 0 | F44: ='Расчет дотаций'!F46-1 -> 0.0087450809 | G44: =F44*'Расчет дотаций'!G46 -> 0.087450809 | H44: =$B44*G44/O44 -> 56.740187 | I44: н/д | J44: н/д | K44: н/д | L44: ='Расчет дотаций'!N46-1 -> 0.21518519 | M44: =L44*'Расчет дотаций'!O46 -> 3.2277778 | N44: =$B44*M44/O44 -> 2094.2598 | O44: =D44+G44+M44 -> 3.3152286
A45: ИТОГО | B45: =B6+B17 -> 60454.2 | E45: =E6+E17 -> 0 | H45: =H6+H17 -> 38791.133 | N45: =N6+N17 -> 21663.067
