Workbook

Sheet Расчет дотаций
B1: Распределение дотаций местным бюджетам на поддержку мер по обеспечению сбалансированности местных бюджетов
A2: За 6 месяцев 2020 года
A3: Наименование муниципального образования | B3: Отсутствие просроченной кредиторской задолженности бюджета городского округа, консолидированного бюджета городского округа с внутригородским делением, консолидированного бюджета муниципального района по состоянию на конец отчетного периода (по состоянию на 01.07.2020) | D3: Объем алкогольной продукции, зафиксированный в единой государственной автоматизированной информационной системе (дкл.) (по состоянию на 01.07.2020) | H3: Эффективность муниципального земельного контроля (единиц) (по состоянию на 01.04.2020) | L3: Уровень задолженности предприятий жилищно-коммунального хозяйства за ранее потребленные топливно-энергетические ресурсы по состоянию на конец отчетного периода (млн. рублей) (по состоянию на 01.07.2020) | P3: Сводная оценка выполнения социально-экономических показателей | Q3: Годовое значение | R3: План распределения за период | S3: Распределение за отчетный период | T3: Отклонение от планируемого распределения | U3: Ранее предоставленные дотации в 2020 году, тыс. рублей | Z3: Удержано дотаций за апрель-май 2020 года в связи с исполнением показателей за 2019 год, тыс. рублей | AA3: Распределение дотаций за июнь за вычетом предоставлен-ных дотаций за январь-май, тыс. рублей | AB3: Соблюдение условий предоставления дотаций*: | AE3: Распределение дотаций за июнь с учетом выполнения условий предоставления дотаций | AF3: Размер ежемесячного удержания дотаций в связи с исполнением показателей за 2019 год | AG3: Распределение дотаций за июнь с учетом удержания и выполнения условия предоставления дотаций
U5: за январь | V5: за февраль | W5: за март | X5: за апрель | Y5: за май | AB5: соблюдение норматива формирования расходов на содержание органов местного самоуправления | AC5: непривлечение кредитов кредитных организаций в июне 2020 года МО у которых доля дотаций на выравнивание бюджетной обеспеченности в доходах бюджета (без учета субвенций) за 2019 год > 15 % | AD5: согласование увеличения объема планируемых к привлечению кредитов от кредитных организаций - МО в бюджетах которых в июне 2020 года (с 26.06.2020) увеличен объем планируемых к привлечению кредитов от кредитных организаций
B6: Исполнение | C6: Вес | D6: Прогнозное значение | E6: Фактически сложившийся уровень | F6: Исполнение с уч. корректир. макс. перевыполнения | G6: Вес | H6: Прогнозное значение | I6: Фактически сложившийся уровень | J6: Исполнение с уч. корректир. макс. перевыполнения | K6: Вес | L6: Прогнозное значение | M6: Фактически сложившийся уровень | N6: Исполнение с уч. корректир. макс. перевыполнения | O6: Вес
A7: 1 | B7: 2 | C7: 3 | D7: 4 | E7: 5 | F7: 6=5/4 | G7: 7 | H7: 8 | I7: 9 | J7: 10=9/8 | K7: 11 | L7: 12 | M7: 13 | N7: 14=12/13 | O7: 15 | P7: 16 | Q7: 17 | R7: 18=17/11мес.*6 | S7: 19=16*18 | T7: 20=19-18 | U7: 21 | V7: 22 | W7: 23 | X7: 24 | Y7: 25 | Z7: 26 | AA7: 27=19-(21+…+26) | AB7: 28 | AC7: 29 | AD7: 30 | AE7: 31 | AF7: 32 | AG7: 33
A8: Городские округа (городской округ с внутригородским делением) | D8: =SUM(D9:D18) -> 792171 | E8: =SUM(E9:E18) -> 772665.47 | F8: =IF(E8/D8>1.2,IF((E8/D8-1.2)*0.1+1.2>1.3,1.3,(E8/D8-1.2)*0.1+1.2),E8/D8) -> 0.97537712 | H8: =SUM(H9:H18) -> 4457 | I8: =SUM(I9:I18) -> 5286 | J8: =IF(I8/H8>1.2,IF((I8/H8-1.2)*0.1+1.2>1.3,1.3,(I8/H8-1.2)*0.1+1.2),I8/H8) -> 1.1859996 | L8: =SUM(L9:L18) -> 3872.1 | M8: =SUM(M9:M18) -> 2184.5 | N8: =IF(L8/M8>1.2,IF((L8/M8-1.2)*0.1+1.2>1.3,1.3,(L8/M8-1.2)*0.1+1.2),L8/M8) -> 1.2572534 | Q8: =SUM(Q9:Q18) -> 2259228 | R8: =SUM(R9:R18) -> 1232306.1 | S8: =SUM(S9:S18) -> 1249193 | T8: =SUM(T9:T18) -> 16886.9 | U8: =SUM(U9:U18) -> 169050.1 | V8: =SUM(V9:V18) -> 169050 | W8: =SUM(W9:W18) -> 159877.3 | X8: =SUM(X9:X18) -> 167793.4 | ... AA8: =SUM(AA9:AA18) -> 216117 | AE8: =SUM(AE9:AE18) -> 216117 | AF8: =SUM(AF9:AF18) -> 10621.8 | AG8: =SUM(AG9:AG18) -> 205495.2
A9: Самара | B9: 1 | C9: 15 | D9: 427472 | E9: 413311.7 | F9: =IF(G9=0,0,IF(D9=0,1,IF(E9<0,0,IF(E9/D9>1.2,IF((E9/D9-1.2)*0.1+1.2>1.3,1.3,(E9/D9-1.2)*0.1+1.2),E9/D9)))) -> 0.96687432 | G9: 15 | H9: 1273 | I9: 1672 | J9: =IF(K9=0,0,IF(H9=0,1,IF(I9<0,0,IF(I9/H9>1.2,IF((I9/H9-1.2)*0.1+1.2>1.3,1.3,(I9/H9-1.2)*0.1+1.2),I9/H9)))) -> 1.2113433 | K9: 20 | L9: 1422.8 | M9: 1127.4 | N9: =IF(O9=0,0,IF(M9=0,1.3,IF(M9<0,0,IF(L9/M9>1.2,IF((L9/M9-1.2)*0.1+1.2>1.3,1.3,(L9/M9-1.2)*0.1+1.2),L9/M9)))) -> 1.2062019 | O9: 15 | P9: =(B9*C9+F9*G9+J9*K9+N9*O9)/(C9+G9+K9+O9) -> 1.1049694 | Q9: 647146 | R9: =ROUND(Q9/11*6,1) -> 352988.7 | S9: =ROUND(P9*R9,1) -> 390041.7 | T9: =S9-R9 -> 37053 | U9: 27588.1 | V9: 27588.1 | W9: 0 | X9: 58610.3 | Y9: 196563 | Z9: 11346.5 | AA9: =IF(S9-SUM(U9:Z9)>0,S9-SUM(U9:Z9),0) -> 68345.7 | AE9: =IF(OR(AB9="+",AC9="+",AD9="+"),0,AA9) -> 68345.7 | AG9: =ROUND(AE9-AF9,1) -> 68345.7
A10: Тольятти | B10: 1 | C10: 15 | D10: 182094 | E10: 179953.5 | F10: =IF(G10=0,0,IF(D10=0,1,IF(E10<0,0,IF(E10/D10>1.2,IF((E10/D10-1.2)*0.1+1.2>1.3,1.3,(E10/D10-1.2)*0.1+1.2),E10/D10)))) -> 0.98824508 | G10: 15 | H10: 382 | I10: 213 | J10: =IF(K10=0,0,IF(H10=0,1,IF(I10<0,0,IF(I10/H10>1.2,IF((I10/H10-1.2)*0.1+1.2>1.3,1.3,(I10/H10-1.2)*0.1+1.2),I10/H10)))) -> 0.55759162 | K10: 20 | L10: 377.9 | M10: 220.3 | N10: =IF(O10=0,0,IF(M10=0,1.3,IF(M10<0,0,IF(L10/M10>1.2,IF((L10/M10-1.2)*0.1+1.2>1.3,1.3,(L10/M10-1.2)*0.1+1.2),L10/M10)))) -> 1.2515388 | O10: 15 | P10: =(B10*C10+F10*G10+J10*K10+N10*O10)/(C10+G10+K10+O10) -> 0.91920909 | Q10: 790501 | R10: =ROUND(Q10/11*6,1) -> 431182.4 | S10: =ROUND(P10*R10,1) -> 396346.8 | T10: =S10-R10 -> -34835.6 | U10: 66772.8 | V10: 66772.8 | W10: 82160.8 | X10: 29939.8 | Y10: 47937.1 | Z10: 35931.8 | AA10: =IF(S10-SUM(U10:Z10)>0,S10-SUM(U10:Z10),0) -> 66831.7 | AE10: =IF(OR(AB10="+",AC10="+",AD10="+"),0,AA10) -> 66831.7 | AF10: =MIN(AE10,10621.8) -> 10621.8 | AG10: =ROUND(AE10-AF10,1) -> 56209.9
A11: Сызрань | B11: 1 | C11: 15 | D11: 57243 | E11: 55191.1 | F11: =IF(G11=0,0,IF(D11=0,1,IF(E11<0,0,IF(E11/D11>1.2,IF((E11/D11-1.2)*0.1+1.2>1.3,1.3,(E11/D11-1.2)*0.1+1.2),E11/D11)))) -> 0.96415457 | G11: 15 | H11: 382 | I11: 890 | J11: =IF(K11=0,0,IF(H11=0,1,IF(I11<0,0,IF(I11/H11>1.2,IF((I11/H11-1.2)*0.1+1.2>1.3,1.3,(I11/H11-1.2)*0.1+1.2),I11/H11)))) -> 1.3 | K11: 20 | L11: 1405.1 | M11: 239 | N11: =IF(O11=0,0,IF(M11=0,1.3,IF(M11<0,0,IF(L11/M11>1.2,IF((L11/M11-1.2)*0.1+1.2>1.3,1.3,(L11/M11-1.2)*0.1+1.2),L11/M11)))) -> 1.3 | O11: 15 | P11: =(B11*C11+F11*G11+J11*K11+N11*O11)/(C11+G11+K11+O11) -> 1.1532664 | Q11: 179525 | R11: =ROUND(Q11/11*6,1) -> 97922.7 | S11: =ROUND(P11*R11,1) -> 112931 | T11: =S11-R11 -> 15008.3 | U11: 16320.5 | V11: 16320.4 | W11: 15874.1 | X11: 21843.2 | Y11: 17724 | Z11: 537.5 | AA11: =IF(S11-SUM(U11:Z11)>0,S11-SUM(U11:Z11),0) -> 24311.3 | AE11: =IF(OR(AB11="+",AC11="+",AD11="+"),0,AA11) -> 24311.3 | AG11: =ROUND(AE11-AF11,1) -> 24311.3
A12: Новокуйбышевск | B12: 1 | C12: 15 | D12: 37914 | E12: 37063.2 | F12: =IF(G12=0,0,IF(D12=0,1,IF(E12<0,0,IF(E12/D12>1.2,IF((E12/D12-1.2)*0.1+1.2>1.3,1.3,(E12/D12-1.2)*0.1+1.2),E12/D12)))) -> 0.97755974 | G12: 15 | H12: 382 | I12: 571 | J12: =IF(K12=0,0,IF(H12=0,1,IF(I12<0,0,IF(I12/H12>1.2,IF((I12/H12-1.2)*0.1+1.2>1.3,1.3,(I12/H12-1.2)*0.1+1.2),I12/H12)))) -> 1.2294764 | K12: 20 | L12: 235.3 | M12: 202.6 | N12: =IF(O12=0,0,IF(M12=0,1.3,IF(M12<0,0,IF(L12/M12>1.2,IF((L12/M12-1.2)*0.1+1.2>1.3,1.3,(L12/M12-1.2)*0.1+1.2),L12/M12)))) -> 1.1614018 | O12: 15 | P12: =(B12*C12+F12*G12+J12*K12+N12*O12)/(C12+G12+K12+O12) -> 1.1026762 | Q12: 76337 | R12: =ROUND(Q12/11*6,1) -> 41638.4 | S12: =ROUND(P12*R12,1) -> 45913.7 | T12: =S12-R12 -> 4275.3 | U12: 6939.7 | V12: 6939.8 | W12: 7576.9 | X12: 8850.7 | Y12: 7576.7 | AA12: =IF(S12-SUM(U12:Z12)>0,S12-SUM(U12:Z12),0) -> 8029.9 | AE12: =IF(OR(AB12="+",AC12="+",AD12="+"),0,AA12) -> 8029.9 | AG12: =ROUND(AE12-AF12,1) -> 8029.9
A13: Чапаевск | B13: 1 | C13: 15 | D13: 17303 | E13: 18109.4 | F13: =IF(G13=0,0,IF(D13=0,1,IF(E13<0,0,IF(E13/D13>1.2,IF((E13/D13-1.2)*0.1+1.2>1.3,1.3,(E13/D13-1.2)*0.1+1.2),E13/D13)))) -> 1.0466046 | G13: 15 | H13: 382 | I13: 382 | J13: =IF(K13=0,0,IF(H13=0,1,IF(I13<0,0,IF(I13/H13>1.2,IF((I13/H13-1.2)*0.1+1.2>1.3,1.3,(I13/H13-1.2)*0.1+1.2),I13/H13)))) -> 1 | K13: 20 | L13: 5.9 | M13: 5.9 | N13: =IF(O13=0,0,IF(M13=0,1.3,IF(M13<0,0,IF(L13/M13>1.2,IF((L13/M13-1.2)*0.1+1.2>1.3,1.3,(L13/M13-1.2)*0.1+1.2),L13/M13)))) -> 1 | O13: 15 | P13: =(B13*C13+F13*G13+J13*K13+N13*O13)/(C13+G13+K13+O13) -> 1.0107549 | Q13: 133175 | R13: =ROUND(Q13/11*6,1) -> 72640.9 | S13: =ROUND(P13*R13,1) -> 73422.1 | T13: =S13-R13 -> 781.2 | U13: 12106.8 | V13: 12106.8 | W13: 12450 | X13: 12080.4 | Y13: 12185.9 | AA13: =IF(S13-SUM(U13:Z13)>0,S13-SUM(U13:Z13),0) -> 12492.2 | AE13: =IF(OR(AB13="+",AC13="+",AD13="+"),0,AA13) -> 12492.2 | AG13: =ROUND(AE13-AF13,1) -> 12492.2
A14: Отрадный | B14: 1 | C14: 15 | D14: 18068 | E14: 17477.2 | F14: =IF(G14=0,0,IF(D14=0,1,IF(E14<0,0,IF(E14/D14>1.2,IF((E14/D14-1.2)*0.1+1.2>1.3,1.3,(E14/D14-1.2)*0.1+1.2),E14/D14)))) -> 0.96730131 | G14: 15 | H14: 382 | I14: 430 | J14: =IF(K14=0,0,IF(H14=0,1,IF(I14<0,0,IF(I14/H14>1.2,IF((I14/H14-1.2)*0.1+1.2>1.3,1.3,(I14/H14-1.2)*0.1+1.2),I14/H14)))) -> 1.1256545 | K14: 20 | L14: 69.5 | M14: 33.8 | N14: =IF(O14=0,0,IF(M14=0,1.3,IF(M14<0,0,IF(L14/M14>1.2,IF((L14/M14-1.2)*0.1+1.2>1.3,1.3,(L14/M14-1.2)*0.1+1.2),L14/M14)))) -> 1.2856213 | O14: 15 | P14: =(B14*C14+F14*G14+J14*K14+N14*O14)/(C14+G14+K14+O14) -> 1.0970297 | Q14: 50328 | R14: =ROUND(Q14/11*6,1) -> 27451.6 | S14: =ROUND(P14*R14,1) -> 30115.2 | T14: =S14-R14 -> 2663.6 | U14: 4575.3 | V14: 4575.2 | W14: 5321.4 | X14: 5225.5 | Y14: 4924.3 | AA14: =IF(S14-SUM(U14:Z14)>0,S14-SUM(U14:Z14),0) -> 5493.5 | AE14: =IF(OR(AB14="+",AC14="+",AD14="+"),0,AA14) -> 5493.5 | AG14: =ROUND(AE14-AF14,1) -> 5493.5
A15: Жигулевск | B15: 1 | C15: 15 | D15: 17166 | E15: 17541 | F15: =IF(G15=0,0,IF(D15=0,1,IF(E15<0,0,IF(E15/D15>1.2,IF((E15/D15-1.2)*0.1+1.2>1.3,1.3,(E15/D15-1.2)*0.1+1.2),E15/D15)))) -> 1.0218455 | G15: 15 | H15: 382 | I15: 18 | J15: =IF(K15=0,0,IF(H15=0,1,IF(I15<0,0,IF(I15/H15>1.2,IF((I15/H15-1.2)*0.1+1.2>1.3,1.3,(I15/H15-1.2)*0.1+1.2),I15/H15)))) -> 0.047120419 | K15: 20 | L15: 219.8 | M15: 241.7 | N15: =IF(O15=0,0,IF(M15=0,1.3,IF(M15<0,0,IF(L15/M15>1.2,IF((L15/M15-1.2)*0.1+1.2>1.3,1.3,(L15/M15-1.2)*0.1+1.2),L15/M15)))) -> 0.90939181 | O15: 15 | P15: =(B15*C15+F15*G15+J15*K15+N15*O15)/(C15+G15+K15+O15) -> 0.69093797 | Q15: 104333 | R15: =ROUND(Q15/11*6,1) -> 56908.9 | S15: =ROUND(P15*R15,1) -> 39320.5 | T15: =S15-R15 -> -17588.4 | U15: 9484.8 | V15: 9484.8 | W15: 6166.5 | X15: 0 | Y15: 4554.6 | AA15: =IF(S15-SUM(U15:Z15)>0,S15-SUM(U15:Z15),0) -> 9629.8 | AE15: =IF(OR(AB15="+",AC15="+",AD15="+"),0,AA15) -> 9629.8 | AG15: =ROUND(AE15-AF15,1) -> 9629.8
A16: Октябрьск | B16: 1 | C16: 15 | D16: 6377 | E16: 6051.7 | F16: =IF(G16=0,0,IF(D16=0,1,IF(E16<0,0,IF(E16/D16>1.2,IF((E16/D16-1.2)*0.1+1.2>1.3,1.3,(E16/D16-1.2)*0.1+1.2),E16/D16)))) -> 0.94898855 | G16: 15 | H16: 255 | I16: 310 | J16: =IF(K16=0,0,IF(H16=0,1,IF(I16<0,0,IF(I16/H16>1.2,IF((I16/H16-1.2)*0.1+1.2>1.3,1.3,(I16/H16-1.2)*0.1+1.2),I16/H16)))) -> 1.2015686 | K16: 20 | L16: 98.5 | M16: 73.3 | N16: =IF(O16=0,0,IF(M16=0,1.3,IF(M16<0,0,IF(L16/M16>1.2,IF((L16/M16-1.2)*0.1+1.2>1.3,1.3,(L16/M16-1.2)*0.1+1.2),L16/M16)))) -> 1.2143793 | O16: 15 | P16: =(B16*C16+F16*G16+J16*K16+N16*O16)/(C16+G16+K16+O16) -> 1.0997214 | Q16: 76095 | R16: =ROUND(Q16/11*6,1) -> 41506.4 | S16: =ROUND(P16*R16,1) -> 45645.5 | T16: =S16-R16 -> 4139.1 | U16: 6917.7 | V16: 6917.8 | W16: 7575.3 | X16: 8583.3 | Y16: 7498.5 | AA16: =IF(S16-SUM(U16:Z16)>0,S16-SUM(U16:Z16),0) -> 8152.9 | AE16: =IF(OR(AB16="+",AC16="+",AD16="+"),0,AA16) -> 8152.9 | AG16: =ROUND(AE16-AF16,1) -> 8152.9
A17: Кинель | B17: 1 | C17: 15 | D17: 19871 | E17: 19677.2 | F17: =IF(G17=0,0,IF(D17=0,1,IF(E17<0,0,IF(E17/D17>1.2,IF((E17/D17-1.2)*0.1+1.2>1.3,1.3,(E17/D17-1.2)*0.1+1.2),E17/D17)))) -> 0.99024709 | G17: 15 | H17: 382 | I17: 490 | J17: =IF(K17=0,0,IF(H17=0,1,IF(I17<0,0,IF(I17/H17>1.2,IF((I17/H17-1.2)*0.1+1.2>1.3,1.3,(I17/H17-1.2)*0.1+1.2),I17/H17)))) -> 1.2082723 | K17: 20 | L17: 22.3 | M17: 21.6 | N17: =IF(O17=0,0,IF(M17=0,1.3,IF(M17<0,0,IF(L17/M17>1.2,IF((L17/M17-1.2)*0.1+1.2>1.3,1.3,(L17/M17-1.2)*0.1+1.2),L17/M17)))) -> 1.0324074 | O17: 15 | P17: =(B17*C17+F17*G17+J17*K17+N17*O17)/(C17+G17+K17+O17) -> 1.0693117 | Q17: 138515 | R17: =ROUND(Q17/11*6,1) -> 75553.6 | S17: =ROUND(P17*R17,1) -> 80790.4 | T17: =S17-R17 -> 5236.8 | U17: 12592.3 | V17: 12592.2 | W17: 16483.6 | X17: 15520.8 | Y17: 14297.3 | AA17: =IF(S17-SUM(U17:Z17)>0,S17-SUM(U17:Z17),0) -> 9304.2 | AE17: =IF(OR(AB17="+",AC17="+",AD17="+"),0,AA17) -> 9304.2 | AG17: =ROUND(AE17-AF17,1) -> 9304.2
A18: Похвистнево | B18: 1 | C18: 15 | D18: 8663 | E18: 8289.47 | F18: =IF(G18=0,0,IF(D18=0,1,IF(E18<0,0,IF(E18/D18>1.2,IF((E18/D18-1.2)*0.1+1.2>1.3,1.3,(E18/D18-1.2)*0.1+1.2),E18/D18)))) -> 0.95688214 | G18: 15 | H18: 255 | I18: 310 | J18: =IF(K18=0,0,IF(H18=0,1,IF(I18<0,0,IF(I18/H18>1.2,IF((I18/H18-1.2)*0.1+1.2>1.3,1.3,(I18/H18-1.2)*0.1+1.2),I18/H18)))) -> 1.2015686 | K18: 20 | L18: 15 | M18: 18.9 | N18: =IF(O18=0,0,IF(M18=0,1.3,IF(M18<0,0,IF(L18/M18>1.2,IF((L18/M18-1.2)*0.1+1.2>1.3,1.3,(L18/M18-1.2)*0.1+1.2),L18/M18)))) -> 0.79365079 | O18: 15 | P18: =(B18*C18+F18*G18+J18*K18+N18*O18)/(C18+G18+K18+O18) -> 1.0044518 | Q18: 63273 | R18: =ROUND(Q18/11*6,1) -> 34512.5 | S18: =ROUND(P18*R18,1) -> 34666.1 | T18: =S18-R18 -> 153.6 | U18: 5752.1 | V18: 5752.1 | W18: 6268.7 | X18: 7139.4 | Y18: 6228 | AA18: =IF(S18-SUM(U18:Z18)>0,S18-SUM(U18:Z18),0) -> 3525.8 | AE18: =IF(OR(AB18="+",AC18="+",AD18="+"),0,AA18) -> 3525.8 | AG18: =ROUND(AE18-AF18,1) -> 3525.8
A19: Муниципальные районы | D19: =SUM(D20:D46) -> 142513 | E19: =SUM(E20:E46) -> 147413.9 | F19: =IF(E19/D19>1.2,IF((E19/D19-1.2)*0.1+1.2>1.3,1.3,(E19/D19-1.2)*0.1+1.2),E19/D19) -> 1.0343891 | H19: =SUM(H20:H46) -> 2004 | I19: =SUM(I20:I46) -> 3463 | J19: =IF(I19/H19>1.2,IF((I19/H19-1.2)*0.1+1.2>1.3,1.3,(I19/H19-1.2)*0.1+1.2),I19/H19) -> 1.2528044 | L19: =SUM(L20:L46) -> 853.4 | M19: =SUM(M20:M46) -> 754.6 | N19: =IF(L19/M19>1.2,IF((L19/M19-1.2)*0.1+1.2>1.3,1.3,(L19/M19-1.2)*0.1+1.2),L19/M19) -> 1.1309303 | Q19: =SUM(Q20:Q46) -> 1595136 | R19: =SUM(R20:R46) -> 870074.4 | S19: =SUM(S20:S46) -> 944631.2 | T19: =SUM(T20:T46) -> 74556.8 | U19: =SUM(U20:U46) -> 142284.7 | V19: =SUM(V20:V46) -> 142285.5 | W19: =SUM(W20:W46) -> 150748.6 | X19: =SUM(X20:X46) -> 160396.7 | ... AA19: =SUM(AA20:AA46) -> 181058.8 | AE19: =SUM(AE20:AE46) -> 181058.8 | AF19: =SUM(AF20:AF46) -> 1208.7 | AG19: =SUM(AG20:AG46) -> 179850.1
A20: Алексеевский | B20: 1 | C20: 10 | D20: 1144 | E20: 1159.5 | F20: =IF(G20=0,0,IF(D20=0,1,IF(E20<0,0,IF(E20/D20>1.2,IF((E20/D20-1.2)*0.1+1.2>1.3,1.3,(E20/D20-1.2)*0.1+1.2),E20/D20)))) -> 1.013549 | G20: 10 | H20: 53 | I20: 110 | J20: =IF(K20=0,0,IF(H20=0,1,IF(I20<0,0,IF(I20/H20>1.2,IF((I20/H20-1.2)*0.1+1.2>1.3,1.3,(I20/H20-1.2)*0.1+1.2),I20/H20)))) -> 1.2875472 | K20: 15 | L20: 3.3 | M20: 1.9 | N20: =IF(O20=0,0,IF(M20=0,1.3,IF(M20<0,0,IF(L20/M20>1.2,IF((L20/M20-1.2)*0.1+1.2>1.3,1.3,(L20/M20-1.2)*0.1+1.2),L20/M20)))) -> 1.2536842 | O20: 15 | P20: =(B20*C20+F20*G20+J20*K20+N20*O20)/(C20+G20+K20+O20) -> 1.1650792 | Q20: 43567 | R20: =ROUND(Q20/11*6,1) -> 23763.8 | S20: =ROUND(P20*R20,1) -> 27686.7 | T20: =S20-R20 -> 3922.9 | U20: 3960.6 | V20: 3960.7 | W20: 4771.2 | X20: 5273.2 | Y20: 4491.5 | AA20: =IF(S20-SUM(U20:Z20)>0,S20-SUM(U20:Z20),0) -> 5229.5 | AE20: =IF(OR(AB20="+",AC20="+",AD20="+"),0,AA20) -> 5229.5 | AG20: =ROUND(AE20-AF20,1) -> 5229.5
A21: Безенчукский | B21: 1 | C21: 10 | D21: 9330 | E21: 9700.4 | F21: =IF(G21=0,0,IF(D21=0,1,IF(E21<0,0,IF(E21/D21>1.2,IF((E21/D21-1.2)*0.1+1.2>1.3,1.3,(E21/D21-1.2)*0.1+1.2),E21/D21)))) -> 1.0396999 | G21: 10 | H21: 70 | I21: 74 | J21: =IF(K21=0,0,IF(H21=0,1,IF(I21<0,0,IF(I21/H21>1.2,IF((I21/H21-1.2)*0.1+1.2>1.3,1.3,(I21/H21-1.2)*0.1+1.2),I21/H21)))) -> 1.0571429 | K21: 15 | L21: 5.4 | M21: 4.1 | N21: =IF(O21=0,0,IF(M21=0,1.3,IF(M21<0,0,IF(L21/M21>1.2,IF((L21/M21-1.2)*0.1+1.2>1.3,1.3,(L21/M21-1.2)*0.1+1.2),L21/M21)))) -> 1.2117073 | O21: 15 | P21: =(B21*C21+F21*G21+J21*K21+N21*O21)/(C21+G21+K21+O21) -> 1.088595 | Q21: 57195 | R21: =ROUND(Q21/11*6,1) -> 31197.3 | S21: =ROUND(P21*R21,1) -> 33961.2 | T21: =S21-R21 -> 2763.9 | U21: 5199.5 | V21: 5199.6 | W21: 6769.9 | X21: 5451.4 | Y21: 5655.1 | AA21: =IF(S21-SUM(U21:Z21)>0,S21-SUM(U21:Z21),0) -> 5685.7 | AE21: =IF(OR(AB21="+",AC21="+",AD21="+"),0,AA21) -> 5685.7 | AG21: =ROUND(AE21-AF21,1) -> 5685.7
A22: Богатовский | B22: 1 | C22: 10 | D22: 2863 | E22: 2766.4 | F22: =IF(G22=0,0,IF(D22=0,1,IF(E22<0,0,IF(E22/D22>1.2,IF((E22/D22-1.2)*0.1+1.2>1.3,1.3,(E22/D22-1.2)*0.1+1.2),E22/D22)))) -> 0.96625917 | G22: 10 | H22: 70 | I22: 70 | J22: =IF(K22=0,0,IF(H22=0,1,IF(I22<0,0,IF(I22/H22>1.2,IF((I22/H22-1.2)*0.1+1.2>1.3,1.3,(I22/H22-1.2)*0.1+1.2),I22/H22)))) -> 1 | K22: 15 | L22: 10.6 | M22: 3.1 | N22: =IF(O22=0,0,IF(M22=0,1.3,IF(M22<0,0,IF(L22/M22>1.2,IF((L22/M22-1.2)*0.1+1.2>1.3,1.3,(L22/M22-1.2)*0.1+1.2),L22/M22)))) -> 1.3 | O22: 15 | P22: =(B22*C22+F22*G22+J22*K22+N22*O22)/(C22+G22+K22+O22) -> 1.0832518 | Q22: 43850 | R22: =ROUND(Q22/11*6,1) -> 23918.2 | S22: =ROUND(P22*R22,1) -> 25909.4 | T22: =S22-R22 -> 1991.2 | U22: 3986.4 | V22: 3986.3 | W22: 4616.6 | X22: 3649 | Y22: 4133.3 | Z22: 295.4 | AA22: =IF(S22-SUM(U22:Z22)>0,S22-SUM(U22:Z22),0) -> 5242.4 | AE22: =IF(OR(AB22="+",AC22="+",AD22="+"),0,AA22) -> 5242.4 | AG22: =ROUND(AE22-AF22,1) -> 5242.4
A23: Большеглушицкий | B23: 1 | C23: 10 | D23: 2542 | E23: 2501.1 | F23: =IF(G23=0,0,IF(D23=0,1,IF(E23<0,0,IF(E23/D23>1.2,IF((E23/D23-1.2)*0.1+1.2>1.3,1.3,(E23/D23-1.2)*0.1+1.2),E23/D23)))) -> 0.98391031 | G23: 10 | H23: 53 | I23: 20 | J23: =IF(K23=0,0,IF(H23=0,1,IF(I23<0,0,IF(I23/H23>1.2,IF((I23/H23-1.2)*0.1+1.2>1.3,1.3,(I23/H23-1.2)*0.1+1.2),I23/H23)))) -> 0.37735849 | K23: 15 | L23: 14.5 | M23: 6.4 | N23: =IF(O23=0,0,IF(M23=0,1.3,IF(M23<0,0,IF(L23/M23>1.2,IF((L23/M23-1.2)*0.1+1.2>1.3,1.3,(L23/M23-1.2)*0.1+1.2),L23/M23)))) -> 1.3 | O23: 15 | P23: =(B23*C23+F23*G23+J23*K23+N23*O23)/(C23+G23+K23+O23) -> 0.89998961 | Q23: 48463 | R23: =ROUND(Q23/11*6,1) -> 26434.4 | S23: =ROUND(P23*R23,1) -> 23790.7 | T23: =S23-R23 -> -2643.7 | U23: 4405.7 | V23: 4405.8 | W23: 5868.8 | X23: 535 | Y23: 3924.1 | Z23: 481.3 | AA23: =IF(S23-SUM(U23:Z23)>0,S23-SUM(U23:Z23),0) -> 4170 | AE23: =IF(OR(AB23="+",AC23="+",AD23="+"),0,AA23) -> 4170 | AG23: =ROUND(AE23-AF23,1) -> 4170
A24: Большечерниговский | B24: 1 | C24: 10 | D24: 2010 | E24: 1990.3 | F24: =IF(G24=0,0,IF(D24=0,1,IF(E24<0,0,IF(E24/D24>1.2,IF((E24/D24-1.2)*0.1+1.2>1.3,1.3,(E24/D24-1.2)*0.1+1.2),E24/D24)))) -> 0.990199 | G24: 10 | H24: 53 | I24: 67 | J24: =IF(K24=0,0,IF(H24=0,1,IF(I24<0,0,IF(I24/H24>1.2,IF((I24/H24-1.2)*0.1+1.2>1.3,1.3,(I24/H24-1.2)*0.1+1.2),I24/H24)))) -> 1.2064151 | K24: 15 | L24: 4.4 | M24: 3.4 | N24: =IF(O24=0,0,IF(M24=0,1.3,IF(M24<0,0,IF(L24/M24>1.2,IF((L24/M24-1.2)*0.1+1.2>1.3,1.3,(L24/M24-1.2)*0.1+1.2),L24/M24)))) -> 1.2094118 | O24: 15 | P24: =(B24*C24+F24*G24+J24*K24+N24*O24)/(C24+G24+K24+O24) -> 1.1227879 | Q24: 63701 | R24: =ROUND(Q24/11*6,1) -> 34746 | S24: =ROUND(P24*R24,1) -> 39012.4 | T24: =S24-R24 -> 4266.4 | U24: 5791 | V24: 5791 | W24: 4235 | X24: 5881.4 | Y24: 4338.7 | Z24: 2895.6 | AA24: =IF(S24-SUM(U24:Z24)>0,S24-SUM(U24:Z24),0) -> 10079.7 | AE24: =IF(OR(AB24="+",AC24="+",AD24="+"),0,AA24) -> 10079.7 | AF24: =MIN(AE24,1208.7) -> 1208.7 | AG24: =ROUND(AE24-AF24,1) -> 8871
A25: Борский | B25: 1 | C25: 10 | D25: 3105 | E25: 3007.1 | F25: =IF(G25=0,0,IF(D25=0,1,IF(E25<0,0,IF(E25/D25>1.2,IF((E25/D25-1.2)*0.1+1.2>1.3,1.3,(E25/D25-1.2)*0.1+1.2),E25/D25)))) -> 0.96847021 | G25: 10 | H25: 70 | I25: 30 | J25: =IF(K25=0,0,IF(H25=0,1,IF(I25<0,0,IF(I25/H25>1.2,IF((I25/H25-1.2)*0.1+1.2>1.3,1.3,(I25/H25-1.2)*0.1+1.2),I25/H25)))) -> 0.42857143 | K25: 15 | L25: 7 | M25: 0 | N25: =IF(O25=0,0,IF(M25=0,1.3,IF(M25<0,0,IF(L25/M25>1.2,IF((L25/M25-1.2)*0.1+1.2>1.3,1.3,(L25/M25-1.2)*0.1+1.2),L25/M25)))) -> 1.3 | O25: 15 | P25: =(B25*C25+F25*G25+J25*K25+N25*O25)/(C25+G25+K25+O25) -> 0.91226547 | Q25: 66305 | R25: =ROUND(Q25/11*6,1) -> 36166.4 | S25: =ROUND(P25*R25,1) -> 32993.4 | T25: =S25-R25 -> -3173 | U25: 6027.7 | V25: 6027.8 | W25: 7739.8 | X25: 1780.3 | Y25: 5393.8 | AA25: =IF(S25-SUM(U25:Z25)>0,S25-SUM(U25:Z25),0) -> 6024 | AE25: =IF(OR(AB25="+",AC25="+",AD25="+"),0,AA25) -> 6024 | AG25: =ROUND(AE25-AF25,1) -> 6024
A26: Волжский | B26: 1 | C26: 10 | D26: 22496 | E26: 24076.3 | F26: =IF(G26=0,0,IF(D26=0,1,IF(E26<0,0,IF(E26/D26>1.2,IF((E26/D26-1.2)*0.1+1.2>1.3,1.3,(E26/D26-1.2)*0.1+1.2),E26/D26)))) -> 1.070248 | G26: 10 | H26: 123 | I26: 323 | J26: =IF(K26=0,0,IF(H26=0,1,IF(I26<0,0,IF(I26/H26>1.2,IF((I26/H26-1.2)*0.1+1.2>1.3,1.3,(I26/H26-1.2)*0.1+1.2),I26/H26)))) -> 1.3 | K26: 15 | L26: 103.7 | M26: 109.3 | N26: =IF(O26=0,0,IF(M26=0,1.3,IF(M26<0,0,IF(L26/M26>1.2,IF((L26/M26-1.2)*0.1+1.2>1.3,1.3,(L26/M26-1.2)*0.1+1.2),L26/M26)))) -> 0.94876487 | O26: 15 | P26: =(B26*C26+F26*G26+J26*K26+N26*O26)/(C26+G26+K26+O26) -> 1.0886791 | Q26: 84413 | R26: =ROUND(Q26/11*6,1) -> 46043.5 | S26: =ROUND(P26*R26,1) -> 50126.6 | T26: =S26-R26 -> 4083.1 | U26: 7673.9 | V26: 7673.9 | W26: 9478.2 | X26: 10316.3 | Y26: 8785.5 | AA26: =IF(S26-SUM(U26:Z26)>0,S26-SUM(U26:Z26),0) -> 6198.8 | AE26: =IF(OR(AB26="+",AC26="+",AD26="+"),0,AA26) -> 6198.8 | AG26: =ROUND(AE26-AF26,1) -> 6198.8
A27: Елховский | B27: 1 | C27: 10 | D27: 1120 | E27: 1235.3 | F27: =IF(G27=0,0,IF(D27=0,1,IF(E27<0,0,IF(E27/D27>1.2,IF((E27/D27-1.2)*0.1+1.2>1.3,1.3,(E27/D27-1.2)*0.1+1.2),E27/D27)))) -> 1.1029464 | G27: 10 | H27: 53 | I27: 83 | J27: =IF(K27=0,0,IF(H27=0,1,IF(I27<0,0,IF(I27/H27>1.2,IF((I27/H27-1.2)*0.1+1.2>1.3,1.3,(I27/H27-1.2)*0.1+1.2),I27/H27)))) -> 1.2366038 | K27: 15 | L27: 11.4 | M27: 10.4 | N27: =IF(O27=0,0,IF(M27=0,1.3,IF(M27<0,0,IF(L27/M27>1.2,IF((L27/M27-1.2)*0.1+1.2>1.3,1.3,(L27/M27-1.2)*0.1+1.2),L27/M27)))) -> 1.0961538 | O27: 15 | P27: =(B27*C27+F27*G27+J27*K27+N27*O27)/(C27+G27+K27+O27) -> 1.1204166 | Q27: 29195 | R27: =ROUND(Q27/11*6,1) -> 15924.5 | S27: =ROUND(P27*R27,1) -> 17842.1 | T27: =S27-R27 -> 1917.6 | U27: 2654.1 | V27: 2654.1 | W27: 1574.4 | X27: 3058.8 | Y27: 2590.6 | Z27: 420.8 | AA27: =IF(S27-SUM(U27:Z27)>0,S27-SUM(U27:Z27),0) -> 4889.3 | AE27: =IF(OR(AB27="+",AC27="+",AD27="+"),0,AA27) -> 4889.3 | AG27: =ROUND(AE27-AF27,1) -> 4889.3
A28: Исаклинский | B28: 1 | C28: 10 | D28: 1639 | E28: 1424.6 | F28: =IF(G28=0,0,IF(D28=0,1,IF(E28<0,0,IF(E28/D28>1.2,IF((E28/D28-1.2)*0.1+1.2>1.3,1.3,(E28/D28-1.2)*0.1+1.2),E28/D28)))) -> 0.86918853 | G28: 10 | H28: 53 | I28: 93 | J28: =IF(K28=0,0,IF(H28=0,1,IF(I28<0,0,IF(I28/H28>1.2,IF((I28/H28-1.2)*0.1+1.2>1.3,1.3,(I28/H28-1.2)*0.1+1.2),I28/H28)))) -> 1.2554717 | K28: 15 | L28: 11.7 | M28: 5.2 | N28: =IF(O28=0,0,IF(M28=0,1.3,IF(M28<0,0,IF(L28/M28>1.2,IF((L28/M28-1.2)*0.1+1.2>1.3,1.3,(L28/M28-1.2)*0.1+1.2),L28/M28)))) -> 1.3 | O28: 15 | P28: =(B28*C28+F28*G28+J28*K28+N28*O28)/(C28+G28+K28+O28) -> 1.1404792 | Q28: 56282 | R28: =ROUND(Q28/11*6,1) -> 30699.3 | S28: =ROUND(P28*R28,1) -> 35011.9 | T28: =S28-R28 -> 4312.6 | U28: 5116.5 | V28: 5116.6 | W28: 4395.5 | X28: 6733.2 | Y28: 5340.4 | AA28: =IF(S28-SUM(U28:Z28)>0,S28-SUM(U28:Z28),0) -> 8309.7 | AE28: =IF(OR(AB28="+",AC28="+",AD28="+"),0,AA28) -> 8309.7 | AG28: =ROUND(AE28-AF28,1) -> 8309.7
A29: Камышлинский | B29: 1 | C29: 10 | D29: 1184 | E29: 1170 | F29: =IF(G29=0,0,IF(D29=0,1,IF(E29<0,0,IF(E29/D29>1.2,IF((E29/D29-1.2)*0.1+1.2>1.3,1.3,(E29/D29-1.2)*0.1+1.2),E29/D29)))) -> 0.98817568 | G29: 10 | H29: 53 | I29: 90 | J29: =IF(K29=0,0,IF(H29=0,1,IF(I29<0,0,IF(I29/H29>1.2,IF((I29/H29-1.2)*0.1+1.2>1.3,1.3,(I29/H29-1.2)*0.1+1.2),I29/H29)))) -> 1.2498113 | K29: 15 | L29: 7.4 | M29: 2.7 | N29: =IF(O29=0,0,IF(M29=0,1.3,IF(M29<0,0,IF(L29/M29>1.2,IF((L29/M29-1.2)*0.1+1.2>1.3,1.3,(L29/M29-1.2)*0.1+1.2),L29/M29)))) -> 1.3 | O29: 15 | P29: =(B29*C29+F29*G29+J29*K29+N29*O29)/(C29+G29+K29+O29) -> 1.1625785 | Q29: 33333 | R29: =ROUND(Q29/11*6,1) -> 18181.6 | S29: =ROUND(P29*R29,1) -> 21137.5 | T29: =S29-R29 -> 2955.9 | U29: 3030.3 | V29: 3030.2 | W29: 4050.2 | X29: 3870.7 | Y29: 3495.3 | AA29: =IF(S29-SUM(U29:Z29)>0,S29-SUM(U29:Z29),0) -> 3660.8 | AE29: =IF(OR(AB29="+",AC29="+",AD29="+"),0,AA29) -> 3660.8 | AG29: =ROUND(AE29-AF29,1) -> 3660.8
A30: Кинельский | B30: 1 | C30: 10 | D30: 3646 | E30: 3672.9 | F30: =IF(G30=0,0,IF(D30=0,1,IF(E30<0,0,IF(E30/D30>1.2,IF((E30/D30-1.2)*0.1+1.2>1.3,1.3,(E30/D30-1.2)*0.1+1.2),E30/D30)))) -> 1.0073779 | G30: 10 | H30: 123 | I30: 434 | J30: =IF(K30=0,0,IF(H30=0,1,IF(I30<0,0,IF(I30/H30>1.2,IF((I30/H30-1.2)*0.1+1.2>1.3,1.3,(I30/H30-1.2)*0.1+1.2),I30/H30)))) -> 1.3 | K30: 15 | L30: 5.2 | M30: 18.1 | N30: =IF(O30=0,0,IF(M30=0,1.3,IF(M30<0,0,IF(L30/M30>1.2,IF((L30/M30-1.2)*0.1+1.2>1.3,1.3,(L30/M30-1.2)*0.1+1.2),L30/M30)))) -> 0.28729282 | O30: 15 | P30: =(B30*C30+F30*G30+J30*K30+N30*O30)/(C30+G30+K30+O30) -> 0.87766343 | Q30: 62985 | R30: =ROUND(Q30/11*6,1) -> 34355.5 | S30: =ROUND(P30*R30,1) -> 30152.6 | T30: =S30-R30 -> -4202.9 | U30: 5725.9 | V30: 5725.9 | W30: 1004.8 | X30: 8102 | Y30: 5139.6 | AA30: =IF(S30-SUM(U30:Z30)>0,S30-SUM(U30:Z30),0) -> 4454.4 | AE30: =IF(OR(AB30="+",AC30="+",AD30="+"),0,AA30) -> 4454.4 | AG30: =ROUND(AE30-AF30,1) -> 4454.4
A31: Кинель-Черкасский | B31: 1 | C31: 10 | D31: 6881 | E31: 7126.9 | F31: =IF(G31=0,0,IF(D31=0,1,IF(E31<0,0,IF(E31/D31>1.2,IF((E31/D31-1.2)*0.1+1.2>1.3,1.3,(E31/D31-1.2)*0.1+1.2),E31/D31)))) -> 1.0357361 | G31: 10 | H31: 176 | I31: 210 | J31: =IF(K31=0,0,IF(H31=0,1,IF(I31<0,0,IF(I31/H31>1.2,IF((I31/H31-1.2)*0.1+1.2>1.3,1.3,(I31/H31-1.2)*0.1+1.2),I31/H31)))) -> 1.1931818 | K31: 15 | L31: 3.7 | M31: 3.6 | N31: =IF(O31=0,0,IF(M31=0,1.3,IF(M31<0,0,IF(L31/M31>1.2,IF((L31/M31-1.2)*0.1+1.2>1.3,1.3,(L31/M31-1.2)*0.1+1.2),L31/M31)))) -> 1.0277778 | O31: 15 | P31: =(B31*C31+F31*G31+J31*K31+N31*O31)/(C31+G31+K31+O31) -> 1.0734351 | Q31: 78468 | R31: =ROUND(Q31/11*6,1) -> 42800.7 | S31: =ROUND(P31*R31,1) -> 45943.8 | T31: =S31-R31 -> 3143.1 | U31: 7133.5 | V31: 7133.4 | W31: 7199.3 | X31: 8782.7 | Y31: 7562.2 | AA31: =IF(S31-SUM(U31:Z31)>0,S31-SUM(U31:Z31),0) -> 8132.7 | AE31: =IF(OR(AB31="+",AC31="+",AD31="+"),0,AA31) -> 8132.7 | AG31: =ROUND(AE31-AF31,1) -> 8132.7
A32: Клявлинский | B32: 1 | C32: 10 | D32: 1787 | E32: 1802.7 | F32: =IF(G32=0,0,IF(D32=0,1,IF(E32<0,0,IF(E32/D32>1.2,IF((E32/D32-1.2)*0.1+1.2>1.3,1.3,(E32/D32-1.2)*0.1+1.2),E32/D32)))) -> 1.0087857 | G32: 10 | H32: 53 | I32: 91 | J32: =IF(K32=0,0,IF(H32=0,1,IF(I32<0,0,IF(I32/H32>1.2,IF((I32/H32-1.2)*0.1+1.2>1.3,1.3,(I32/H32-1.2)*0.1+1.2),I32/H32)))) -> 1.2516981 | K32: 15 | L32: 7 | M32: 0 | N32: =IF(O32=0,0,IF(M32=0,1.3,IF(M32<0,0,IF(L32/M32>1.2,IF((L32/M32-1.2)*0.1+1.2>1.3,1.3,(L32/M32-1.2)*0.1+1.2),L32/M32)))) -> 1.3 | O32: 15 | P32: =(B32*C32+F32*G32+J32*K32+N32*O32)/(C32+G32+K32+O32) -> 1.1672666 | Q32: 34336 | R32: =ROUND(Q32/11*6,1) -> 18728.7 | S32: =ROUND(P32*R32,1) -> 21861.4 | T32: =S32-R32 -> 3132.7 | U32: 3121.5 | V32: 3121.4 | W32: 4468.1 | X32: 3974.4 | Y32: 3671.4 | AA32: =IF(S32-SUM(U32:Z32)>0,S32-SUM(U32:Z32),0) -> 3504.6 | AE32: =IF(OR(AB32="+",AC32="+",AD32="+"),0,AA32) -> 3504.6 | AG32: =ROUND(AE32-AF32,1) -> 3504.6
A33: Кошкинский | B33: 1 | C33: 10 | D33: 6156 | E33: 5937.9 | F33: =IF(G33=0,0,IF(D33=0,1,IF(E33<0,0,IF(E33/D33>1.2,IF((E33/D33-1.2)*0.1+1.2>1.3,1.3,(E33/D33-1.2)*0.1+1.2),E33/D33)))) -> 0.96457115 | G33: 10 | H33: 70 | I33: 74 | J33: =IF(K33=0,0,IF(H33=0,1,IF(I33<0,0,IF(I33/H33>1.2,IF((I33/H33-1.2)*0.1+1.2>1.3,1.3,(I33/H33-1.2)*0.1+1.2),I33/H33)))) -> 1.0571429 | K33: 15 | L33: 7 | M33: 0 | N33: =IF(O33=0,0,IF(M33=0,1.3,IF(M33<0,0,IF(L33/M33>1.2,IF((L33/M33-1.2)*0.1+1.2>1.3,1.3,(L33/M33-1.2)*0.1+1.2),L33/M33)))) -> 1.3 | O33: 15 | P33: =(B33*C33+F33*G33+J33*K33+N33*O33)/(C33+G33+K33+O33) -> 1.1000571 | Q33: 57144 | R33: =ROUND(Q33/11*6,1) -> 31169.5 | S33: =ROUND(P33*R33,1) -> 34288.2 | T33: =S33-R33 -> 3118.7 | U33: 5194.9 | V33: 5194.9 | W33: 6873.5 | X33: 5439.2 | Y33: 5675.6 | AA33: =IF(S33-SUM(U33:Z33)>0,S33-SUM(U33:Z33),0) -> 5910.1 | AE33: =IF(OR(AB33="+",AC33="+",AD33="+"),0,AA33) -> 5910.1 | AG33: =ROUND(AE33-AF33,1) -> 5910.1
A34: Красноармейский | B34: 1 | C34: 10 | D34: 2231 | E34: 2414.7 | F34: =IF(G34=0,0,IF(D34=0,1,IF(E34<0,0,IF(E34/D34>1.2,IF((E34/D34-1.2)*0.1+1.2>1.3,1.3,(E34/D34-1.2)*0.1+1.2),E34/D34)))) -> 1.0823398 | G34: 10 | H34: 70 | I34: 90 | J34: =IF(K34=0,0,IF(H34=0,1,IF(I34<0,0,IF(I34/H34>1.2,IF((I34/H34-1.2)*0.1+1.2>1.3,1.3,(I34/H34-1.2)*0.1+1.2),I34/H34)))) -> 1.2085714 | K34: 15 | L34: 78.8 | M34: 83.4 | N34: =IF(O34=0,0,IF(M34=0,1.3,IF(M34<0,0,IF(L34/M34>1.2,IF((L34/M34-1.2)*0.1+1.2>1.3,1.3,(L34/M34-1.2)*0.1+1.2),L34/M34)))) -> 0.94484412 | O34: 15 | P34: =(B34*C34+F34*G34+J34*K34+N34*O34)/(C34+G34+K34+O34) -> 1.0624926 | Q34: 61969 | R34: =ROUND(Q34/11*6,1) -> 33801.3 | S34: =ROUND(P34*R34,1) -> 35913.6 | T34: =S34-R34 -> 2112.3 | U34: 5633.5 | V34: 5633.6 | W34: 5873.1 | X34: 7027.7 | Y34: 6041.9 | AA34: =IF(S34-SUM(U34:Z34)>0,S34-SUM(U34:Z34),0) -> 5703.8 | AE34: =IF(OR(AB34="+",AC34="+",AD34="+"),0,AA34) -> 5703.8 | AG34: =ROUND(AE34-AF34,1) -> 5703.8
A35: Красноярский | B35: 1 | C35: 10 | D35: 15545 | E35: 15976.8 | F35: =IF(G35=0,0,IF(D35=0,1,IF(E35<0,0,IF(E35/D35>1.2,IF((E35/D35-1.2)*0.1+1.2>1.3,1.3,(E35/D35-1.2)*0.1+1.2),E35/D35)))) -> 1.0277774 | G35: 10 | H35: 123 | I35: 119 | J35: =IF(K35=0,0,IF(H35=0,1,IF(I35<0,0,IF(I35/H35>1.2,IF((I35/H35-1.2)*0.1+1.2>1.3,1.3,(I35/H35-1.2)*0.1+1.2),I35/H35)))) -> 0.96747967 | K35: 15 | L35: 55.5 | M35: 37.9 | N35: =IF(O35=0,0,IF(M35=0,1.3,IF(M35<0,0,IF(L35/M35>1.2,IF((L35/M35-1.2)*0.1+1.2>1.3,1.3,(L35/M35-1.2)*0.1+1.2),L35/M35)))) -> 1.226438 | O35: 15 | P35: =(B35*C35+F35*G35+J35*K35+N35*O35)/(C35+G35+K35+O35) -> 1.0637308 | Q35: 79649 | R35: =ROUND(Q35/11*6,1) -> 43444.9 | S35: =ROUND(P35*R35,1) -> 46213.7 | T35: =S35-R35 -> 2768.8 | U35: 7240.8 | V35: 7240.8 | W35: 8867.5 | X35: 6849.8 | Y35: 7549.7 | AA35: =IF(S35-SUM(U35:Z35)>0,S35-SUM(U35:Z35),0) -> 8465.1 | AE35: =IF(OR(AB35="+",AC35="+",AD35="+"),0,AA35) -> 8465.1 | AG35: =ROUND(AE35-AF35,1) -> 8465.1
A36: Нефтегорский | B36: 1 | C36: 10 | D36: 7871 | E36: 7751.8 | F36: =IF(G36=0,0,IF(D36=0,1,IF(E36<0,0,IF(E36/D36>1.2,IF((E36/D36-1.2)*0.1+1.2>1.3,1.3,(E36/D36-1.2)*0.1+1.2),E36/D36)))) -> 0.9848558 | G36: 10 | H36: 70 | I36: 63 | J36: =IF(K36=0,0,IF(H36=0,1,IF(I36<0,0,IF(I36/H36>1.2,IF((I36/H36-1.2)*0.1+1.2>1.3,1.3,(I36/H36-1.2)*0.1+1.2),I36/H36)))) -> 0.9 | K36: 15 | L36: 111.3 | M36: 147.6 | N36: =IF(O36=0,0,IF(M36=0,1.3,IF(M36<0,0,IF(L36/M36>1.2,IF((L36/M36-1.2)*0.1+1.2>1.3,1.3,(L36/M36-1.2)*0.1+1.2),L36/M36)))) -> 0.75406504 | O36: 15 | P36: =(B36*C36+F36*G36+J36*K36+N36*O36)/(C36+G36+K36+O36) -> 0.89319067 | Q36: 57825 | R36: =ROUND(Q36/11*6,1) -> 31540.9 | S36: =ROUND(P36*R36,1) -> 28172 | T36: =S36-R36 -> -3368.9 | U36: 5256.8 | V36: 5256.8 | W36: 3459.2 | X36: 4745.9 | Y36: 4679.6 | AA36: =IF(S36-SUM(U36:Z36)>0,S36-SUM(U36:Z36),0) -> 4773.7 | AE36: =IF(OR(AB36="+",AC36="+",AD36="+"),0,AA36) -> 4773.7 | AG36: =ROUND(AE36-AF36,1) -> 4773.7
A37: Пестравский | B37: 1 | C37: 10 | D37: 1924 | E37: 1934.9 | F37: =IF(G37=0,0,IF(D37=0,1,IF(E37<0,0,IF(E37/D37>1.2,IF((E37/D37-1.2)*0.1+1.2>1.3,1.3,(E37/D37-1.2)*0.1+1.2),E37/D37)))) -> 1.0056653 | G37: 10 | H37: 53 | I37: 70 | J37: =IF(K37=0,0,IF(H37=0,1,IF(I37<0,0,IF(I37/H37>1.2,IF((I37/H37-1.2)*0.1+1.2>1.3,1.3,(I37/H37-1.2)*0.1+1.2),I37/H37)))) -> 1.2120755 | K37: 15 | L37: 9.8 | M37: 8.1 | N37: =IF(O37=0,0,IF(M37=0,1.3,IF(M37<0,0,IF(L37/M37>1.2,IF((L37/M37-1.2)*0.1+1.2>1.3,1.3,(L37/M37-1.2)*0.1+1.2),L37/M37)))) -> 1.2009877 | O37: 15 | P37: =(B37*C37+F37*G37+J37*K37+N37*O37)/(C37+G37+K37+O37) -> 1.125052 | Q37: 42512 | R37: =ROUND(Q37/11*6,1) -> 23188.4 | S37: =ROUND(P37*R37,1) -> 26088.2 | T37: =S37-R37 -> 2899.8 | U37: 3864.7 | V37: 3864.8 | W37: 4819.7 | X37: 4784.6 | Y37: 4333.4 | AA37: =IF(S37-SUM(U37:Z37)>0,S37-SUM(U37:Z37),0) -> 4421 | AE37: =IF(OR(AB37="+",AC37="+",AD37="+"),0,AA37) -> 4421 | AG37: =ROUND(AE37-AF37,1) -> 4421
A38: Похвистневский | B38: 1 | C38: 10 | D38: 2602 | E38: 2564.9 | F38: =IF(G38=0,0,IF(D38=0,1,IF(E38<0,0,IF(E38/D38>1.2,IF((E38/D38-1.2)*0.1+1.2>1.3,1.3,(E38/D38-1.2)*0.1+1.2),E38/D38)))) -> 0.98574174 | G38: 10 | H38: 70 | I38: 120 | J38: =IF(K38=0,0,IF(H38=0,1,IF(I38<0,0,IF(I38/H38>1.2,IF((I38/H38-1.2)*0.1+1.2>1.3,1.3,(I38/H38-1.2)*0.1+1.2),I38/H38)))) -> 1.2514286 | K38: 15 | L38: 11.5 | M38: 4 | N38: =IF(O38=0,0,IF(M38=0,1.3,IF(M38<0,0,IF(L38/M38>1.2,IF((L38/M38-1.2)*0.1+1.2>1.3,1.3,(L38/M38-1.2)*0.1+1.2),L38/M38)))) -> 1.3 | O38: 15 | P38: =(B38*C38+F38*G38+J38*K38+N38*O38)/(C38+G38+K38+O38) -> 1.1625769 | Q38: 89580 | R38: =ROUND(Q38/11*6,1) -> 48861.8 | S38: =ROUND(P38*R38,1) -> 56805.6 | T38: =S38-R38 -> 7943.8 | U38: 8143.6 | V38: 8143.7 | W38: 7034.3 | X38: 10674.6 | Y38: 8499.1 | AA38: =IF(S38-SUM(U38:Z38)>0,S38-SUM(U38:Z38),0) -> 14310.3 | AE38: =IF(OR(AB38="+",AC38="+",AD38="+"),0,AA38) -> 14310.3 | AG38: =ROUND(AE38-AF38,1) -> 14310.3
A39: Приволжский | B39: 1 | C39: 10 | D39: 3064 | E39: 2920.2 | F39: =IF(G39=0,0,IF(D39=0,1,IF(E39<0,0,IF(E39/D39>1.2,IF((E39/D39-1.2)*0.1+1.2>1.3,1.3,(E39/D39-1.2)*0.1+1.2),E39/D39)))) -> 0.95306789 | G39: 10 | H39: 53 | I39: 70 | J39: =IF(K39=0,0,IF(H39=0,1,IF(I39<0,0,IF(I39/H39>1.2,IF((I39/H39-1.2)*0.1+1.2>1.3,1.3,(I39/H39-1.2)*0.1+1.2),I39/H39)))) -> 1.2120755 | K39: 15 | L39: 49.6 | M39: 43.2 | N39: =IF(O39=0,0,IF(M39=0,1.3,IF(M39<0,0,IF(L39/M39>1.2,IF((L39/M39-1.2)*0.1+1.2>1.3,1.3,(L39/M39-1.2)*0.1+1.2),L39/M39)))) -> 1.1481481 | O39: 15 | P39: =(B39*C39+F39*G39+J39*K39+N39*O39)/(C39+G39+K39+O39) -> 1.0986807 | Q39: 62081 | R39: =ROUND(Q39/11*6,1) -> 33862.4 | S39: =ROUND(P39*R39,1) -> 37204 | T39: =S39-R39 -> 3341.6 | U39: 5643.7 | V39: 5643.8 | W39: 5213.7 | X39: 7108.6 | Y39: 5902.5 | AA39: =IF(S39-SUM(U39:Z39)>0,S39-SUM(U39:Z39),0) -> 7691.7 | AE39: =IF(OR(AB39="+",AC39="+",AD39="+"),0,AA39) -> 7691.7 | AG39: =ROUND(AE39-AF39,1) -> 7691.7
A40: Сергиевский | B40: 1 | C40: 10 | D40: 8403 | E40: 8704.4 | F40: =IF(G40=0,0,IF(D40=0,1,IF(E40<0,0,IF(E40/D40>1.2,IF((E40/D40-1.2)*0.1+1.2>1.3,1.3,(E40/D40-1.2)*0.1+1.2),E40/D40)))) -> 1.0358681 | G40: 10 | H40: 70 | I40: 210 | J40: =IF(K40=0,0,IF(H40=0,1,IF(I40<0,0,IF(I40/H40>1.2,IF((I40/H40-1.2)*0.1+1.2>1.3,1.3,(I40/H40-1.2)*0.1+1.2),I40/H40)))) -> 1.3 | K40: 15 | L40: 42.4 | M40: 34.4 | N40: =IF(O40=0,0,IF(M40=0,1.3,IF(M40<0,0,IF(L40/M40>1.2,IF((L40/M40-1.2)*0.1+1.2>1.3,1.3,(L40/M40-1.2)*0.1+1.2),L40/M40)))) -> 1.2032558 | O40: 15 | P40: =(B40*C40+F40*G40+J40*K40+N40*O40)/(C40+G40+K40+O40) -> 1.1581504 | Q40: 87603 | R40: =ROUND(Q40/11*6,1) -> 47783.5 | S40: =ROUND(P40*R40,1) -> 55340.5 | T40: =S40-R40 -> 7557 | U40: 5236.6 | V40: 5236.7 | W40: 3791.4 | X40: 5908.9 | Y40: 19002.6 | Z40: 1662.9 | AA40: =IF(S40-SUM(U40:Z40)>0,S40-SUM(U40:Z40),0) -> 14501.4 | AE40: =IF(OR(AB40="+",AC40="+",AD40="+"),0,AA40) -> 14501.4 | AG40: =ROUND(AE40-AF40,1) -> 14501.4
A41: Ставропольский | B41: 1 | C41: 10 | D41: 20539 | E41: 22438.9 | F41: =IF(G41=0,0,IF(D41=0,1,IF(E41<0,0,IF(E41/D41>1.2,IF((E41/D41-1.2)*0.1+1.2>1.3,1.3,(E41/D41-1.2)*0.1+1.2),E41/D41)))) -> 1.0925021 | G41: 10 | H41: 123 | I41: 143 | J41: =IF(K41=0,0,IF(H41=0,1,IF(I41<0,0,IF(I41/H41>1.2,IF((I41/H41-1.2)*0.1+1.2>1.3,1.3,(I41/H41-1.2)*0.1+1.2),I41/H41)))) -> 1.1626016 | K41: 15 | L41: 190.4 | M41: 167.9 | N41: =IF(O41=0,0,IF(M41=0,1.3,IF(M41<0,0,IF(L41/M41>1.2,IF((L41/M41-1.2)*0.1+1.2>1.3,1.3,(L41/M41-1.2)*0.1+1.2),L41/M41)))) -> 1.1340083 | O41: 15 | P41: =(B41*C41+F41*G41+J41*K41+N41*O41)/(C41+G41+K41+O41) -> 1.1074834 | Q41: 79173 | R41: =ROUND(Q41/11*6,1) -> 43185.3 | S41: =ROUND(P41*R41,1) -> 47827 | T41: =S41-R41 -> 4641.7 | U41: 7197.5 | V41: 7197.6 | W41: 7621.5 | X41: 8573.8 | Y41: 7647.5 | AA41: =IF(S41-SUM(U41:Z41)>0,S41-SUM(U41:Z41),0) -> 9589.1 | AE41: =IF(OR(AB41="+",AC41="+",AD41="+"),0,AA41) -> 9589.1 | AG41: =ROUND(AE41-AF41,1) -> 9589.1
...

Sheet Плюсы и минусы
A1: Факторный анализ влияния отдельных показателей на итоговое распределение дотаций за 6 месяцев 2020 года
O2: тыс. рублей
A3: Наименование муниципального образования | B3: +/- по итогам отчётного периода | C3: Отсутствие просроченной кредиторской задолженности бюджета городского округа, консолидированного бюджета городского округа с внутригородским делением, консолидированного бюджета муниципального района по состоянию на конец отчетного периода | F3: Объем алкогольной продукции, зафиксированный в единой государственной автоматизированной информационной системе | I3: Эффективность муниципального земельного контроля | L3: Уровень задолженности предприятий жилищно-коммунального хозяйства за ранее потребленные топливно-энергетические ресурсы | O3: Общая сумма весов влияния
C4: Отклонение от прогноза | D4: Вес влияния на результат | E4: + / - (5)=(2)*(3)/(15) | F4: Отклонение от прогноза | G4: Вес влияния на результат | H4: + / - (8)=(2)*(6)/(15) | I4: Отклонение от прогноза | J4: Вес влияния на результат | K4: + / - (11)=(2)*(9)/(15) | L4: Отклонение от прогноза | M4: Вес влияния на результат | N4: + / - (14)=(2)*(12)/(15)
A5: 1 | B5: 2 | C5: 3 | D5: 4 | E5: 5 | F5: 6 | G5: 7 | H5: 8 | I5: 9 | J5: 10 | K5: 11 | L5: 12 | M5: 13 | N5: 14 | O5: 15
A6: Городские округа | B6: =SUM(B7:B16) -> 16886.9 | E6: =SUM(E7:E16) -> 0 | H6: =SUM(H7:H16) -> -5034.7096 | K6: =SUM(K7:K16) -> -29829.483 | N6: =SUM(N7:N16) -> 51751.093
A7: Самара | B7: ='Расчет дотаций'!T9 -> 37053 | C7: ='Расчет дотаций'!B9-1 -> 0 | D7: =C7*'Расчет дотаций'!C9 -> 0 | E7: =$B7*D7/$O7 -> 0 | F7: ='Расчет дотаций'!F9-1 -> -0.033125678 | G7: =F7*'Расчет дотаций'!G9 -> -0.49688518 | H7: =$B7*G7/$O7 -> -2698.3824 | I7: ='Расчет дотаций'!J9-1 -> 0.21134328 | J7: =I7*'Расчет дотаций'!K9 -> 4.2268657 | K7: =$B7*J7/$O7 -> 22954.397 | L7: ='Расчет дотаций'!N9-1 -> 0.20620188 | M7: =L7*'Расчет дотаций'!O9 -> 3.0930282 | N7: =$B7*M7/$O7 -> 16796.985 | O7: =D7+G7+J7+M7 -> 6.8230087
A8: Тольятти | B8: ='Расчет дотаций'!T10 -> -34835.6 | C8: ='Расчет дотаций'!B10-1 -> 0 | D8: =C8*'Расчет дотаций'!C10 -> 0 | E8: =$B8*D8/$O8 -> 0 | F8: ='Расчет дотаций'!F10-1 -> -0.011754918 | G8: =F8*'Расчет дотаций'!G10 -> -0.17632377 | H8: =$B8*G8/$O8 -> -1169.6564 | I8: ='Расчет дотаций'!J10-1 -> -0.44240838 | J8: =I8*'Расчет дотаций'!K10 -> -8.8481675 | K8: =$B8*J8/$O8 -> -58694.955 | L8: ='Расчет дотаций'!N10-1 -> 0.25153881 | M8: =L8*'Расчет дотаций'!O10 -> 3.7730822 | N8: =$B8*M8/$O8 -> 25029.012 | O8: =D8+G8+J8+M8 -> -5.2514091
A9: Сызрань | B9: ='Расчет дотаций'!T11 -> 15008.3 | C9: ='Расчет дотаций'!B11-1 -> 0 | D9: =C9*'Расчет дотаций'!C11 -> 0 | E9: =$B9*D9/$O9 -> 0 | F9: ='Расчет дотаций'!F11-1 -> -0.035845431 | G9: =F9*'Расчет дотаций'!G11 -> -0.53768146 | H9: =$B9*G9/$O9 -> -810.02075 | I9: ='Расчет дотаций'!J11-1 -> 0.3 | J9: =I9*'Расчет дотаций'!K11 -> 6 | K9: =$B9*J9/$O9 -> 9039.0404 | L9: ='Расчет дотаций'!N11-1 -> 0.3 | M9: =L9*'Расчет дотаций'!O11 -> 4.5 | N9: =$B9*M9/$O9 -> 6779.2803 | O9: =D9+G9+J9+M9 -> 9.9623185
A10: Новокуйбышевск | B10: ='Расчет дотаций'!T12 -> 4275.3 | C10: ='Расчет дотаций'!B12-1 -> 0 | D10: =C10*'Расчет дотаций'!C12 -> 0 | E10: =$B10*D10/$O10 -> 0 | F10: ='Расчет дотаций'!F12-1 -> -0.02244026 | G10: =F10*'Расчет дотаций'!G12 -> -0.33660389 | H10: =$B10*G10/$O10 -> -215.62677 | I10: ='Расчет дотаций'!J12-1 -> 0.22947644 | J10: =I10*'Расчет дотаций'!K12 -> 4.5895288 | K10: =$B10*J10/$O10 -> 2940.0292 | L10: ='Расчет дотаций'!N12-1 -> 0.16140178 | M10: =L10*'Расчет дотаций'!O12 -> 2.4210267 | N10: =$B10*M10/$O10 -> 1550.8976 | O10: =D10+G10+J10+M10 -> 6.6739516
A11: Чапаевск | B11: ='Расчет дотаций'!T13 -> 781.2 | C11: ='Расчет дотаций'!B13-1 -> 0 | D11: =C11*'Расчет дотаций'!C13 -> 0 | E11: =$B11*D11/$O11 -> 0 | F11: ='Расчет дотаций'!F13-1 -> 0.046604635 | G11: =F11*'Расчет дотаций'!G13 -> 0.69906953 | H11: =$B11*G11/$O11 -> 781.2 | I11: ='Расчет дотаций'!J13-1 -> 0 | J11: =I11*'Расчет дотаций'!K13 -> 0 | K11: =$B11*J11/$O11 -> 0 | L11: ='Расчет дотаций'!N13-1 -> 0 | M11: =L11*'Расчет дотаций'!O13 -> 0 | N11: =$B11*M11/$O11 -> 0 | O11: =D11+G11+J11+M11 -> 0.69906953
A12: Отрадный | B12: ='Расчет дотаций'!T14 -> 2663.6 | C12: ='Расчет дотаций'!B14-1 -> 0 | D12: =C12*'Расчет дотаций'!C14 -> 0 | E12: =$B12*D12/$O12 -> 0 | F12: ='Расчет дотаций'!F14-1 -> -0.032698694 | G12: =F12*'Расчет дотаций'!G14 -> -0.49048041 | H12: =$B12*G12/$O12 -> -207.14421 | I12: ='Расчет дотаций'!J14-1 -> 0.12565445 | J12: =I12*'Расчет дотаций'!K14 -> 2.513089 | K12: =$B12*J12/$O12 -> 1061.3509 | L12: ='Расчет дотаций'!N14-1 -> 0.2856213 | M12: =L12*'Расчет дотаций'!O14 -> 4.2843195 | N12: =$B12*M12/$O12 -> 1809.3933 | O12: =D12+G12+J12+M12 -> 6.3069281
A13: Жигулевск | B13: ='Расчет дотаций'!T15 -> -17588.4 | C13: ='Расчет дотаций'!B15-1 -> 0 | D13: =C13*'Расчет дотаций'!C15 -> 0 | E13: =$B13*D13/$O13 -> 0 | F13: ='Расчет дотаций'!F15-1 -> 0.021845509 | G13: =F13*'Расчет дотаций'!G15 -> 0.32768263 | H13: =$B13*G13/$O13 -> 286.89352 | I13: ='Расчет дотаций'!J15-1 -> -0.95287958 | J13: =I13*'Расчет дотаций'!K15 -> -19.057592 | K13: =$B13*J13/$O13 -> -16685.351 | L13: ='Расчет дотаций'!N15-1 -> -0.090608192 | M13: =L13*'Расчет дотаций'!O15 -> -1.3591229 | N13: =$B13*M13/$O13 -> -1189.9427 | O13: =D13+G13+J13+M13 -> -20.089032
A14: Октябрьск | B14: ='Расчет дотаций'!T16 -> 4139.1 | C14: ='Расчет дотаций'!B16-1 -> 0 | D14: =C14*'Расчет дотаций'!C16 -> 0 | E14: =$B14*D14/$O14 -> 0 | F14: ='Расчет дотаций'!F16-1 -> -0.051011447 | G14: =F14*'Расчет дотаций'!G16 -> -0.76517171 | H14: =$B14*G14/$O14 -> -488.61093 | I14: ='Расчет дотаций'!J16-1 -> 0.20156863 | J14: =I14*'Расчет дотаций'!K16 -> 4.0313725 | K14: =$B14*J14/$O14 -> 2574.2885 | L14: ='Расчет дотаций'!N16-1 -> 0.21437926 | M14: =L14*'Расчет дотаций'!O16 -> 3.2156889 | N14: =$B14*M14/$O14 -> 2053.4225 | O14: =D14+G14+J14+M14 -> 6.4818898
A15: Кинель | B15: ='Расчет дотаций'!T17 -> 5236.8 | C15: ='Расчет дотаций'!B17-1 -> 0 | D15: =C15*'Расчет дотаций'!C17 -> 0 | E15: =$B15*D15/$O15 -> 0 | F15: ='Расчет дотаций'!F17-1 -> -0.0097529062 | G15: =F15*'Расчет дотаций'!G17 -> -0.14629359 | H15: =$B15*G15/$O15 -> -170.04787 | I15: ='Расчет дотаций'!J17-1 -> 0.20827225 | J15: =I15*'Расчет дотаций'!K17 -> 4.165445 | K15: =$B15*J15/$O15 -> 4841.805 | L15: ='Расчет дотаций'!N17-1 -> 0.032407407 | M15: =L15*'Расчет дотаций'!O17 -> 0.48611111 | N15: =$B15*M15/$O15 -> 565.04291 | O15: =D15+G15+J15+M15 -> 4.5052625
A16: Похвистнево | B16: ='Расчет дотаций'!T18 -> 153.6 | C16: ='Расчет дотаций'!B18-1 -> 0 | D16: =C16*'Расчет дотаций'!C18 -> 0 | E16: =$B16*D16/$O16 -> 0 | F16: ='Расчет дотаций'!F18-1 -> -0.043117858 | G16: =F16*'Расчет дотаций'!G18 -> -0.64676786 | H16: =$B16*G16/$O16 -> -343.3138 | I16: ='Расчет дотаций'!J18-1 -> 0.20156863 | J16: =I16*'Расчет дотаций'!K18 -> 4.0313725 | K16: =$B16*J16/$O16 -> 2139.9113 | L16: ='Расчет дотаций'!N18-1 -> -0.20634921 | M16: =L16*'Расчет дотаций'!O18 -> -3.0952381 | N16: =$B16*M16/$O16 -> -1642.9975 | O16: =D16+G16+J16+M16 -> 0.28936659
A17: Муниципальные районы | B17: =SUM(B18:B44) -> 74556.8 | E17: =SUM(E18:E44) -> 0 | H17: =SUM(H18:H44) -> 2576.9929 | K17: =SUM(K18:K44) -> 35418.294 | N17: =SUM(N18:N44) -> 36561.513
A18: Алексеевский | B18: ='Расчет дотаций'!T20 -> 3922.9 | C18: ='Расчет дотаций'!B20-1 -> 0 | D18: =C18*'Расчет дотаций'!C20 -> 0 | E18: =$B18*D18/$O18 -> 0 | F18: ='Расчет дотаций'!F20-1 -> 0.013548951 | G18: =F18*'Расчет дотаций'!G20 -> 0.13548951 | H18: =$B18*G18/$O18 -> 64.394762 | I18: ='Расчет дотаций'!J20-1 -> 0.28754717 | J18: =I18*'Расчет дотаций'!K20 -> 4.3132075 | K18: =$B18*J18/$O18 -> 2049.9592 | L18: ='Расчет дотаций'!N20-1 -> 0.25368421 | M18: =L18*'Расчет дотаций'!O20 -> 3.8052632 | N18: =$B18*M18/$O18 -> 1808.546 | O18: =D18+G18+J18+M18 -> 8.2539602
A19: Безенчукский | B19: ='Расчет дотаций'!T21 -> 2763.9 | C19: ='Расчет дотаций'!B21-1 -> 0 | D19: =C19*'Расчет дотаций'!C21 -> 0 | E19: =$B19*D19/$O19 -> 0 | F19: ='Расчет дотаций'!F21-1 -> 0.039699893 | G19: =F19*'Расчет дотаций'!G21 -> 0.39699893 | H19: =$B19*G19/$O19 -> 247.70359 | I19: ='Расчет дотаций'!J21-1 -> 0.057142857 | J19: =I19*'Расчет дотаций'!K21 -> 0.85714286 | K19: =$B19*J19/$O19 -> 534.80587 | L19: ='Расчет дотаций'!N21-1 -> 0.21170732 | M19: =L19*'Расчет дотаций'!O21 -> 3.1756098 | N19: =$B19*M19/$O19 -> 1981.3905 | O19: =D19+G19+J19+M19 -> 4.4297515
A20: Богатовский | B20: ='Расчет дотаций'!T22 -> 1991.2 | C20: ='Расчет дотаций'!B22-1 -> 0 | D20: =C20*'Расчет дотаций'!C22 -> 0 | E20: =$B20*D20/$O20 -> 0 | F20: ='Расчет дотаций'!F22-1 -> -0.033740831 | G20: =F20*'Расчет дотаций'!G22 -> -0.33740831 | H20: =$B20*G20/$O20 -> -161.40123 | I20: ='Расчет дотаций'!J22-1 -> 0 | J20: =I20*'Расчет дотаций'!K22 -> 0 | K20: =$B20*J20/$O20 -> 0 | L20: ='Расчет дотаций'!N22-1 -> 0.3 | M20: =L20*'Расчет дотаций'!O22 -> 4.5 | N20: =$B20*M20/$O20 -> 2152.6012 | O20: =D20+G20+J20+M20 -> 4.1625917
A21: Большеглушицкий | B21: ='Расчет дотаций'!T23 -> -2643.7 | C21: ='Расчет дотаций'!B23-1 -> 0 | D21: =C21*'Расчет дотаций'!C23 -> 0 | E21: =$B21*D21/$O21 -> 0 | F21: ='Расчет дотаций'!F23-1 -> -0.016089693 | G21: =F21*'Расчет дотаций'!G23 -> -0.16089693 | H21: =$B21*G21/$O21 -> -85.063804 | I21: ='Расчет дотаций'!J23-1 -> -0.62264151 | J21: =I21*'Расчет дотаций'!K23 -> -9.3396226 | K21: =$B21*J21/$O21 -> -4937.719 | L21: ='Расчет дотаций'!N23-1 -> 0.3 | M21: =L21*'Расчет дотаций'!O23 -> 4.5 | N21: =$B21*M21/$O21 -> 2379.0828 | O21: =D21+G21+J21+M21 -> -5.0005196
A22: Большечерниговский | B22: ='Расчет дотаций'!T24 -> 4266.4 | C22: ='Расчет дотаций'!B24-1 -> 0 | D22: =C22*'Расчет дотаций'!C24 -> 0 | E22: =$B22*D22/$O22 -> 0 | F22: ='Расчет дотаций'!F24-1 -> -0.009800995 | G22: =F22*'Расчет дотаций'!G24 -> -0.09800995 | H22: =$B22*G22/$O22 -> -68.109283 | I22: ='Расчет дотаций'!J24-1 -> 0.20641509 | J22: =I22*'Расчет дотаций'!K24 -> 3.0962264 | K22: =$B22*J22/$O22 -> 2151.6362 | L22: ='Расчет дотаций'!N24-1 -> 0.20941176 | M22: =L22*'Расчет дотаций'!O24 -> 3.1411765 | N22: =$B22*M22/$O22 -> 2182.873 | O22: =D22+G22+J22+M22 -> 6.1393929
A23: Борский | B23: ='Расчет дотаций'!T25 -> -3173 | C23: ='Расчет дотаций'!B25-1 -> 0 | D23: =C23*'Расчет дотаций'!C25 -> 0 | E23: =$B23*D23/$O23 -> 0 | F23: ='Расчет дотаций'!F25-1 -> -0.031529791 | G23: =F23*'Расчет дотаций'!G25 -> -0.31529791 | H23: =$B23*G23/$O23 -> -228.06078 | I23: ='Расчет дотаций'!J25-1 -> -0.57142857 | J23: =I23*'Расчет дотаций'!K25 -> -8.5714286 | K23: =$B23*J23/$O23 -> -6199.872 | L23: ='Расчет дотаций'!N25-1 -> 0.3 | M23: =L23*'Расчет дотаций'!O25 -> 4.5 | N23: =$B23*M23/$O23 -> 3254.9328 | O23: =D23+G23+J23+M23 -> -4.3867265
A24: Волжский | B24: ='Расчет дотаций'!T26 -> 4083.1 | C24: ='Расчет дотаций'!B26-1 -> 0 | D24: =C24*'Расчет дотаций'!C26 -> 0 | E24: =$B24*D24/$O24 -> 0 | F24: ='Расчет дотаций'!F26-1 -> 0.070248044 | G24: =F24*'Расчет дотаций'!G26 -> 0.70248044 | H24: =$B24*G24/$O24 -> 646.894 | I24: ='Расчет дотаций'!J26-1 -> 0.3 | J24: =I24*'Расчет дотаций'!K26 -> 4.5 | K24: =$B24*J24/$O24 -> 4143.9204 | L24: ='Расчет дотаций'!N26-1 -> -0.051235133 | M24: =L24*'Расчет дотаций'!O26 -> -0.76852699 | N24: =$B24*M24/$O24 -> -707.71437 | O24: =D24+G24+J24+M24 -> 4.4339535
A25: Елховский | B25: ='Расчет дотаций'!T27 -> 1917.6 | C25: ='Расчет дотаций'!B27-1 -> 0 | D25: =C25*'Расчет дотаций'!C27 -> 0 | E25: =$B25*D25/$O25 -> 0 | F25: ='Расчет дотаций'!F27-1 -> 0.10294643 | G25: =F25*'Расчет дотаций'!G27 -> 1.0294643 | H25: =$B25*G25/$O25 -> 327.87858 | I25: ='Расчет дотаций'!J27-1 -> 0.23660377 | J25: =I25*'Расчет дотаций'!K27 -> 3.5490566 | K25: =$B25*J25/$O25 -> 1130.3545 | L25: ='Расчет дотаций'!N27-1 -> 0.096153846 | M25: =L25*'Расчет дотаций'!O27 -> 1.4423077 | N25: =$B25*M25/$O25 -> 459.36688 | O25: =D25+G25+J25+M25 -> 6.0208286
A26: Исаклинский | B26: ='Расчет дотаций'!T28 -> 4312.6 | C26: ='Расчет дотаций'!B28-1 -> 0 | D26: =C26*'Расчет дотаций'!C28 -> 0 | E26: =$B26*D26/$O26 -> 0 | F26: ='Расчет дотаций'!F28-1 -> -0.13081147 | G26: =F26*'Расчет дотаций'!G28 -> -1.3081147 | H26: =$B26*G26/$O26 -> -803.16159 | I26: ='Расчет дотаций'!J28-1 -> 0.2554717 | J26: =I26*'Расчет дотаций'!K28 -> 3.8320755 | K26: =$B26*J26/$O26 -> 2352.8333 | L26: ='Расчет дотаций'!N28-1 -> 0.3 | M26: =L26*'Расчет дотаций'!O28 -> 4.5 | N26: =$B26*M26/$O26 -> 2762.9283 | O26: =D26+G26+J26+M26 -> 7.0239608
A27: Камышлинский | B27: ='Расчет дотаций'!T29 -> 2955.9 | C27: ='Расчет дотаций'!B29-1 -> 0 | D27: =C27*'Расчет дотаций'!C29 -> 0 | E27: =$B27*D27/$O27 -> 0 | F27: ='Расчет дотаций'!F29-1 -> -0.011824324 | G27: =F27*'Расчет дотаций'!G29 -> -0.11824324 | H27: =$B27*G27/$O27 -> -42.996477 | I27: ='Расчет дотаций'!J29-1 -> 0.24981132 | J27: =I27*'Расчет дотаций'!K29 -> 3.7471698 | K27: =$B27*J27/$O27 -> 1362.5734 | L27: ='Расчет дотаций'!N29-1 -> 0.3 | M27: =L27*'Расчет дотаций'!O29 -> 4.5 | N27: =$B27*M27/$O27 -> 1636.3231 | O27: =D27+G27+J27+M27 -> 8.1289266
A28: Кинельский | B28: ='Расчет дотаций'!T30 -> -4202.9 | C28: ='Расчет дотаций'!B30-1 -> 0 | D28: =C28*'Расчет дотаций'!C30 -> 0 | E28: =$B28*D28/$O28 -> 0 | F28: ='Расчет дотаций'!F30-1 -> 0.0073779484 | G28: =F28*'Расчет дотаций'!G30 -> 0.073779484 | H28: =$B28*G28/$O28 -> 50.694213 | I28: ='Расчет дотаций'!J30-1 -> 0.3 | J28: =I28*'Расчет дотаций'!K30 -> 4.5 | K28: =$B28*J28/$O28 -> 3091.9701 | L28: ='Расчет дотаций'!N30-1 -> -0.71270718 | M28: =L28*'Расчет дотаций'!O30 -> -10.690608 | N28: =$B28*M28/$O28 -> -7345.5643 | O28: =D28+G28+J28+M28 -> -6.1168283
A29: Кинель-Черкасский | B29: ='Расчет дотаций'!T31 -> 3143.1 | C29: ='Расчет дотаций'!B31-1 -> 0 | D29: =C29*'Расчет дотаций'!C31 -> 0 | E29: =$B29*D29/$O29 -> 0 | F29: ='Расчет дотаций'!F31-1 -> 0.035736085 | G29: =F29*'Расчет дотаций'!G31 -> 0.35736085 | H29: =$B29*G29/$O29 -> 305.90847 | I29: ='Расчет дотаций'!J31-1 -> 0.19318182 | J29: =I29*'Расчет дотаций'!K31 -> 2.8977273 | K29: =$B29*J29/$O29 -> 2480.516 | L29: ='Расчет дотаций'!N31-1 -> 0.027777778 | M29: =L29*'Расчет дотаций'!O31 -> 0.41666667 | N29: =$B29*M29/$O29 -> 356.67551 | O29: =D29+G29+J29+M29 -> 3.6717548
... A44: Шигонский | B44: ='Расчет дотаций'!T46 -> 6239.8 | C44: ='Расчет дотаций'!B46-1 -> 0 | D44: =C44*'Расчет дотаций'!C46 -> 0 | E44: =$B44*D44/$O44 -> 0 | F44: ='Расчет дотаций'!F46-1 -> 0.0225 | G44: =F44*'Расчет дотаций'!G46 -> 0.225 | H44: =$B44*G44/$O44 -> 163.18281 | I44: ='Расчет дотаций'!J46-1 -> 0.25857143 | J44: =I44*'Расчет дотаций'!K46 -> 3.8785714 | K44: =$B44*J44/$O44 -> 2812.9609 | L44: ='Расчет дотаций'!N46-1 -> 0.3 | M44: =L44*'Расчет дотаций'!O46 -> 4.5 | N44: =$B44*M44/$O44 -> 3263.6563 | O44: =D44+G44+J44+M44 -> 8.6035714
A45: ИТОГО | B45: =B6+B17 -> 91443.7 | E45: =E6+E17 -> 0 | H45: =H6+H17 -> -2457.7167 | K45: =K6+K17 -> 5588.8107 | N45: =N6+N17 -> 88312.606
