Workbook

Sheet Расчет дотаций
B1: Распределение дотаций местным бюджетам на поддержку мер по обеспечению сбалансированности местных бюджетов
A2: За 2019 год
A3: Наименование муниципального образования | B3: Отсутствие просроченной кредиторской задолженности местного бюджета (консолидированного бюджета городского округа с внутригородским делением, консолидированного бюджета муниципального района) по состоянию на конец отчетного периода | D3: Объем алкогольной продукции, зафиксированный в единой государственной автоматизированной информационной системе (дкл.) | H3: Эффективность муниципального земельного контроля (единиц) | L3: Уровень задолженности предприятий жилищно-коммунального хозяйства за ранее потребленные топливно-энергетические ресурсы по состоянию на конец отчетного периода (млн. рублей) | P3: Общая площадь введенного в эксплуатацию жилья с учетом индивидуального жилищного строительства (кв.м.) | T3: Валовой сбор зерна в весе после доработки (тыс. тонн) | X3: Производство молока во всех категориях хозяйств (тонн) | AB3: Производство скота и птицы на убой (в живом весе) во всех категориях хозяйств (тонн) | AF3: Численность занятых в сфере малого и среднего предпринимательства (чел.) | AJ3: Сводная оценка выполнения социально-экономических показателей | AK3: Годовое значение, тыс. рублей | AL3: Распределение за отчетный период, тыс. рублей | AM3: Отклонение от планируемого распределения, тыс. рублей | AN3: Ранее предоставленные стимулирующие субсидии в 2019 году, тыс. рублей | BA3: Удержано стимулирующих субсидий за март-ноябрь 2019 года в связи с исполнением показателей за 2018 год, тыс. рублей | BB3: Распределение за отчётный период за вычетом предоставлен-ных стимулирующих субсидий за январь-ноябрь 2019 года, тыс. рублей | BC3: Соблюдение условий предоставления стимулирующихдотаций*: | BI3: Распределение (+) / Взыскание (-) за отчётный период с учетом выполнения условий предоставления стимулирующих дотаций, тыс. рублей | BJ3: Распределение (+) / Взыскание (-) стимулирующих дотаций за отчётный период с учетом консолидации дотаций по поселениям (внутригородским районам) в бюджеты муниципальных районов (городского округа с внутригородским делением), тыс. рублей
AN4: Авансирование (распоряжение МУФ СО от 23.01.2019 № 01-08/4) | AO4: За январь | AP4: За февраль | AQ4: За март | AR4: За апрель | AS4: Авансирование (распоряжение МУФ СО от 19.06.2019 № 01-08/22) | AT4: За май | AU4: За июнь | AV4: За июль | AW4: За август | AX4: За сентябрь | AY4: За октябрь | AZ4: За ноябрь | BC4: Соблюдение норматива формирования расходов на содержание органов местного самоуправления | BD4: для муниципальных районов и городских округов (городских округов с внутригородским делением) | BF4: для всех поселений | BG4: для всех муниципальных образований | BH4: выполнение по итогам 2019 года соглашения о мерах по повышению эффективности использования бюджетных средств и увеличению поступлений налоговых и неналоговых доходов местного бюджета
BD5: доля дотаций на выравнивание бюджетной обеспеченности в доходах бюджета (без учета субвенций) за 2018 год > 20 % | BE5: муниципальный долг на 01.01.2020 > 90% от утвержденного общего годового объема доходов без учета утвержденного объема безвозмездных поступлений | BG5: неувеличение объема муниципального долга в части кредитов кредитных организаций в 2019 году
B6: Исполнение | C6: Вес | D6: Прогнозное значение | E6: Фактически сложившийся уровень | F6: Исполнение с уч. корректир. макс. перевыполнения | G6: Вес | H6: Прогнозное значение | I6: Фактически сложившийся уровень | J6: Исполнение с уч. корректир. макс. перевыполнения | K6: Вес | L6: Прогнозное значение | M6: Фактически сложившийся уровень | N6: Исполнение с уч. корректир. макс. перевыполнения | O6: Вес | P6: Прогнозное значение | Q6: Фактически сложившийся уровень | R6: Исполнение с уч. корректир. макс. перевыполнения | S6: Вес | T6: Прогнозное значение | U6: Фактически сложившийся уровень | V6: Исполнение с уч. корректир. макс. перевыполнения | W6: Вес | X6: Прогнозное значение | Y6: Фактически сложившийся уровень | Z6: Исполнение с уч. корректир. макс. перевыполнения | AA6: Вес | AB6: Прогнозное значение | AC6: Фактически сложившийся уровень | AD6: Исполнение с уч. корректир. макс. перевыполнения | AE6: Вес | AF6: Прогнозное значение | AG6: Фактически сложившийся уровень | AH6: Исполнение с уч. корректир. макс. перевыполнения | AI6: Вес | BD6: непривлечение кредитов кредитных организаций в 2019 году
A7: 1 | B7: 2 | C7: 3 | D7: 4 | E7: 5 | F7: 6=5/4 | G7: 7 | H7: 8 | I7: 9 | J7: 10=9/8 | K7: 11 | L7: 12 | M7: 13 | N7: 14=12/13 | O7: 15 | P7: 16 | Q7: 17 | R7: 18=17/16 | S7: 19 | T7: 20 | U7: 21 | V7: 22=21/20 | W7: 23 | X7: 24 | Y7: 25 | Z7: 26=25/24 | AA7: 27 | AB7: 28 | AC7: 29 | AD7: 30=29/28 | AE7: 31 | AF7: 32 | AG7: 33 | AH7: 34 | AI7: 35 | AJ7: 36 | AK7: 37 | AL7: 38=36*37 | AM7: 39=38-37 | AN7: 40 | AO7: 41 | AP7: 42 | AQ7: 43 | AR7: 44 | AS7: 45 | AT7: 46 | AU7: 47 | AV7: 48 | AW7: 49 | AX7: 50 | AY7: 51 | AZ7: 52 | BA7: 53 | BB7: 54=38-(40+…+53) | BC7: 55 | BD7: 56 | BE7: 57 | BF7: 58 | BG7: 59 | BH7: 60 | BI7: 61 | BJ7: 62
A8: Городские округа (городской округ с внутригородским делением) | D8: =SUM(D9:D18) -> 1434762 | E8: =SUM(E9:E18) -> 1541416.5 | F8: =IF(E8/D8>1.2,IF((E8/D8-1.2)*0.1+1.2>1.3,1.3,(E8/D8-1.2)*0.1+1.2),E8/D8) -> 1.074336 | H8: =SUM(H9:H18) -> 52700 | I8: =SUM(I9:I18) -> 65000 | J8: =IF(I8/H8>1.2,IF((I8/H8-1.2)*0.1+1.2>1.3,1.3,(I8/H8-1.2)*0.1+1.2),I8/H8) -> 1.2033397 | L8: =SUM(L9:L18) -> 3371.8 | M8: =SUM(M9:M18) -> 3188.8 | N8: =IF(L8/M8>1.2,IF((L8/M8-1.2)*0.1+1.2>1.3,1.3,(L8/M8-1.2)*0.1+1.2),L8/M8) -> 1.0573884 | P8: =SUM(P9:P18) -> 1286551 | Q8: =SUM(Q9:Q18) -> 957811 | R8: =IF(Q8/P8>1.2,IF((Q8/P8-1.2)*0.1+1.2>1.3,1.3,(Q8/P8-1.2)*0.1+1.2),Q8/P8) -> 0.74447962 | AK8: =SUM(AK9:AK18) -> 1827656 | AL8: =SUM(AL9:AL18) -> 1896960.8 | AM8: =SUM(AM9:AM18) -> 69304.8 | AN8: =SUM(AN9:AN18) -> 0 | AO8: =SUM(AO9:AO18) -> 152874.7 | AP8: =SUM(AP9:AP18) -> 152227.2 | AQ8: =SUM(AQ9:AQ18) -> 166414.7 | AR8: =SUM(AR9:AR18) -> 183190.2 | ... BB8: =SUM(BB9:BB18) -> -30055.6 | BI8: =SUM(BI9:BI18) -> -37210.1 | BJ8: =SUM(BJ9:BJ18) -> -37254.6
A9: Самара | B9: 1 | C9: 15 | D9: 765408 | E9: 831322.3 | F9: =IF(G9=0,0,IF(D9=0,1,IF(E9<0,0,IF(E9/D9>1.2,IF((E9/D9-1.2)*0.1+1.2>1.3,1.3,(E9/D9-1.2)*0.1+1.2),E9/D9)))) -> 1.0861166 | G9: 15 | H9: 6985 | I9: 11644 | J9: =IF(K9=0,0,IF(H9=0,1,IF(I9<0,0,IF(I9/H9>1.2,IF((I9/H9-1.2)*0.1+1.2>1.3,1.3,(I9/H9-1.2)*0.1+1.2),I9/H9)))) -> 1.2467001 | K9: 20 | L9: 1518 | M9: 1325.6 | N9: =IF(O9=0,0,IF(M9=0,1.3,IF(M9<0,0,IF(L9/M9>1.2,IF((L9/M9-1.2)*0.1+1.2>1.3,1.3,(L9/M9-1.2)*0.1+1.2),L9/M9)))) -> 1.1451418 | O9: 15 | P9: 868923 | Q9: 619267 | R9: =IF(S9=0,0,IF(P9=0,1,IF(Q9<0,0,IF(Q9/P9>1.2,IF((Q9/P9-1.2)*0.1+1.2>1.3,1.3,(Q9/P9-1.2)*0.1+1.2),Q9/P9)))) -> 0.7126834 | S9: 15 | T9: Х | U9: Х | V9: Х | W9: Х | X9: Х | Y9: Х | Z9: Х | AA9: Х | AB9: Х | AC9: Х | AD9: Х | AE9: Х | AF9: Х | AG9: Х | AH9: Х | AI9: Х | AJ9: =(B9*C9+F9*G9+J9*K9+N9*O9+R9*S9)/(C9+G9+K9+O9+S9) -> 1.0511641 | AK9: 296098 | AL9: =ROUND(AJ9*AK9,1) -> 311247.6 | AM9: =AL9-AK9 -> 15149.6 | AO9: 25174.8 | AP9: 26268.6 | AQ9: 29461.4 | AR9: 31975.9 | AT9: 24790.5 | AU9: 19458.4 | AV9: 40935.4 | AW9: 26475.8 | AX9: 37852.5 | AY9: 38684.4 | AZ9: 19763.6 | BA9: 1708.3 | BB9: =ROUND(AL9-SUM(AN9:BA9),1) -> -11302 | BI9: =IF(OR(BC9="+",BD9="+",BE9="+",BF9="+",BG9="+",BH9="+"),0,BB9) -> -11302 | BJ9: =ROUND(BI9+BI19,1) -> -11346.5
A10: Тольятти | B10: 1 | C10: 15 | D10: 328712 | E10: 354322.7 | F10: =IF(G10=0,0,IF(D10=0,1,IF(E10<0,0,IF(E10/D10>1.2,IF((E10/D10-1.2)*0.1+1.2>1.3,1.3,(E10/D10-1.2)*0.1+1.2),E10/D10)))) -> 1.0779123 | G10: 15 | H10: 11775 | I10: 12965 | J10: =IF(K10=0,0,IF(H10=0,1,IF(I10<0,0,IF(I10/H10>1.2,IF((I10/H10-1.2)*0.1+1.2>1.3,1.3,(I10/H10-1.2)*0.1+1.2),I10/H10)))) -> 1.1010616 | K10: 20 | L10: 281.1 | M10: 230.7 | N10: =IF(O10=0,0,IF(M10=0,1.3,IF(M10<0,0,IF(L10/M10>1.2,IF((L10/M10-1.2)*0.1+1.2>1.3,1.3,(L10/M10-1.2)*0.1+1.2),L10/M10)))) -> 1.2018466 | O10: 15 | P10: 262230 | Q10: 176442 | R10: =IF(S10=0,0,IF(P10=0,1,IF(Q10<0,0,IF(Q10/P10>1.2,IF((Q10/P10-1.2)*0.1+1.2>1.3,1.3,(Q10/P10-1.2)*0.1+1.2),Q10/P10)))) -> 0.67285208 | S10: 15 | T10: Х | U10: Х | V10: Х | W10: Х | X10: Х | Y10: Х | Z10: Х | AA10: Х | AB10: Х | AC10: Х | AD10: Х | AE10: Х | AF10: Х | AG10: Х | AH10: Х | AI10: Х | AJ10: =(B10*C10+F10*G10+J10*K10+N10*O10+R10*S10)/(C10+G10+K10+O10+S10) -> 1.0163799 | AK10: 712744 | AL10: =ROUND(AJ10*AK10,1) -> 724418.7 | AM10: =AL10-AK10 -> 11674.7 | AO10: 55175 | AP10: 55079.3 | AQ10: 72825.2 | AR10: 92364.6 | AT10: 66494.3 | AU10: 40997.3 | AV10: 98636.7 | AW10: 68728.3 | AX10: 94498.7 | AY10: 78599.5 | AZ10: 47573.4 | BB10: =ROUND(AL10-SUM(AN10:BA10),1) -> -46553.6 | BI10: =IF(OR(BC10="+",BD10="+",BE10="+",BF10="+",BG10="+",BH10="+"),0,BB10) -> -46553.6 | BJ10: =ROUND(BI10,1) -> -46553.6
A11: Сызрань | B11: 1 | C11: 15 | D11: 107838 | E11: 111082.3 | F11: =IF(G11=0,0,IF(D11=0,1,IF(E11<0,0,IF(E11/D11>1.2,IF((E11/D11-1.2)*0.1+1.2>1.3,1.3,(E11/D11-1.2)*0.1+1.2),E11/D11)))) -> 1.0300849 | G11: 15 | H11: 5888 | I11: 6296 | J11: =IF(K11=0,0,IF(H11=0,1,IF(I11<0,0,IF(I11/H11>1.2,IF((I11/H11-1.2)*0.1+1.2>1.3,1.3,(I11/H11-1.2)*0.1+1.2),I11/H11)))) -> 1.0692935 | K11: 20 | L11: 1106.9 | M11: 1292.4 | N11: =IF(O11=0,0,IF(M11=0,1.3,IF(M11<0,0,IF(L11/M11>1.2,IF((L11/M11-1.2)*0.1+1.2>1.3,1.3,(L11/M11-1.2)*0.1+1.2),L11/M11)))) -> 0.85646859 | O11: 15 | P11: 45123 | Q11: 43410 | R11: =IF(S11=0,0,IF(P11=0,1,IF(Q11<0,0,IF(Q11/P11>1.2,IF((Q11/P11-1.2)*0.1+1.2>1.3,1.3,(Q11/P11-1.2)*0.1+1.2),Q11/P11)))) -> 0.9620371 | S11: 15 | T11: Х | U11: Х | V11: Х | W11: Х | X11: Х | Y11: Х | Z11: Х | AA11: Х | AB11: Х | AC11: Х | AD11: Х | AE11: Х | AF11: Х | AG11: Х | AH11: Х | AI11: Х | AJ11: =(B11*C11+F11*G11+J11*K11+N11*O11+R11*S11)/(C11+G11+K11+O11+S11) -> 0.98893411 | AK11: 167666 | AL11: =ROUND(AJ11*AK11,1) -> 165810.6 | AM11: =AL11-AK11 -> -1855.4 | AO11: 14092 | AP11: 15633.9 | AQ11: 4420.1 | AR11: 10966.7 | AT11: 12429.7 | AU11: 14315.2 | AV11: 15155.1 | AW11: 16161.4 | AX11: 8742.3 | AY11: 22793.7 | AZ11: 15242.4 | BA11: 16395.6 | BB11: =ROUND(AL11-SUM(AN11:BA11),1) -> -537.5 | BI11: =IF(OR(BC11="+",BD11="+",BE11="+",BF11="+",BG11="+",BH11="+"),0,BB11) -> -537.5 | BJ11: =ROUND(BI11,1) -> -537.5
A12: Новокуйбышевск | B12: 1 | C12: 15 | D12: 71133 | E12: 73245.7 | F12: =IF(G12=0,0,IF(D12=0,1,IF(E12<0,0,IF(E12/D12>1.2,IF((E12/D12-1.2)*0.1+1.2>1.3,1.3,(E12/D12-1.2)*0.1+1.2),E12/D12)))) -> 1.0297007 | G12: 15 | H12: 4344 | I12: 4645 | J12: =IF(K12=0,0,IF(H12=0,1,IF(I12<0,0,IF(I12/H12>1.2,IF((I12/H12-1.2)*0.1+1.2>1.3,1.3,(I12/H12-1.2)*0.1+1.2),I12/H12)))) -> 1.069291 | K12: 20 | L12: 152.3 | M12: 80.8 | N12: =IF(O12=0,0,IF(M12=0,1.3,IF(M12<0,0,IF(L12/M12>1.2,IF((L12/M12-1.2)*0.1+1.2>1.3,1.3,(L12/M12-1.2)*0.1+1.2),L12/M12)))) -> 1.2684901 | O12: 15 | P12: 29000 | Q12: 30130 | R12: =IF(S12=0,0,IF(P12=0,1,IF(Q12<0,0,IF(Q12/P12>1.2,IF((Q12/P12-1.2)*0.1+1.2>1.3,1.3,(Q12/P12-1.2)*0.1+1.2),Q12/P12)))) -> 1.0389655 | S12: 15 | T12: Х | U12: Х | V12: Х | W12: Х | X12: Х | Y12: Х | Z12: Х | AA12: Х | AB12: Х | AC12: Х | AD12: Х | AE12: Х | AF12: Х | AG12: Х | AH12: Х | AI12: Х | AJ12: =(B12*C12+F12*G12+J12*K12+N12*O12+R12*S12)/(C12+G12+K12+O12+S12) -> 1.0805396 | AK12: 72029 | AL12: =ROUND(AJ12*AK12,1) -> 77830.2 | AM12: =AL12-AK12 -> 5801.2 | AO12: 7303.6 | AP12: 6389.4 | AQ12: 7588.6 | AR12: 0 | AT12: 6062 | AU12: 12606.7 | AV12: 0 | AW12: 6559 | AX12: 16450.6 | AY12: 7715.8 | AZ12: 0 | BB12: =ROUND(AL12-SUM(AN12:BA12),1) -> 7154.5 | BG12: + | BI12: =IF(OR(BC12="+",BD12="+",BE12="+",BF12="+",BG12="+",BH12="+"),0,BB12) -> 0 | BJ12: =ROUND(BI12,1) -> 0
A13: Чапаевск | B13: 1 | C13: 15 | D13: 30975 | E13: 34743.3 | F13: =IF(G13=0,0,IF(D13=0,1,IF(E13<0,0,IF(E13/D13>1.2,IF((E13/D13-1.2)*0.1+1.2>1.3,1.3,(E13/D13-1.2)*0.1+1.2),E13/D13)))) -> 1.1216562 | G13: 15 | H13: 4344 | I13: 6677 | J13: =IF(K13=0,0,IF(H13=0,1,IF(I13<0,0,IF(I13/H13>1.2,IF((I13/H13-1.2)*0.1+1.2>1.3,1.3,(I13/H13-1.2)*0.1+1.2),I13/H13)))) -> 1.2337063 | K13: 20 | L13: 57.4 | M13: 56 | N13: =IF(O13=0,0,IF(M13=0,1.3,IF(M13<0,0,IF(L13/M13>1.2,IF((L13/M13-1.2)*0.1+1.2>1.3,1.3,(L13/M13-1.2)*0.1+1.2),L13/M13)))) -> 1.025 | O13: 15 | P13: 9146 | Q13: 10334 | R13: =IF(S13=0,0,IF(P13=0,1,IF(Q13<0,0,IF(Q13/P13>1.2,IF((Q13/P13-1.2)*0.1+1.2>1.3,1.3,(Q13/P13-1.2)*0.1+1.2),Q13/P13)))) -> 1.1298928 | S13: 15 | T13: Х | U13: Х | V13: Х | W13: Х | X13: Х | Y13: Х | Z13: Х | AA13: Х | AB13: Х | AC13: Х | AD13: Х | AE13: Х | AF13: Х | AG13: Х | AH13: Х | AI13: Х | AJ13: =(B13*C13+F13*G13+J13*K13+N13*O13+R13*S13)/(C13+G13+K13+O13+S13) -> 1.1102795 | AK13: 138220 | AL13: =ROUND(AJ13*AK13,1) -> 153462.8 | AM13: =AL13-AK13 -> 15242.8 | AO13: 12378.7 | AP13: 14025.2 | AQ13: 12348.7 | AR13: 15547.4 | AT13: 14100.5 | AU13: 4550.2 | AV13: 19489.8 | AW13: 10989.1 | AX13: 22829.5 | AY13: 17100.8 | AZ13: 9225.8 | BB13: =ROUND(AL13-SUM(AN13:BA13),1) -> 877.1 | BI13: =IF(OR(BC13="+",BD13="+",BE13="+",BF13="+",BG13="+",BH13="+"),0,BB13) -> 877.1 | BJ13: =ROUND(BI13,1) -> 877.1
A14: Отрадный | B14: 1 | C14: 15 | D14: 34040 | E14: 34858.1 | F14: =IF(G14=0,0,IF(D14=0,1,IF(E14<0,0,IF(E14/D14>1.2,IF((E14/D14-1.2)*0.1+1.2>1.3,1.3,(E14/D14-1.2)*0.1+1.2),E14/D14)))) -> 1.0240335 | G14: 15 | H14: 4344 | I14: 4359 | J14: =IF(K14=0,0,IF(H14=0,1,IF(I14<0,0,IF(I14/H14>1.2,IF((I14/H14-1.2)*0.1+1.2>1.3,1.3,(I14/H14-1.2)*0.1+1.2),I14/H14)))) -> 1.003453 | K14: 20 | L14: 17.9 | M14: 9.5 | N14: =IF(O14=0,0,IF(M14=0,1.3,IF(M14<0,0,IF(L14/M14>1.2,IF((L14/M14-1.2)*0.1+1.2>1.3,1.3,(L14/M14-1.2)*0.1+1.2),L14/M14)))) -> 1.2684211 | O14: 15 | P14: 7300 | Q14: 8011 | R14: =IF(S14=0,0,IF(P14=0,1,IF(Q14<0,0,IF(Q14/P14>1.2,IF((Q14/P14-1.2)*0.1+1.2>1.3,1.3,(Q14/P14-1.2)*0.1+1.2),Q14/P14)))) -> 1.0973973 | S14: 15 | T14: Х | U14: Х | V14: Х | W14: Х | X14: Х | Y14: Х | Z14: Х | AA14: Х | AB14: Х | AC14: Х | AD14: Х | AE14: Х | AF14: Х | AG14: Х | AH14: Х | AI14: Х | AJ14: =(B14*C14+F14*G14+J14*K14+N14*O14+R14*S14)/(C14+G14+K14+O14+S14) -> 1.0739605 | AK14: 49201 | AL14: =ROUND(AJ14*AK14,1) -> 52839.9 | AM14: =AL14-AK14 -> 3638.9 | AO14: 4373.5 | AP14: 4578 | AQ14: 4822.3 | AR14: 2908.9 | AT14: 4404.7 | AU14: 5081.9 | AV14: 3279.2 | AW14: 4314.4 | AX14: 6643.1 | AY14: 4429.6 | AZ14: 4444.3 | BB14: =ROUND(AL14-SUM(AN14:BA14),1) -> 3560 | BI14: =IF(OR(BC14="+",BD14="+",BE14="+",BF14="+",BG14="+",BH14="+"),0,BB14) -> 3560 | BJ14: =ROUND(BI14,1) -> 3560
A15: Жигулевск | B15: 1 | C15: 15 | D15: 31974 | E15: 33380.4 | F15: =IF(G15=0,0,IF(D15=0,1,IF(E15<0,0,IF(E15/D15>1.2,IF((E15/D15-1.2)*0.1+1.2>1.3,1.3,(E15/D15-1.2)*0.1+1.2),E15/D15)))) -> 1.0439857 | G15: 15 | H15: 4344 | I15: 4529 | J15: =IF(K15=0,0,IF(H15=0,1,IF(I15<0,0,IF(I15/H15>1.2,IF((I15/H15-1.2)*0.1+1.2>1.3,1.3,(I15/H15-1.2)*0.1+1.2),I15/H15)))) -> 1.0425875 | K15: 20 | L15: 84.9 | M15: 124.6 | N15: =IF(O15=0,0,IF(M15=0,1.3,IF(M15<0,0,IF(L15/M15>1.2,IF((L15/M15-1.2)*0.1+1.2>1.3,1.3,(L15/M15-1.2)*0.1+1.2),L15/M15)))) -> 0.68138042 | O15: 15 | P15: 11229 | Q15: 12315 | R15: =IF(S15=0,0,IF(P15=0,1,IF(Q15<0,0,IF(Q15/P15>1.2,IF((Q15/P15-1.2)*0.1+1.2>1.3,1.3,(Q15/P15-1.2)*0.1+1.2),Q15/P15)))) -> 1.0967139 | S15: 15 | T15: Х | U15: Х | V15: Х | W15: Х | X15: Х | Y15: Х | Z15: Х | AA15: Х | AB15: Х | AC15: Х | AD15: Х | AE15: Х | AF15: Х | AG15: Х | AH15: Х | AI15: Х | AJ15: =(B15*C15+F15*G15+J15*K15+N15*O15+R15*S15)/(C15+G15+K15+O15+S15) -> 0.97728687 | AK15: 120632 | AL15: =ROUND(AJ15*AK15,1) -> 117892.1 | AM15: =AL15-AK15 -> -2739.9 | AO15: 11428.8 | AP15: 9658.9 | AQ15: 10222.9 | AR15: 12393.8 | AT15: 11216 | AU15: 11145.3 | AV15: 10156 | AW15: 11425.1 | AX15: 0 | AY15: 17127.8 | AZ15: 10966.5 | BA15: 417 | BB15: =ROUND(AL15-SUM(AN15:BA15),1) -> 1734 | BI15: =IF(OR(BC15="+",BD15="+",BE15="+",BF15="+",BG15="+",BH15="+"),0,BB15) -> 1734 | BJ15: =ROUND(BI15,1) -> 1734
A16: Октябрьск | B16: 1 | C16: 15 | D16: 11954 | E16: 12638.7 | F16: =IF(G16=0,0,IF(D16=0,1,IF(E16<0,0,IF(E16/D16>1.2,IF((E16/D16-1.2)*0.1+1.2>1.3,1.3,(E16/D16-1.2)*0.1+1.2),E16/D16)))) -> 1.0572779 | G16: 15 | H16: 3166 | I16: 3296 | J16: =IF(K16=0,0,IF(H16=0,1,IF(I16<0,0,IF(I16/H16>1.2,IF((I16/H16-1.2)*0.1+1.2>1.3,1.3,(I16/H16-1.2)*0.1+1.2),I16/H16)))) -> 1.0410613 | K16: 20 | L16: 56.5 | M16: 55.1 | N16: =IF(O16=0,0,IF(M16=0,1.3,IF(M16<0,0,IF(L16/M16>1.2,IF((L16/M16-1.2)*0.1+1.2>1.3,1.3,(L16/M16-1.2)*0.1+1.2),L16/M16)))) -> 1.0254083 | O16: 15 | P16: 5600 | Q16: 6129 | R16: =IF(S16=0,0,IF(P16=0,1,IF(Q16<0,0,IF(Q16/P16>1.2,IF((Q16/P16-1.2)*0.1+1.2>1.3,1.3,(Q16/P16-1.2)*0.1+1.2),Q16/P16)))) -> 1.0944643 | S16: 15 | T16: Х | U16: Х | V16: Х | W16: Х | X16: Х | Y16: Х | Z16: Х | AA16: Х | AB16: Х | AC16: Х | AD16: Х | AE16: Х | AF16: Х | AG16: Х | AH16: Х | AI16: Х | AJ16: =(B16*C16+F16*G16+J16*K16+N16*O16+R16*S16)/(C16+G16+K16+O16+S16) -> 1.043481 | AK16: 95134 | AL16: =ROUND(AJ16*AK16,1) -> 99270.5 | AM16: =AL16-AK16 -> 4136.5 | AO16: 8061.9 | AP16: 6373.3 | AQ16: 8386.3 | AR16: 7276.2 | AT16: 7255 | AU16: 6820.6 | AV16: 6339.4 | AW16: 7553.6 | AX16: 6183.8 | AY16: 8300.7 | AZ16: 22764.9 | BB16: =ROUND(AL16-SUM(AN16:BA16),1) -> 3954.8 | BI16: =IF(OR(BC16="+",BD16="+",BE16="+",BF16="+",BG16="+",BH16="+"),0,BB16) -> 3954.8 | BJ16: =ROUND(BI16,1) -> 3954.8
A17: Кинель | B17: 1 | C17: 15 | D17: 37067 | E17: 38906.7 | F17: =IF(G17=0,0,IF(D17=0,1,IF(E17<0,0,IF(E17/D17>1.2,IF((E17/D17-1.2)*0.1+1.2>1.3,1.3,(E17/D17-1.2)*0.1+1.2),E17/D17)))) -> 1.0496317 | G17: 15 | H17: 4344 | I17: 4349 | J17: =IF(K17=0,0,IF(H17=0,1,IF(I17<0,0,IF(I17/H17>1.2,IF((I17/H17-1.2)*0.1+1.2>1.3,1.3,(I17/H17-1.2)*0.1+1.2),I17/H17)))) -> 1.001151 | K17: 20 | L17: 70 | M17: 14 | N17: =IF(O17=0,0,IF(M17=0,1.3,IF(M17<0,0,IF(L17/M17>1.2,IF((L17/M17-1.2)*0.1+1.2>1.3,1.3,(L17/M17-1.2)*0.1+1.2),L17/M17)))) -> 1.3 | O17: 15 | P17: 40000 | Q17: 43729 | R17: =IF(S17=0,0,IF(P17=0,1,IF(Q17<0,0,IF(Q17/P17>1.2,IF((Q17/P17-1.2)*0.1+1.2>1.3,1.3,(Q17/P17-1.2)*0.1+1.2),Q17/P17)))) -> 1.093225 | S17: 15 | T17: Х | U17: Х | V17: Х | W17: Х | X17: Х | Y17: Х | Z17: Х | AA17: Х | AB17: Х | AC17: Х | AD17: Х | AE17: Х | AF17: Х | AG17: Х | AH17: Х | AI17: Х | AJ17: =(B17*C17+F17*G17+J17*K17+N17*O17+R17*S17)/(C17+G17+K17+O17+S17) -> 1.0833234 | AK17: 114188 | AL17: =ROUND(AJ17*AK17,1) -> 123702.5 | AM17: =AL17-AK17 -> 9514.5 | AO17: 9327.5 | AP17: 8938.8 | AQ17: 11723.9 | AR17: 5685.5 | AT17: 9448.8 | AU17: 14357.8 | AV17: 3821.1 | AW17: 10468.6 | AX17: 29704.8 | AY17: 0 | AZ17: 10380.7 | BB17: =ROUND(AL17-SUM(AN17:BA17),1) -> 9845 | BI17: =IF(OR(BC17="+",BD17="+",BE17="+",BF17="+",BG17="+",BH17="+"),0,BB17) -> 9845 | BJ17: =ROUND(BI17,1) -> 9845
A18: Похвистнево | B18: 1 | C18: 15 | D18: 15661 | E18: 16916.3 | F18: =IF(G18=0,0,IF(D18=0,1,IF(E18<0,0,IF(E18/D18>1.2,IF((E18/D18-1.2)*0.1+1.2>1.3,1.3,(E18/D18-1.2)*0.1+1.2),E18/D18)))) -> 1.0801545 | G18: 15 | H18: 3166 | I18: 6240 | J18: =IF(K18=0,0,IF(H18=0,1,IF(I18<0,0,IF(I18/H18>1.2,IF((I18/H18-1.2)*0.1+1.2>1.3,1.3,(I18/H18-1.2)*0.1+1.2),I18/H18)))) -> 1.2770941 | K18: 20 | L18: 26.8 | M18: 0.1 | N18: =IF(O18=0,0,IF(M18=0,1.3,IF(M18<0,0,IF(L18/M18>1.2,IF((L18/M18-1.2)*0.1+1.2>1.3,1.3,(L18/M18-1.2)*0.1+1.2),L18/M18)))) -> 1.3 | O18: 15 | P18: 8000 | Q18: 8044 | R18: =IF(S18=0,0,IF(P18=0,1,IF(Q18<0,0,IF(Q18/P18>1.2,IF((Q18/P18-1.2)*0.1+1.2>1.3,1.3,(Q18/P18-1.2)*0.1+1.2),Q18/P18)))) -> 1.0055 | S18: 15 | T18: Х | U18: Х | V18: Х | W18: Х | X18: Х | Y18: Х | Z18: Х | AA18: Х | AB18: Х | AC18: Х | AD18: Х | AE18: Х | AF18: Х | AG18: Х | AH18: Х | AI18: Х | AJ18: =(B18*C18+F18*G18+J18*K18+N18*O18+R18*S18)/(C18+G18+K18+O18+S18) -> 1.1415838 | AK18: 61744 | AL18: =ROUND(AJ18*AK18,1) -> 70485.9 | AM18: =AL18-AK18 -> 8741.9 | AO18: 5558.9 | AP18: 5281.8 | AQ18: 4615.3 | AR18: 4071.2 | AT18: 4760.7 | AU18: 3705.8 | AV18: 9764.6 | AW18: 4868.4 | AX18: 9185.6 | AY18: 8321.5 | AZ18: 4549.2 | BA18: 4590.8 | BB18: =ROUND(AL18-SUM(AN18:BA18),1) -> 1212.1 | BI18: =IF(OR(BC18="+",BD18="+",BE18="+",BF18="+",BG18="+",BH18="+"),0,BB18) -> 1212.1 | BJ18: =ROUND(BI18,1) -> 1212.1
A19: Внутригородские районы г.о.Самара | F19: =F9 -> 1.0861166 | H19: =SUM(H20:H28) -> 6985 | I19: =SUM(I20:I28) -> 11644 | J19: =IF(I19/H19>1.2,IF((I19/H19-1.2)*0.1+1.2>1.3,1.3,(I19/H19-1.2)*0.1+1.2),I19/H19) -> 1.2467001 | N19: =N9 -> 1.1451418 | R19: =R9 -> 0.7126834 | AK19: =SUM(AK20:AK28) -> 1175 | AL19: =SUM(AL20:AL28) -> 1250.8 | AM19: =SUM(AM20:AM28) -> 75.8 | AN19: =SUM(AN20:AN28) -> 235 | AO19: =SUM(AO20:AO28) -> 120.6 | AP19: =SUM(AP20:AP28) -> 116.4 | AQ19: =SUM(AQ20:AQ28) -> 0 | AR19: =SUM(AR20:AR28) -> 112.6 | ... BB19: =SUM(BB20:BB28) -> -44.5 | BI19: =SUM(BI20:BI28) -> -44.5 | BJ19: =SUM(BJ20:BJ28) -> 0
A20: Железнодорожный | B20: =B$9 -> 1 | C20: 15 | F20: =F$9 -> 1.0861166 | G20: 15 | H20: 533 | I20: 908 | J20: =IF(K20=0,0,IF(H20=0,1,IF(I20<0,0,IF(I20/H20>1.2,IF((I20/H20-1.2)*0.1+1.2>1.3,1.3,(I20/H20-1.2)*0.1+1.2),I20/H20)))) -> 1.2503565 | K20: 20 | N20: =N$9 -> 1.1451418 | O20: 15 | R20: =R$9 -> 0.7126834 | S20: 15 | T20: Х | U20: Х | V20: Х | W20: Х | X20: Х | Y20: Х | Z20: Х | AA20: Х | AB20: Х | AC20: Х | AD20: Х | AE20: Х | AF20: Х | AG20: Х | AH20: Х | AI20: Х | AJ20: =(B20*C20+F20*G20+J20*K20+N20*O20+R20*S20)/(C20+G20+K20+O20+S20) -> 1.0520782 | AK20: 0 | AL20: =ROUND(AJ20*AK20,1) -> 0 | AM20: =AL20-AK20 -> 0 | AO20: 0 | AP20: 0 | AQ20: 0 | AR20: 0 | AT20: 0 | AU20: 0 | AV20: 0 | AW20: 0 | AX20: 0 | AY20: 0 | AZ20: 0 | BB20: =ROUND(AL20-SUM(AN20:BA20),1) -> 0 | BI20: =IF(OR(BC20="+",BD20="+",BE20="+",BF20="+",BG20="+",BH20="+"),0,BB20) -> 0
A21: Кировский | B21: =B$9 -> 1 | C21: 15 | F21: =F$9 -> 1.0861166 | G21: 15 | H21: 1750 | I21: 3286 | J21: =IF(K21=0,0,IF(H21=0,1,IF(I21<0,0,IF(I21/H21>1.2,IF((I21/H21-1.2)*0.1+1.2>1.3,1.3,(I21/H21-1.2)*0.1+1.2),I21/H21)))) -> 1.2677714 | K21: 20 | N21: =N$9 -> 1.1451418 | O21: 15 | R21: =R$9 -> 0.7126834 | S21: 15 | T21: Х | U21: Х | V21: Х | W21: Х | X21: Х | Y21: Х | Z21: Х | AA21: Х | AB21: Х | AC21: Х | AD21: Х | AE21: Х | AF21: Х | AG21: Х | AH21: Х | AI21: Х | AJ21: =(B21*C21+F21*G21+J21*K21+N21*O21+R21*S21)/(C21+G21+K21+O21+S21) -> 1.0564319 | AK21: 0 | AL21: =ROUND(AJ21*AK21,1) -> 0 | AM21: =AL21-AK21 -> 0 | AO21: 0 | AP21: 0 | AQ21: 0 | AR21: 0 | AT21: 0 | AU21: 0 | AV21: 0 | AW21: 0 | AX21: 0 | AY21: 0 | AZ21: 0 | BB21: =ROUND(AL21-SUM(AN21:BA21),1) -> 0 | BI21: =IF(OR(BC21="+",BD21="+",BE21="+",BF21="+",BG21="+",BH21="+"),0,BB21) -> 0
A22: Красноглинский | B22: =B$9 -> 1 | C22: 15 | F22: =F$9 -> 1.0861166 | G22: 15 | H22: 1681 | I22: 2128 | J22: =IF(K22=0,0,IF(H22=0,1,IF(I22<0,0,IF(I22/H22>1.2,IF((I22/H22-1.2)*0.1+1.2>1.3,1.3,(I22/H22-1.2)*0.1+1.2),I22/H22)))) -> 1.2065913 | K22: 20 | N22: =N$9 -> 1.1451418 | O22: 15 | R22: =R$9 -> 0.7126834 | S22: 15 | T22: Х | U22: Х | V22: Х | W22: Х | X22: Х | Y22: Х | Z22: Х | AA22: Х | AB22: Х | AC22: Х | AD22: Х | AE22: Х | AF22: Х | AG22: Х | AH22: Х | AI22: Х | AJ22: =(B22*C22+F22*G22+J22*K22+N22*O22+R22*S22)/(C22+G22+K22+O22+S22) -> 1.0411369 | AK22: 0 | AL22: =ROUND(AJ22*AK22,1) -> 0 | AM22: =AL22-AK22 -> 0 | AO22: 0 | AP22: 0 | AQ22: 0 | AR22: 0 | AT22: 0 | AU22: 0 | AV22: 0 | AW22: 0 | AX22: 0 | AY22: 0 | AZ22: 0 | BB22: =ROUND(AL22-SUM(AN22:BA22),1) -> 0 | BI22: =IF(OR(BC22="+",BD22="+",BE22="+",BF22="+",BG22="+",BH22="+"),0,BB22) -> 0
A23: Куйбышевский | B23: =B$9 -> 1 | C23: 15 | F23: =F$9 -> 1.0861166 | G23: 15 | H23: 669 | I23: 1006 | J23: =IF(K23=0,0,IF(H23=0,1,IF(I23<0,0,IF(I23/H23>1.2,IF((I23/H23-1.2)*0.1+1.2>1.3,1.3,(I23/H23-1.2)*0.1+1.2),I23/H23)))) -> 1.2303737 | K23: 20 | N23: =N$9 -> 1.1451418 | O23: 15 | R23: =R$9 -> 0.7126834 | S23: 15 | T23: Х | U23: Х | V23: Х | W23: Х | X23: Х | Y23: Х | Z23: Х | AA23: Х | AB23: Х | AC23: Х | AD23: Х | AE23: Х | AF23: Х | AG23: Х | AH23: Х | AI23: Х | AJ23: =(B23*C23+F23*G23+J23*K23+N23*O23+R23*S23)/(C23+G23+K23+O23+S23) -> 1.0470825 | AK23: 0 | AL23: =ROUND(AJ23*AK23,1) -> 0 | AM23: =AL23-AK23 -> 0 | AO23: 0 | AP23: 0 | AQ23: 0 | AR23: 0 | AT23: 0 | AU23: 0 | AV23: 0 | AW23: 0 | AX23: 0 | AY23: 0 | AZ23: 0 | BB23: =ROUND(AL23-SUM(AN23:BA23),1) -> 0 | BI23: =IF(OR(BC23="+",BD23="+",BE23="+",BF23="+",BG23="+",BH23="+"),0,BB23) -> 0
A24: Ленинский | B24: =B$9 -> 1 | C24: 15 | F24: =F$9 -> 1.0861166 | G24: 15 | H24: 160 | I24: 221 | J24: =IF(K24=0,0,IF(H24=0,1,IF(I24<0,0,IF(I24/H24>1.2,IF((I24/H24-1.2)*0.1+1.2>1.3,1.3,(I24/H24-1.2)*0.1+1.2),I24/H24)))) -> 1.218125 | K24: 20 | N24: =N$9 -> 1.1451418 | O24: 15 | R24: =R$9 -> 0.7126834 | S24: 15 | T24: Х | U24: Х | V24: Х | W24: Х | X24: Х | Y24: Х | Z24: Х | AA24: Х | AB24: Х | AC24: Х | AD24: Х | AE24: Х | AF24: Х | AG24: Х | AH24: Х | AI24: Х | AJ24: =(B24*C24+F24*G24+J24*K24+N24*O24+R24*S24)/(C24+G24+K24+O24+S24) -> 1.0440203 | AK24: 0 | AL24: =ROUND(AJ24*AK24,1) -> 0 | AM24: =AL24-AK24 -> 0 | AO24: 0 | AP24: 0 | AQ24: 0 | AR24: 0 | AT24: 0 | AU24: 0 | AV24: 0 | AW24: 0 | AX24: 0 | AY24: 0 | AZ24: 0 | BB24: =ROUND(AL24-SUM(AN24:BA24),1) -> 0 | BI24: =IF(OR(BC24="+",BD24="+",BE24="+",BF24="+",BG24="+",BH24="+"),0,BB24) -> 0
A25: Октябрьский | B25: =B$9 -> 1 | C25: 15 | F25: =F$9 -> 1.0861166 | G25: 15 | H25: 578 | I25: 867 | J25: =IF(K25=0,0,IF(H25=0,1,IF(I25<0,0,IF(I25/H25>1.2,IF((I25/H25-1.2)*0.1+1.2>1.3,1.3,(I25/H25-1.2)*0.1+1.2),I25/H25)))) -> 1.23 | K25: 20 | N25: =N$9 -> 1.1451418 | O25: 15 | R25: =R$9 -> 0.7126834 | S25: 15 | T25: Х | U25: Х | V25: Х | W25: Х | X25: Х | Y25: Х | Z25: Х | AA25: Х | AB25: Х | AC25: Х | AD25: Х | AE25: Х | AF25: Х | AG25: Х | AH25: Х | AI25: Х | AJ25: =(B25*C25+F25*G25+J25*K25+N25*O25+R25*S25)/(C25+G25+K25+O25+S25) -> 1.0469891 | AK25: 0 | AL25: =ROUND(AJ25*AK25,1) -> 0 | AM25: =AL25-AK25 -> 0 | AO25: 0 | AP25: 0 | AQ25: 0 | AR25: 0 | AT25: 0 | AU25: 0 | AV25: 0 | AW25: 0 | AX25: 0 | AY25: 0 | AZ25: 0 | BB25: =ROUND(AL25-SUM(AN25:BA25),1) -> 0 | BI25: =IF(OR(BC25="+",BD25="+",BE25="+",BF25="+",BG25="+",BH25="+"),0,BB25) -> 0
A26: Промышленный | B26: =B$9 -> 1 | C26: 15 | F26: =F$9 -> 1.0861166 | G26: 15 | H26: 956 | I26: 1594 | J26: =IF(K26=0,0,IF(H26=0,1,IF(I26<0,0,IF(I26/H26>1.2,IF((I26/H26-1.2)*0.1+1.2>1.3,1.3,(I26/H26-1.2)*0.1+1.2),I26/H26)))) -> 1.2467364 | K26: 20 | N26: =N$9 -> 1.1451418 | O26: 15 | R26: =R$9 -> 0.7126834 | S26: 15 | T26: Х | U26: Х | V26: Х | W26: Х | X26: Х | Y26: Х | Z26: Х | AA26: Х | AB26: Х | AC26: Х | AD26: Х | AE26: Х | AF26: Х | AG26: Х | AH26: Х | AI26: Х | AJ26: =(B26*C26+F26*G26+J26*K26+N26*O26+R26*S26)/(C26+G26+K26+O26+S26) -> 1.0511732 | AK26: 0 | AL26: =ROUND(AJ26*AK26,1) -> 0 | AM26: =AL26-AK26 -> 0 | AO26: 0 | AP26: 0 | AQ26: 0 | AR26: 0 | AT26: 0 | AU26: 0 | AV26: 0 | AW26: 0 | AX26: 0 | AY26: 0 | AZ26: 0 | BB26: =ROUND(AL26-SUM(AN26:BA26),1) -> 0 | BI26: =IF(OR(BC26="+",BD26="+",BE26="+",BF26="+",BG26="+",BH26="+"),0,BB26) -> 0
A27: Самарский | B27: =B$9 -> 1 | C27: 15 | F27: =F$9 -> 1.0861166 | G27: 15 | H27: 187 | I27: 304 | J27: =IF(K27=0,0,IF(H27=0,1,IF(I27<0,0,IF(I27/H27>1.2,IF((I27/H27-1.2)*0.1+1.2>1.3,1.3,(I27/H27-1.2)*0.1+1.2),I27/H27)))) -> 1.2425668 | K27: 20 | N27: =N$9 -> 1.1451418 | O27: 15 | R27: =R$9 -> 0.7126834 | S27: 15 | T27: Х | U27: Х | V27: Х | W27: Х | X27: Х | Y27: Х | Z27: Х | AA27: Х | AB27: Х | AC27: Х | AD27: Х | AE27: Х | AF27: Х | AG27: Х | AH27: Х | AI27: Х | AJ27: =(B27*C27+F27*G27+J27*K27+N27*O27+R27*S27)/(C27+G27+K27+O27+S27) -> 1.0501308 | AK27: 0 | AL27: =ROUND(AJ27*AK27,1) -> 0 | AM27: =AL27-AK27 -> 0 | AO27: 0 | AP27: 0 | AQ27: 0 | AR27: 0 | AT27: 0 | AU27: 0 | AV27: 0 | AW27: 0 | AX27: 0 | AY27: 0 | AZ27: 0 | BB27: =ROUND(AL27-SUM(AN27:BA27),1) -> 0 | BI27: =IF(OR(BC27="+",BD27="+",BE27="+",BF27="+",BG27="+",BH27="+"),0,BB27) -> 0
A28: Советский | B28: =B$9 -> 1 | C28: 15 | F28: =F$9 -> 1.0861166 | G28: 15 | H28: 471 | I28: 1330 | J28: =IF(K28=0,0,IF(H28=0,1,IF(I28<0,0,IF(I28/H28>1.2,IF((I28/H28-1.2)*0.1+1.2>1.3,1.3,(I28/H28-1.2)*0.1+1.2),I28/H28)))) -> 1.3 | K28: 20 | N28: =N$9 -> 1.1451418 | O28: 15 | R28: =R$9 -> 0.7126834 | S28: 15 | T28: Х | U28: Х | V28: Х | W28: Х | X28: Х | Y28: Х | Z28: Х | AA28: Х | AB28: Х | AC28: Х | AD28: Х | AE28: Х | AF28: Х | AG28: Х | AH28: Х | AI28: Х | AJ28: =(B28*C28+F28*G28+J28*K28+N28*O28+R28*S28)/(C28+G28+K28+O28+S28) -> 1.0644891 | AK28: 1175 | AL28: =ROUND(AJ28*AK28,1) -> 1250.8 | AM28: =AL28-AK28 -> 75.8 | AN28: 235 | AO28: 120.6 | AP28: 116.4 | AQ28: 0 | AR28: 112.6 | AT28: 62.5 | AU28: 0 | AV28: 141.4 | AW28: 125.1 | AX28: 134.4 | AY28: 168.9 | AZ28: 78.4 | BB28: =ROUND(AL28-SUM(AN28:BA28),1) -> -44.5 | BI28: =IF(OR(BC28="+",BD28="+",BE28="+",BF28="+",BG28="+",BH28="+"),0,BB28) -> -44.5
A29: Муниципальные районы | D29: =SUM(D30:D56) -> 269330 | E29: =SUM(E30:E56) -> 284875.1 | F29: =IF(E29/D29>1.2,IF((E29/D29-1.2)*0.1+1.2>1.3,1.3,(E29/D29-1.2)*0.1+1.2),E29/D29) -> 1.0577177 | H29: =SUM(H30:H56) -> 27082 | I29: =SUM(I30:I56) -> 34366 | J29: =IF(I29/H29>1.2,IF((I29/H29-1.2)*0.1+1.2>1.3,1.3,(I29/H29-1.2)*0.1+1.2),I29/H29) -> 1.2068961 | L29: =SUM(L30:L56) -> 625.4 | M29: =SUM(M30:M56) -> 565.4 | N29: =IF(L29/M29>1.2,IF((L29/M29-1.2)*0.1+1.2>1.3,1.3,(L29/M29-1.2)*0.1+1.2),L29/M29) -> 1.1061196 | P29: =SUM(P30:P56) -> 699449 | Q29: =SUM(Q30:Q56) -> 883173 | R29: =IF(Q29/P29>1.2,IF((Q29/P29-1.2)*0.1+1.2>1.3,1.3,(Q29/P29-1.2)*0.1+1.2),Q29/P29) -> 1.206267 | T29: =SUM(T30:T56) -> 1774.5 | U29: =SUM(U30:U56) -> 1892.5475 | V29: =IF(U29/T29>1.2,IF((U29/T29-1.2)*0.1+1.2>1.3,1.3,(U29/T29-1.2)*0.1+1.2),U29/T29) -> 1.0665244 | X29: =SUM(X30:X56) -> 443537.4 | Y29: =SUM(Y30:Y56) -> 442865.03 | Z29: =IF(Y29/X29>1.2,IF((Y29/X29-1.2)*0.1+1.2>1.3,1.3,(Y29/X29-1.2)*0.1+1.2),Y29/X29) -> 0.99848407 | AB29: =SUM(AB30:AB56) -> 151305.9 | AC29: =SUM(AC30:AC56) -> 156351.55 | AD29: =IF(AC29/AB29>1.2,IF((AC29/AB29-1.2)*0.1+1.2>1.3,1.3,(AC29/AB29-1.2)*0.1+1.2),AC29/AB29) -> 1.0333473 | AK29: =SUM(AK30:AK56) -> 982597 | AL29: =SUM(AL30:AL56) -> 1045333.9 | AM29: =SUM(AM30:AM56) -> 62736.9 | AN29: =SUM(AN30:AN56) -> 0 | AO29: =SUM(AO30:AO56) -> 85676.1 | AP29: =SUM(AP30:AP56) -> 86160.9 | AQ29: =SUM(AQ30:AQ56) -> 75919.5 | AR29: =SUM(AR30:AR56) -> 96632.4 | ... BB29: =SUM(BB30:BB56) -> 30727.5 | BI29: =SUM(BI30:BI56) -> 29209.7 | BJ29: =SUM(BJ30:BJ56) -> 45843.3
A30: Алексеевский | B30: 1 | C30: 10 | D30: 2586 | E30: 2424.5 | F30: =IF(G30=0,0,IF(D30=0,1,IF(E30<0,0,IF(E30/D30>1.2,IF((E30/D30-1.2)*0.1+1.2>1.3,1.3,(E30/D30-1.2)*0.1+1.2),E30/D30)))) -> 0.93754834 | G30: 10 | H30: 760 | I30: 723 | J30: =IF(K30=0,0,IF(H30=0,1,IF(I30<0,0,IF(I30/H30>1.2,IF((I30/H30-1.2)*0.1+1.2>1.3,1.3,(I30/H30-1.2)*0.1+1.2),I30/H30)))) -> 0.95131579 | K30: 15 | L30: 7 | M30: 1.8 | N30: =IF(O30=0,0,IF(M30=0,1.3,IF(M30<0,0,IF(L30/M30>1.2,IF((L30/M30-1.2)*0.1+1.2>1.3,1.3,(L30/M30-1.2)*0.1+1.2),L30/M30)))) -> 1.3 | O30: 15 | P30: 2600 | Q30: 2621 | R30: =IF(S30=0,0,IF(P30=0,1,IF(Q30<0,0,IF(Q30/P30>1.2,IF((Q30/P30-1.2)*0.1+1.2>1.3,1.3,(Q30/P30-1.2)*0.1+1.2),Q30/P30)))) -> 1.0080769 | S30: 5 | T30: 45.4 | U30: 45.8276 | V30: =IF(W30=0,0,IF(T30=0,1,IF(U30<0,0,IF(U30/T30>1.2,IF((U30/T30-1.2)*0.1+1.2>1.3,1.3,(U30/T30-1.2)*0.1+1.2),U30/T30)))) -> 1.0094185 | W30: 10 | X30: 16535 | Y30: 19300.259 | Z30: =IF(AA30=0,0,IF(X30=0,1,IF(Y30<0,0,IF(Y30/X30>1.2,IF((Y30/X30-1.2)*0.1+1.2>1.3,1.3,(Y30/X30-1.2)*0.1+1.2),Y30/X30)))) -> 1.1672367 | AA30: 10 | AB30: 4782.3 | AC30: 5725.773 | AD30: =IF(AE30=0,0,IF(AB30=0,1,IF(AC30<0,0,IF(AC30/AB30>1.2,IF((AC30/AB30-1.2)*0.1+1.2>1.3,1.3,(AC30/AB30-1.2)*0.1+1.2),AC30/AB30)))) -> 1.1972844 | AE30: 10 | AF30: Х | AG30: Х | AH30: Х | AI30: Х | AJ30: =(B30*C30+F30*G30+J30*K30+N30*O30+R30*S30+V30*W30+Z30*AA30+AD30*AE30)/(C30+G30+K30+O30+S30+W30+AA30+AE30) -> 1.0814706 | AK30: 32550 | AL30: =ROUND(AJ30*AK30,1) -> 35201.9 | AM30: =AL30-AK30 -> 2651.9 | AO30: 2619.9 | AP30: 3007.4 | AQ30: 3404.7 | AR30: 1130.7 | AT30: 3402.9 | AU30: 4942.2 | AV30: 0 | AW30: 3238.9 | AX30: 7525.2 | AY30: 0 | AZ30: 2959.1 | BB30: =ROUND(AL30-SUM(AN30:BA30),1) -> 2970.9 | BI30: =IF(OR(BC30="+",BD30="+",BE30="+",BF30="+",BG30="+",BH30="+"),0,BB30) -> 2970.9 | BJ30: =ROUND(BI30+SUM(BI59:BI63),1) -> 3800.8
A31: Безенчукский | B31: 1 | C31: 10 | D31: 16937 | E31: 18759.6 | F31: =IF(G31=0,0,IF(D31=0,1,IF(E31<0,0,IF(E31/D31>1.2,IF((E31/D31-1.2)*0.1+1.2>1.3,1.3,(E31/D31-1.2)*0.1+1.2),E31/D31)))) -> 1.1076106 | G31: 10 | H31: 1004 | I31: 1047 | J31: =IF(K31=0,0,IF(H31=0,1,IF(I31<0,0,IF(I31/H31>1.2,IF((I31/H31-1.2)*0.1+1.2>1.3,1.3,(I31/H31-1.2)*0.1+1.2),I31/H31)))) -> 1.0428287 | K31: 15 | L31: 12.3 | M31: 6 | N31: =IF(O31=0,0,IF(M31=0,1.3,IF(M31<0,0,IF(L31/M31>1.2,IF((L31/M31-1.2)*0.1+1.2>1.3,1.3,(L31/M31-1.2)*0.1+1.2),L31/M31)))) -> 1.285 | O31: 15 | P31: 11000 | Q31: 14716 | R31: =IF(S31=0,0,IF(P31=0,1,IF(Q31<0,0,IF(Q31/P31>1.2,IF((Q31/P31-1.2)*0.1+1.2>1.3,1.3,(Q31/P31-1.2)*0.1+1.2),Q31/P31)))) -> 1.2137818 | S31: 5 | T31: 68.3 | U31: 74.11898 | V31: =IF(W31=0,0,IF(T31=0,1,IF(U31<0,0,IF(U31/T31>1.2,IF((U31/T31-1.2)*0.1+1.2>1.3,1.3,(U31/T31-1.2)*0.1+1.2),U31/T31)))) -> 1.0851974 | W31: 10 | X31: 19668.2 | Y31: 20997.864 | Z31: =IF(AA31=0,0,IF(X31=0,1,IF(Y31<0,0,IF(Y31/X31>1.2,IF((Y31/X31-1.2)*0.1+1.2>1.3,1.3,(Y31/X31-1.2)*0.1+1.2),Y31/X31)))) -> 1.0676048 | AA31: 10 | AB31: 3148 | AC31: 3234.2 | AD31: =IF(AE31=0,0,IF(AB31=0,1,IF(AC31<0,0,IF(AC31/AB31>1.2,IF((AC31/AB31-1.2)*0.1+1.2>1.3,1.3,(AC31/AB31-1.2)*0.1+1.2),AC31/AB31)))) -> 1.0273825 | AE31: 10 | AF31: Х | AG31: Х | AH31: Х | AI31: Х | AJ31: =(B31*C31+F31*G31+J31*K31+N31*O31+R31*S31+V31*W31+Z31*AA31+AD31*AE31)/(C31+G31+K31+O31+S31+W31+AA31+AE31) -> 1.1042858 | AK31: 38433 | AL31: =ROUND(AJ31*AK31,1) -> 42441 | AM31: =AL31-AK31 -> 4008 | AO31: 3925 | AP31: 3620.4 | AQ31: 4058.3 | AR31: 3751.1 | AT31: 3176.3 | AU31: 1801.3 | AV31: 6012.5 | AW31: 3453.7 | AX31: 6301.7 | AY31: 2628.2 | AZ31: 2565.3 | BB31: =ROUND(AL31-SUM(AN31:BA31),1) -> 1147.2 | BI31: =IF(OR(BC31="+",BD31="+",BE31="+",BF31="+",BG31="+",BH31="+"),0,BB31) -> 1147.2 | BJ31: =ROUND(BI31+SUM(BI65:BI76),1) -> 1433.7
A32: Богатовский | B32: 1 | C32: 10 | D32: 5419 | E32: 5264 | F32: =IF(G32=0,0,IF(D32=0,1,IF(E32<0,0,IF(E32/D32>1.2,IF((E32/D32-1.2)*0.1+1.2>1.3,1.3,(E32/D32-1.2)*0.1+1.2),E32/D32)))) -> 0.97139694 | G32: 10 | H32: 1004 | I32: 1004 | J32: =IF(K32=0,0,IF(H32=0,1,IF(I32<0,0,IF(I32/H32>1.2,IF((I32/H32-1.2)*0.1+1.2>1.3,1.3,(I32/H32-1.2)*0.1+1.2),I32/H32)))) -> 1 | K32: 15 | L32: 10.5 | M32: 0.7 | N32: =IF(O32=0,0,IF(M32=0,1.3,IF(M32<0,0,IF(L32/M32>1.2,IF((L32/M32-1.2)*0.1+1.2>1.3,1.3,(L32/M32-1.2)*0.1+1.2),L32/M32)))) -> 1.3 | O32: 15 | P32: 3420 | Q32: 5517 | R32: =IF(S32=0,0,IF(P32=0,1,IF(Q32<0,0,IF(Q32/P32>1.2,IF((Q32/P32-1.2)*0.1+1.2>1.3,1.3,(Q32/P32-1.2)*0.1+1.2),Q32/P32)))) -> 1.2413158 | S32: 5 | T32: 41.3 | U32: 44.9936 | V32: =IF(W32=0,0,IF(T32=0,1,IF(U32<0,0,IF(U32/T32>1.2,IF((U32/T32-1.2)*0.1+1.2>1.3,1.3,(U32/T32-1.2)*0.1+1.2),U32/T32)))) -> 1.0894334 | W32: 10 | X32: 16836 | Y32: 15829.038 | Z32: =IF(AA32=0,0,IF(X32=0,1,IF(Y32<0,0,IF(Y32/X32>1.2,IF((Y32/X32-1.2)*0.1+1.2>1.3,1.3,(Y32/X32-1.2)*0.1+1.2),Y32/X32)))) -> 0.94018995 | AA32: 10 | AB32: 3858.6 | AC32: 3347.027 | AD32: =IF(AE32=0,0,IF(AB32=0,1,IF(AC32<0,0,IF(AC32/AB32>1.2,IF((AC32/AB32-1.2)*0.1+1.2>1.3,1.3,(AC32/AB32-1.2)*0.1+1.2),AC32/AB32)))) -> 0.86742005 | AE32: 10 | AF32: Х | AG32: Х | AH32: Х | AI32: Х | AJ32: =(B32*C32+F32*G32+J32*K32+N32*O32+R32*S32+V32*W32+Z32*AA32+AD32*AE32)/(C32+G32+K32+O32+S32+W32+AA32+AE32) -> 1.0516586 | AK32: 32641 | AL32: =ROUND(AJ32*AK32,1) -> 34327.2 | AM32: =AL32-AK32 -> 1686.2 | AO32: 2759 | AP32: 2740.5 | AQ32: 3898.9 | AR32: 2513.2 | AT32: 2760.3 | AU32: 2191.9 | AV32: 4175.2 | AW32: 2855.1 | AX32: 6534.4 | AY32: 1850.7 | AZ32: 2274.9 | BB32: =ROUND(AL32-SUM(AN32:BA32),1) -> -226.9 | BI32: =IF(OR(BC32="+",BD32="+",BE32="+",BF32="+",BG32="+",BH32="+"),0,BB32) -> -226.9 | BJ32: =ROUND(BI32+SUM(BI78:BI82),1) -> -295.4
A33: Большеглушицкий | B33: 1 | C33: 10 | D33: 5063 | E33: 5034.6 | F33: =IF(G33=0,0,IF(D33=0,1,IF(E33<0,0,IF(E33/D33>1.2,IF((E33/D33-1.2)*0.1+1.2>1.3,1.3,(E33/D33-1.2)*0.1+1.2),E33/D33)))) -> 0.99439068 | G33: 10 | H33: 760 | I33: 767 | J33: =IF(K33=0,0,IF(H33=0,1,IF(I33<0,0,IF(I33/H33>1.2,IF((I33/H33-1.2)*0.1+1.2>1.3,1.3,(I33/H33-1.2)*0.1+1.2),I33/H33)))) -> 1.0092105 | K33: 15 | L33: 3.1 | M33: 3 | N33: =IF(O33=0,0,IF(M33=0,1.3,IF(M33<0,0,IF(L33/M33>1.2,IF((L33/M33-1.2)*0.1+1.2>1.3,1.3,(L33/M33-1.2)*0.1+1.2),L33/M33)))) -> 1.0333333 | O33: 15 | P33: 4280 | Q33: 4331 | R33: =IF(S33=0,0,IF(P33=0,1,IF(Q33<0,0,IF(Q33/P33>1.2,IF((Q33/P33-1.2)*0.1+1.2>1.3,1.3,(Q33/P33-1.2)*0.1+1.2),Q33/P33)))) -> 1.0119159 | S33: 5 | T33: 79.3 | U33: 82.9335 | V33: =IF(W33=0,0,IF(T33=0,1,IF(U33<0,0,IF(U33/T33>1.2,IF((U33/T33-1.2)*0.1+1.2>1.3,1.3,(U33/T33-1.2)*0.1+1.2),U33/T33)))) -> 1.0458197 | W33: 10 | X33: 16933.7 | Y33: 17482.117 | Z33: =IF(AA33=0,0,IF(X33=0,1,IF(Y33<0,0,IF(Y33/X33>1.2,IF((Y33/X33-1.2)*0.1+1.2>1.3,1.3,(Y33/X33-1.2)*0.1+1.2),Y33/X33)))) -> 1.0323861 | AA33: 10 | AB33: 4530.8 | AC33: 3930.854 | AD33: =IF(AE33=0,0,IF(AB33=0,1,IF(AC33<0,0,IF(AC33/AB33>1.2,IF((AC33/AB33-1.2)*0.1+1.2>1.3,1.3,(AC33/AB33-1.2)*0.1+1.2),AC33/AB33)))) -> 0.86758497 | AE33: 10 | AF33: Х | AG33: Х | AH33: Х | AI33: Х | AJ33: =(B33*C33+F33*G33+J33*K33+N33*O33+R33*S33+V33*W33+Z33*AA33+AD33*AE33)/(C33+G33+K33+O33+S33+W33+AA33+AE33) -> 1.0011712 | AK33: 31736 | AL33: =ROUND(AJ33*AK33,1) -> 31773.2 | AM33: =AL33-AK33 -> 37.2 | AO33: 2112.8 | AP33: 2383 | AQ33: 3845.7 | AR33: 2902.7 | AT33: 2230.1 | AU33: 3012.9 | AV33: 3091.3 | AW33: 2582.8 | AX33: 4290.9 | AY33: 1238.2 | AZ33: 4473 | BB33: =ROUND(AL33-SUM(AN33:BA33),1) -> -390.2 | BI33: =IF(OR(BC33="+",BD33="+",BE33="+",BF33="+",BG33="+",BH33="+"),0,BB33) -> -390.2 | BJ33: =ROUND(BI33+SUM(BI84:BI91),1) -> -481.3
A34: Большечерниговский | B34: 1 | C34: 10 | D34: 4093 | E34: 4259.9 | F34: =IF(G34=0,0,IF(D34=0,1,IF(E34<0,0,IF(E34/D34>1.2,IF((E34/D34-1.2)*0.1+1.2>1.3,1.3,(E34/D34-1.2)*0.1+1.2),E34/D34)))) -> 1.0407769 | G34: 10 | H34: 760 | I34: 779 | J34: =IF(K34=0,0,IF(H34=0,1,IF(I34<0,0,IF(I34/H34>1.2,IF((I34/H34-1.2)*0.1+1.2>1.3,1.3,(I34/H34-1.2)*0.1+1.2),I34/H34)))) -> 1.025 | K34: 15 | L34: 2.5 | M34: 4 | N34: =IF(O34=0,0,IF(M34=0,1.3,IF(M34<0,0,IF(L34/M34>1.2,IF((L34/M34-1.2)*0.1+1.2>1.3,1.3,(L34/M34-1.2)*0.1+1.2),L34/M34)))) -> 0.625 | O34: 15 | P34: 2500 | Q34: 2630 | R34: =IF(S34=0,0,IF(P34=0,1,IF(Q34<0,0,IF(Q34/P34>1.2,IF((Q34/P34-1.2)*0.1+1.2>1.3,1.3,(Q34/P34-1.2)*0.1+1.2),Q34/P34)))) -> 1.052 | S34: 5 | T34: 70 | U34: 70.4107 | V34: =IF(W34=0,0,IF(T34=0,1,IF(U34<0,0,IF(U34/T34>1.2,IF((U34/T34-1.2)*0.1+1.2>1.3,1.3,(U34/T34-1.2)*0.1+1.2),U34/T34)))) -> 1.0058671 | W34: 10 | X34: 32355 | Y34: 32247.293 | Z34: =IF(AA34=0,0,IF(X34=0,1,IF(Y34<0,0,IF(Y34/X34>1.2,IF((Y34/X34-1.2)*0.1+1.2>1.3,1.3,(Y34/X34-1.2)*0.1+1.2),Y34/X34)))) -> 0.99667109 | AA34: 10 | AB34: 5359 | AC34: 5293.872 | AD34: =IF(AE34=0,0,IF(AB34=0,1,IF(AC34<0,0,IF(AC34/AB34>1.2,IF((AC34/AB34-1.2)*0.1+1.2>1.3,1.3,(AC34/AB34-1.2)*0.1+1.2),AC34/AB34)))) -> 0.98784699 | AE34: 10 | AF34: Х | AG34: Х | AH34: Х | AI34: Х | AJ34: =(B34*C34+F34*G34+J34*K34+N34*O34+R34*S34+V34*W34+Z34*AA34+AD34*AE34)/(C34+G34+K34+O34+S34+W34+AA34+AE34) -> 0.94496025 | AK34: 41942 | AL34: =ROUND(AJ34*AK34,1) -> 39633.5 | AM34: =AL34-AK34 -> -2308.5 | AO34: 4074.1 | AP34: 3771.8 | AQ34: 3615.6 | AR34: 3967.3 | AT34: 3618.6 | AU34: 4475.2 | AV34: 1449 | AW34: 4338.8 | AX34: 9402.5 | AY34: 140.8 | AZ34: 3620.3 | BB34: =ROUND(AL34-SUM(AN34:BA34),1) -> -2840.5 | BI34: =IF(OR(BC34="+",BD34="+",BE34="+",BF34="+",BG34="+",BH34="+"),0,BB34) -> -2840.5 | BJ34: =ROUND(BI34+SUM(BI93:BI101),1) -> -4104.3
A35: Борский | B35: 1 | C35: 10 | D35: 5666 | E35: 6164.9 | F35: =IF(G35=0,0,IF(D35=0,1,IF(E35<0,0,IF(E35/D35>1.2,IF((E35/D35-1.2)*0.1+1.2>1.3,1.3,(E35/D35-1.2)*0.1+1.2),E35/D35)))) -> 1.0880515 | G35: 10 | H35: 1004 | I35: 1007 | J35: =IF(K35=0,0,IF(H35=0,1,IF(I35<0,0,IF(I35/H35>1.2,IF((I35/H35-1.2)*0.1+1.2>1.3,1.3,(I35/H35-1.2)*0.1+1.2),I35/H35)))) -> 1.002988 | K35: 15 | L35: 7 | M35: 0 | N35: =IF(O35=0,0,IF(M35=0,1.3,IF(M35<0,0,IF(L35/M35>1.2,IF((L35/M35-1.2)*0.1+1.2>1.3,1.3,(L35/M35-1.2)*0.1+1.2),L35/M35)))) -> 1.3 | O35: 15 | P35: 4740 | Q35: 10238 | R35: =IF(S35=0,0,IF(P35=0,1,IF(Q35<0,0,IF(Q35/P35>1.2,IF((Q35/P35-1.2)*0.1+1.2>1.3,1.3,(Q35/P35-1.2)*0.1+1.2),Q35/P35)))) -> 1.2959916 | S35: 5 | T35: 53.9 | U35: 50.0045 | V35: =IF(W35=0,0,IF(T35=0,1,IF(U35<0,0,IF(U35/T35>1.2,IF((U35/T35-1.2)*0.1+1.2>1.3,1.3,(U35/T35-1.2)*0.1+1.2),U35/T35)))) -> 0.92772727 | W35: 10 | X35: 12350 | Y35: 12353.3 | Z35: =IF(AA35=0,0,IF(X35=0,1,IF(Y35<0,0,IF(Y35/X35>1.2,IF((Y35/X35-1.2)*0.1+1.2>1.3,1.3,(Y35/X35-1.2)*0.1+1.2),Y35/X35)))) -> 1.0002672 | AA35: 10 | AB35: 3595.6 | AC35: 2706.38 | AD35: =IF(AE35=0,0,IF(AB35=0,1,IF(AC35<0,0,IF(AC35/AB35>1.2,IF((AC35/AB35-1.2)*0.1+1.2>1.3,1.3,(AC35/AB35-1.2)*0.1+1.2),AC35/AB35)))) -> 0.75269218 | AE35: 10 | AF35: Х | AG35: Х | AH35: Х | AI35: Х | AJ35: =(B35*C35+F35*G35+J35*K35+N35*O35+R35*S35+V35*W35+Z35*AA35+AD35*AE35)/(C35+G35+K35+O35+S35+W35+AA35+AE35) -> 1.0436725 | AK35: 43648 | AL35: =ROUND(AJ35*AK35,1) -> 45554.2 | AM35: =AL35-AK35 -> 1906.2 | AO35: 4584.6 | AP35: 4462.8 | AQ35: 4666.4 | AR35: 4531 | AT35: 4171.9 | AU35: 2588.9 | AV35: 4957.9 | AW35: 3993 | AX35: 7036.7 | AY35: 806.8 | AZ35: 3404.5 | BB35: =ROUND(AL35-SUM(AN35:BA35),1) -> 349.7 | BI35: =IF(OR(BC35="+",BD35="+",BE35="+",BF35="+",BG35="+",BH35="+"),0,BB35) -> 349.7 | BJ35: =ROUND(BI35+SUM(BI103:BI115),1) -> 497.7
A36: Волжский | B36: 1 | C36: 10 | D36: 39139 | E36: 44777.9 | F36: =IF(G36=0,0,IF(D36=0,1,IF(E36<0,0,IF(E36/D36>1.2,IF((E36/D36-1.2)*0.1+1.2>1.3,1.3,(E36/D36-1.2)*0.1+1.2),E36/D36)))) -> 1.1440737 | G36: 10 | H36: 1562 | I36: 2359 | J36: =IF(K36=0,0,IF(H36=0,1,IF(I36<0,0,IF(I36/H36>1.2,IF((I36/H36-1.2)*0.1+1.2>1.3,1.3,(I36/H36-1.2)*0.1+1.2),I36/H36)))) -> 1.2310243 | K36: 15 | L36: 96.5 | M36: 90.8 | N36: =IF(O36=0,0,IF(M36=0,1.3,IF(M36<0,0,IF(L36/M36>1.2,IF((L36/M36-1.2)*0.1+1.2>1.3,1.3,(L36/M36-1.2)*0.1+1.2),L36/M36)))) -> 1.0627753 | O36: 15 | P36: 367010 | Q36: 398809 | R36: =IF(S36=0,0,IF(P36=0,1,IF(Q36<0,0,IF(Q36/P36>1.2,IF((Q36/P36-1.2)*0.1+1.2>1.3,1.3,(Q36/P36-1.2)*0.1+1.2),Q36/P36)))) -> 1.0866434 | S36: 5 | T36: 52.9 | U36: 53.40305 | V36: =IF(W36=0,0,IF(T36=0,1,IF(U36<0,0,IF(U36/T36>1.2,IF((U36/T36-1.2)*0.1+1.2>1.3,1.3,(U36/T36-1.2)*0.1+1.2),U36/T36)))) -> 1.0095095 | W36: 10 | X36: 17004 | Y36: 17843.563 | Z36: =IF(AA36=0,0,IF(X36=0,1,IF(Y36<0,0,IF(Y36/X36>1.2,IF((Y36/X36-1.2)*0.1+1.2>1.3,1.3,(Y36/X36-1.2)*0.1+1.2),Y36/X36)))) -> 1.0493744 | AA36: 10 | AB36: 4127 | AC36: 4341.89 | AD36: =IF(AE36=0,0,IF(AB36=0,1,IF(AC36<0,0,IF(AC36/AB36>1.2,IF((AC36/AB36-1.2)*0.1+1.2>1.3,1.3,(AC36/AB36-1.2)*0.1+1.2),AC36/AB36)))) -> 1.0520693 | AE36: 10 | AF36: Х | AG36: Х | AH36: Х | AI36: Х | AJ36: =(B36*C36+F36*G36+J36*K36+N36*O36+R36*S36+V36*W36+Z36*AA36+AD36*AE36)/(C36+G36+K36+O36+S36+W36+AA36+AE36) -> 1.0869468 | AK36: 29860 | AL36: =ROUND(AJ36*AK36,1) -> 32456.2 | AM36: =AL36-AK36 -> 2596.2 | AO36: 2730.5 | AP36: 3041.6 | AQ36: 1590 | AR36: 3066.1 | AT36: 2467.9 | AU36: 2395.7 | AV36: 3609.6 | AW36: 2787.8 | AX36: 2619.2 | AY36: 4209.1 | AZ36: 2349.8 | BA36: 1145 | BB36: =ROUND(AL36-SUM(AN36:BA36),1) -> 443.9 | BI36: =IF(OR(BC36="+",BD36="+",BE36="+",BF36="+",BG36="+",BH36="+"),0,BB36) -> 443.9 | BJ36: =ROUND(BI36+SUM(BI117:BI131),1) -> 1348.7
A37: Елховский | B37: 1 | C37: 10 | D37: 2312 | E37: 2385.3 | F37: =IF(G37=0,0,IF(D37=0,1,IF(E37<0,0,IF(E37/D37>1.2,IF((E37/D37-1.2)*0.1+1.2>1.3,1.3,(E37/D37-1.2)*0.1+1.2),E37/D37)))) -> 1.0317042 | G37: 10 | H37: 760 | I37: 819 | J37: =IF(K37=0,0,IF(H37=0,1,IF(I37<0,0,IF(I37/H37>1.2,IF((I37/H37-1.2)*0.1+1.2>1.3,1.3,(I37/H37-1.2)*0.1+1.2),I37/H37)))) -> 1.0776316 | K37: 15 | L37: 7.5 | M37: 9 | N37: =IF(O37=0,0,IF(M37=0,1.3,IF(M37<0,0,IF(L37/M37>1.2,IF((L37/M37-1.2)*0.1+1.2>1.3,1.3,(L37/M37-1.2)*0.1+1.2),L37/M37)))) -> 0.83333333 | O37: 15 | P37: 2500 | Q37: 2631 | R37: =IF(S37=0,0,IF(P37=0,1,IF(Q37<0,0,IF(Q37/P37>1.2,IF((Q37/P37-1.2)*0.1+1.2>1.3,1.3,(Q37/P37-1.2)*0.1+1.2),Q37/P37)))) -> 1.0524 | S37: 5 | T37: 53.3 | U37: 47.9179 | V37: =IF(W37=0,0,IF(T37=0,1,IF(U37<0,0,IF(U37/T37>1.2,IF((U37/T37-1.2)*0.1+1.2>1.3,1.3,(U37/T37-1.2)*0.1+1.2),U37/T37)))) -> 0.89902251 | W37: 10 | X37: 6698 | Y37: 5931.414 | Z37: =IF(AA37=0,0,IF(X37=0,1,IF(Y37<0,0,IF(Y37/X37>1.2,IF((Y37/X37-1.2)*0.1+1.2>1.3,1.3,(Y37/X37-1.2)*0.1+1.2),Y37/X37)))) -> 0.88555001 | AA37: 10 | AB37: 1304 | AC37: 913.799 | AD37: =IF(AE37=0,0,IF(AB37=0,1,IF(AC37<0,0,IF(AC37/AB37>1.2,IF((AC37/AB37-1.2)*0.1+1.2>1.3,1.3,(AC37/AB37-1.2)*0.1+1.2),AC37/AB37)))) -> 0.7007661 | AE37: 10 | AF37: Х | AG37: Х | AH37: Х | AI37: Х | AJ37: =(B37*C37+F37*G37+J37*K37+N37*O37+R37*S37+V37*W37+Z37*AA37+AD37*AE37)/(C37+G37+K37+O37+S37+W37+AA37+AE37) -> 0.93055178 | AK37: 21008 | AL37: =ROUND(AJ37*AK37,1) -> 19549 | AM37: =AL37-AK37 -> -1459 | AO37: 1926.3 | AP37: 1488.6 | AQ37: 1179.4 | AR37: 2052.1 | AT37: 1958.8 | AU37: 1965.1 | AV37: 1516.1 | AW37: 1289.9 | AX37: 367.3 | AY37: 2234.8 | AZ37: 3856.9 | BB37: =ROUND(AL37-SUM(AN37:BA37),1) -> -286.3 | BI37: =IF(OR(BC37="+",BD37="+",BE37="+",BF37="+",BG37="+",BH37="+"),0,BB37) -> -286.3 | BJ37: =ROUND(BI37+SUM(BI133:BI139),1) -> -420.8
A38: Исаклинский | B38: 1 | C38: 10 | D38: 3168 | E38: 3165 | F38: =IF(G38=0,0,IF(D38=0,1,IF(E38<0,0,IF(E38/D38>1.2,IF((E38/D38-1.2)*0.1+1.2>1.3,1.3,(E38/D38-1.2)*0.1+1.2),E38/D38)))) -> 0.99905303 | G38: 10 | H38: 760 | I38: 1334 | J38: =IF(K38=0,0,IF(H38=0,1,IF(I38<0,0,IF(I38/H38>1.2,IF((I38/H38-1.2)*0.1+1.2>1.3,1.3,(I38/H38-1.2)*0.1+1.2),I38/H38)))) -> 1.2555263 | K38: 15 | L38: 2.4 | M38: 1.6 | N38: =IF(O38=0,0,IF(M38=0,1.3,IF(M38<0,0,IF(L38/M38>1.2,IF((L38/M38-1.2)*0.1+1.2>1.3,1.3,(L38/M38-1.2)*0.1+1.2),L38/M38)))) -> 1.23 | O38: 15 | P38: 4000 | Q38: 4814 | R38: =IF(S38=0,0,IF(P38=0,1,IF(Q38<0,0,IF(Q38/P38>1.2,IF((Q38/P38-1.2)*0.1+1.2>1.3,1.3,(Q38/P38-1.2)*0.1+1.2),Q38/P38)))) -> 1.20035 | S38: 5 | T38: 36 | U38: 36.6533 | V38: =IF(W38=0,0,IF(T38=0,1,IF(U38<0,0,IF(U38/T38>1.2,IF((U38/T38-1.2)*0.1+1.2>1.3,1.3,(U38/T38-1.2)*0.1+1.2),U38/T38)))) -> 1.0181472 | W38: 10 | X38: 23501 | Y38: 22910.901 | Z38: =IF(AA38=0,0,IF(X38=0,1,IF(Y38<0,0,IF(Y38/X38>1.2,IF((Y38/X38-1.2)*0.1+1.2>1.3,1.3,(Y38/X38-1.2)*0.1+1.2),Y38/X38)))) -> 0.97489047 | AA38: 10 | AB38: 2800 | AC38: 2878.631 | AD38: =IF(AE38=0,0,IF(AB38=0,1,IF(AC38<0,0,IF(AC38/AB38>1.2,IF((AC38/AB38-1.2)*0.1+1.2>1.3,1.3,(AC38/AB38-1.2)*0.1+1.2),AC38/AB38)))) -> 1.0280825 | AE38: 10 | AF38: Х | AG38: Х | AH38: Х | AI38: Х | AJ38: =(B38*C38+F38*G38+J38*K38+N38*O38+R38*S38+V38*W38+Z38*AA38+AD38*AE38)/(C38+G38+K38+O38+S38+W38+AA38+AE38) -> 1.0998397 | AK38: 44585 | AL38: =ROUND(AJ38*AK38,1) -> 49036.4 | AM38: =AL38-AK38 -> 4451.4 | AO38: 4100.8 | AP38: 4264.7 | AQ38: 4478.2 | AR38: 4105.4 | AT38: 3976.6 | AU38: 3481.7 | AV38: 7558.8 | AW38: 4548.7 | AX38: 3210.9 | AY38: 5925.9 | AZ38: 2975.9 | BB38: =ROUND(AL38-SUM(AN38:BA38),1) -> 408.8 | BI38: =IF(OR(BC38="+",BD38="+",BE38="+",BF38="+",BG38="+",BH38="+"),0,BB38) -> 408.8 | BJ38: =ROUND(BI38+SUM(BI141:BI148),1) -> 491.9
A39: Камышлинский | B39: 1 | C39: 10 | D39: 2400 | E39: 2512.6 | F39: =IF(G39=0,0,IF(D39=0,1,IF(E39<0,0,IF(E39/D39>1.2,IF((E39/D39-1.2)*0.1+1.2>1.3,1.3,(E39/D39-1.2)*0.1+1.2),E39/D39)))) -> 1.0469167 | G39: 10 | H39: 760 | I39: 763 | J39: =IF(K39=0,0,IF(H39=0,1,IF(I39<0,0,IF(I39/H39>1.2,IF((I39/H39-1.2)*0.1+1.2>1.3,1.3,(I39/H39-1.2)*0.1+1.2),I39/H39)))) -> 1.0039474 | K39: 15 | L39: 2.5 | M39: 2.1 | N39: =IF(O39=0,0,IF(M39=0,1.3,IF(M39<0,0,IF(L39/M39>1.2,IF((L39/M39-1.2)*0.1+1.2>1.3,1.3,(L39/M39-1.2)*0.1+1.2),L39/M39)))) -> 1.1904762 | O39: 15 | P39: 2200 | Q39: 2236 | R39: =IF(S39=0,0,IF(P39=0,1,IF(Q39<0,0,IF(Q39/P39>1.2,IF((Q39/P39-1.2)*0.1+1.2>1.3,1.3,(Q39/P39-1.2)*0.1+1.2),Q39/P39)))) -> 1.0163636 | S39: 5 | T39: 13.2 | U39: 26.9921 | V39: =IF(W39=0,0,IF(T39=0,1,IF(U39<0,0,IF(U39/T39>1.2,IF((U39/T39-1.2)*0.1+1.2>1.3,1.3,(U39/T39-1.2)*0.1+1.2),U39/T39)))) -> 1.2844856 | W39: 10 | X39: 4400 | Y39: 4143.519 | Z39: =IF(AA39=0,0,IF(X39=0,1,IF(Y39<0,0,IF(Y39/X39>1.2,IF((Y39/X39-1.2)*0.1+1.2>1.3,1.3,(Y39/X39-1.2)*0.1+1.2),Y39/X39)))) -> 0.94170886 | AA39: 10 | AB39: 820.9 | AC39: 988.063 | AD39: =IF(AE39=0,0,IF(AB39=0,1,IF(AC39<0,0,IF(AC39/AB39>1.2,IF((AC39/AB39-1.2)*0.1+1.2>1.3,1.3,(AC39/AB39-1.2)*0.1+1.2),AC39/AB39)))) -> 1.2003634 | AE39: 10 | AF39: Х | AG39: Х | AH39: Х | AI39: Х | AJ39: =(B39*C39+F39*G39+J39*K39+N39*O39+R39*S39+V39*W39+Z39*AA39+AD39*AE39)/(C39+G39+K39+O39+S39+W39+AA39+AE39) -> 1.0909755 | AK39: 47144 | AL39: =ROUND(AJ39*AK39,1) -> 51432.9 | AM39: =AL39-AK39 -> 4288.9 | AO39: 2452.1 | AP39: 2515.4 | AQ39: 1635.1 | AR39: 9027.6 | AS39: 7590 | AT39: 3329.7 | AU39: 0 | AV39: 2972.7 | AW39: 4234.8 | AX39: 6123.2 | AY39: 3016.4 | AZ39: 6918.6 | BB39: =ROUND(AL39-SUM(AN39:BA39),1) -> 1617.3 | BI39: =IF(OR(BC39="+",BD39="+",BE39="+",BF39="+",BG39="+",BH39="+"),0,BB39) -> 1617.3 | BJ39: =ROUND(BI39+SUM(BI150:BI155),1) -> 1899.3
A40: Кинельский | B40: 1 | C40: 10 | D40: 7025 | E40: 7139.8 | F40: =IF(G40=0,0,IF(D40=0,1,IF(E40<0,0,IF(E40/D40>1.2,IF((E40/D40-1.2)*0.1+1.2>1.3,1.3,(E40/D40-1.2)*0.1+1.2),E40/D40)))) -> 1.0163416 | G40: 10 | H40: 1900 | I40: 1901 | J40: =IF(K40=0,0,IF(H40=0,1,IF(I40<0,0,IF(I40/H40>1.2,IF((I40/H40-1.2)*0.1+1.2>1.3,1.3,(I40/H40-1.2)*0.1+1.2),I40/H40)))) -> 1.0005263 | K40: 15 | L40: 1.6 | M40: 0.9 | N40: =IF(O40=0,0,IF(M40=0,1.3,IF(M40<0,0,IF(L40/M40>1.2,IF((L40/M40-1.2)*0.1+1.2>1.3,1.3,(L40/M40-1.2)*0.1+1.2),L40/M40)))) -> 1.2577778 | O40: 15 | P40: 23500 | Q40: 30338 | R40: =IF(S40=0,0,IF(P40=0,1,IF(Q40<0,0,IF(Q40/P40>1.2,IF((Q40/P40-1.2)*0.1+1.2>1.3,1.3,(Q40/P40-1.2)*0.1+1.2),Q40/P40)))) -> 1.2090979 | S40: 5 | T40: 64.2 | U40: 81.0492 | V40: =IF(W40=0,0,IF(T40=0,1,IF(U40<0,0,IF(U40/T40>1.2,IF((U40/T40-1.2)*0.1+1.2>1.3,1.3,(U40/T40-1.2)*0.1+1.2),U40/T40)))) -> 1.2062449 | W40: 10 | X40: 23000 | Y40: 25204.816 | Z40: =IF(AA40=0,0,IF(X40=0,1,IF(Y40<0,0,IF(Y40/X40>1.2,IF((Y40/X40-1.2)*0.1+1.2>1.3,1.3,(Y40/X40-1.2)*0.1+1.2),Y40/X40)))) -> 1.0958616 | AA40: 10 | AB40: 8600 | AC40: 11378.817 | AD40: =IF(AE40=0,0,IF(AB40=0,1,IF(AC40<0,0,IF(AC40/AB40>1.2,IF((AC40/AB40-1.2)*0.1+1.2>1.3,1.3,(AC40/AB40-1.2)*0.1+1.2),AC40/AB40)))) -> 1.2123118 | AE40: 10 | AF40: Х | AG40: Х | AH40: Х | AI40: Х | AJ40: =(B40*C40+F40*G40+J40*K40+N40*O40+R40*S40+V40*W40+Z40*AA40+AD40*AE40)/(C40+G40+K40+O40+S40+W40+AA40+AE40) -> 1.1203253 | AK40: 7497 | AL40: =ROUND(AJ40*AK40,1) -> 8399.1 | AM40: =AL40-AK40 -> 902.1 | AO40: 668.7 | AP40: 646.1 | AQ40: 710.9 | AR40: 848.2 | AT40: 595.7 | AU40: 659.1 | AV40: 753.4 | AW40: 671.5 | AX40: 1428.9 | AY40: 432.3 | AZ40: 522.2 | BB40: =ROUND(AL40-SUM(AN40:BA40),1) -> 462.1 | BI40: =IF(OR(BC40="+",BD40="+",BE40="+",BF40="+",BG40="+",BH40="+"),0,BB40) -> 462.1 | BJ40: =ROUND(BI40+SUM(BI157:BI168),1) -> 2094.6
...

Sheet Плюсы и минусы
A1: Факторный анализ влияния отдельных показателей на итоговое распределение за 2019 год
AD2: тыс. рублей
A3: Наименование муниципального образования | B3: +/- по итогам отчётного периода | C3: Отсутствие просроченной кредиторской задолженности местного бюджета (консолидированного бюджета городского округа с внутригородским делением, консолидированного бюджета муниципального района) | F3: Объем алкогольной продукции, зафиксированный в единой государственной автоматизированной информационной системе | I3: Эффективность муниципального земельного контроля | L3: Уровень задолженности предприятий жилищно-коммунального хозяйства за ранее потребленные топливно-энергетические ресурсы | O3: Общая площадь введенного в эксплуатацию жилья с учетом индивидуального жилищного строительства | R3: Валовой сбор зерна в весе после доработки | U3: Производство молока во всех категориях хозяйств | X3: Производство скота и птицы на убой (в живом весе) во всех категориях хозяйств | AA3: Численность занятых в сфере малого и среднего предпринимательства | AD3: Общая сумма весов влияния
C4: Отклонение от прогноза | D4: Вес влияния на результат | E4: + / - (5)=(2)*(4)/(30) | F4: Отклонение от прогноза | G4: Вес влияния на результат | H4: + / - (8)=(2)*(7)/(30) | I4: Отклонение от прогноза | J4: Вес влияния на результат | K4: + / - (11)=(2)*(10)/(30) | L4: Отклонение от прогноза | M4: Вес влияния на результат | N4: + / - (14)=(2)*(13)/(30) | O4: Отклонение от прогноза | P4: Вес влияния на результат | Q4: + / - (17)=(2)*(16)/(30) | R4: Отклонение от прогноза | S4: Вес влияния на результат | T4: + / - (20)=(2)*(19)/(30) | U4: Отклонение от прогноза | V4: Вес влияния на результат | W4: + / - (14)=(2)*(13)/(15) | X4: Отклонение от прогноза | Y4: Вес влияния на результат | Z4: + / - (14)=(2)*(13)/(15) | AA4: Отклонение от прогноза | AB4: Вес влияния на результат | AC4: + / - (29)=(2)*(28)/(30)
A5: 1 | B5: 2 | C5: 3 | D5: 4 | E5: 5 | F5: 6 | G5: 7 | H5: 8 | I5: 9 | J5: 10 | K5: 11 | L5: 12 | M5: 13 | N5: 14 | O5: 15 | P5: 16 | Q5: 17 | R5: 18 | S5: 19 | T5: 20 | U5: 21 | V5: 22 | W5: 23 | X5: 24 | Y5: 25 | Z5: 26 | AA5: 27 | AB5: 28 | AC5: 29 | AD5: 30
A6: Городские округа | B6: =SUM(B7:B16) -> 69304.8 | E6: =SUM(E7:E16) -> 0 | H6: =SUM(H7:H16) -> 23921.859 | K6: =SUM(K7:K16) -> 55111.091 | N6: =SUM(N7:N16) -> 40413.34 | Q6: =SUM(Q7:Q16) -> -50141.49
A7: Самара | B7: ='Расчет дотаций'!AM9 -> 15149.6 | C7: ='Расчет дотаций'!B9-1 -> 0 | D7: =C7*'Расчет дотаций'!C9 -> 0 | E7: =$B7*D7/$AD7 -> 0 | F7: ='Расчет дотаций'!F9-1 -> 0.086116555 | G7: =F7*'Расчет дотаций'!G9 -> 1.2917483 | H7: =$B7*G7/$AD7 -> 4781.0549 | I7: ='Расчет дотаций'!J9-1 -> 0.24670007 | J7: =I7*'Расчет дотаций'!K9 -> 4.9340014 | K7: =$B7*J7/$AD7 -> 18261.864 | L7: ='Расчет дотаций'!N9-1 -> 0.14514182 | M7: =L7*'Расчет дотаций'!O9 -> 2.1771273 | N7: =$B7*M7/$AD7 -> 8058.0444 | O7: ='Расчет дотаций'!R9-1 -> -0.2873166 | P7: =O7*'Расчет дотаций'!S9 -> -4.309749 | Q7: =$B7*P7/$AD7 -> -15951.363 | R7: Х | S7: Х | T7: Х | U7: Х | V7: Х | W7: Х | X7: Х | Y7: Х | Z7: Х | AA7: н/д | AB7: н/д | AC7: н/д | AD7: =D7+G7+J7+M7+P7 -> 4.0931281
A8: Тольятти | B8: ='Расчет дотаций'!AM10 -> 11674.7 | C8: ='Расчет дотаций'!B10-1 -> 0 | D8: =C8*'Расчет дотаций'!C10 -> 0 | E8: =$B8*D8/$AD8 -> 0 | F8: ='Расчет дотаций'!F10-1 -> 0.077912276 | G8: =F8*'Расчет дотаций'!G10 -> 1.1686841 | H8: =$B8*G8/$AD8 -> 10412.156 | I8: ='Расчет дотаций'!J10-1 -> 0.10106157 | J8: =I8*'Расчет дотаций'!K10 -> 2.0212314 | K8: =$B8*J8/$AD8 -> 18007.754 | L8: ='Расчет дотаций'!N10-1 -> 0.20184655 | M8: =L8*'Расчет дотаций'!O10 -> 3.0276983 | N8: =$B8*M8/$AD8 -> 26974.667 | O8: ='Расчет дотаций'!R10-1 -> -0.32714792 | P8: =O8*'Расчет дотаций'!S10 -> -4.9072189 | Q8: =$B8*P8/$AD8 -> -43719.876 | R8: Х | S8: Х | T8: Х | U8: Х | V8: Х | W8: Х | X8: Х | Y8: Х | Z8: Х | AA8: н/д | AB8: н/д | AC8: н/д | AD8: =D8+G8+J8+M8+P8 -> 1.310395
A9: Сызрань | B9: ='Расчет дотаций'!AM11 -> -1855.4 | C9: ='Расчет дотаций'!B11-1 -> 0 | D9: =C9*'Расчет дотаций'!C11 -> 0 | E9: =$B9*D9/$AD9 -> 0 | F9: ='Расчет дотаций'!F11-1 -> 0.030084942 | G9: =F9*'Расчет дотаций'!G11 -> 0.45127413 | H9: =$B9*G9/$AD9 -> 945.80529 | I9: ='Расчет дотаций'!J11-1 -> 0.069293478 | J9: =I9*'Расчет дотаций'!K11 -> 1.3858696 | K9: =$B9*J9/$AD9 -> 2904.5821 | L9: ='Расчет дотаций'!N11-1 -> -0.14353141 | M9: =L9*'Расчет дотаций'!O11 -> -2.1529712 | N9: =$B9*M9/$AD9 -> -4512.3161 | O9: ='Расчет дотаций'!R11-1 -> -0.037962901 | P9: =O9*'Расчет дотаций'!S11 -> -0.56944352 | Q9: =$B9*P9/$AD9 -> -1193.4712 | R9: Х | S9: Х | T9: Х | U9: Х | V9: Х | W9: Х | X9: Х | Y9: Х | Z9: Х | AA9: н/д | AB9: н/д | AC9: н/д | AD9: =D9+G9+J9+M9+P9 -> -0.88527104
A10: Новокуйбышевск | B10: ='Расчет дотаций'!AM12 -> 5801.2 | C10: ='Расчет дотаций'!B12-1 -> 0 | D10: =C10*'Расчет дотаций'!C12 -> 0 | E10: =$B10*D10/$AD10 -> 0 | F10: ='Расчет дотаций'!F12-1 -> 0.029700702 | G10: =F10*'Расчет дотаций'!G12 -> 0.44551052 | H10: =$B10*G10/$AD10 -> 401.12211 | I10: ='Расчет дотаций'!J12-1 -> 0.069290976 | J10: =I10*'Расчет дотаций'!K12 -> 1.3858195 | K10: =$B10*J10/$AD10 -> 1247.7435 | L10: ='Расчет дотаций'!N12-1 -> 0.2684901 | M10: =L10*'Расчет дотаций'!O12 -> 4.0273515 | N10: =$B10*M10/$AD10 -> 3626.0866 | O10: ='Расчет дотаций'!R12-1 -> 0.038965517 | P10: =O10*'Расчет дотаций'!S12 -> 0.58448276 | Q10: =$B10*P10/$AD10 -> 526.24785 | R10: Х | S10: Х | T10: Х | U10: Х | V10: Х | W10: Х | X10: Х | Y10: Х | Z10: Х | AA10: н/д | AB10: н/д | AC10: н/д | AD10: =D10+G10+J10+M10+P10 -> 6.4431643
A11: Чапаевск | B11: ='Расчет дотаций'!AM13 -> 15242.8 | C11: ='Расчет дотаций'!B13-1 -> 0 | D11: =C11*'Расчет дотаций'!C13 -> 0 | E11: =$B11*D11/$AD11 -> 0 | F11: ='Расчет дотаций'!F13-1 -> 0.12165617 | G11: =F11*'Расчет дотаций'!G13 -> 1.8248426 | H11: =$B11*G11/$AD11 -> 3152.8649 | I11: ='Расчет дотаций'!J13-1 -> 0.23370626 | J11: =I11*'Расчет дотаций'!K13 -> 4.6741252 | K11: =$B11*J11/$AD11 -> 8075.7021 | L11: ='Расчет дотаций'!N13-1 -> 0.025 | M11: =L11*'Расчет дотаций'!O13 -> 0.375 | N11: =$B11*M11/$AD11 -> 647.90483 | O11: ='Расчет дотаций'!R13-1 -> 0.12989285 | P11: =O11*'Расчет дотаций'!S13 -> 1.9483927 | Q11: =$B11*P11/$AD11 -> 3366.3282 | R11: Х | S11: Х | T11: Х | U11: Х | V11: Х | W11: Х | X11: Х | Y11: Х | Z11: Х | AA11: н/д | AB11: н/д | AC11: н/д | AD11: =D11+G11+J11+M11+P11 -> 8.8223606
A12: Отрадный | B12: ='Расчет дотаций'!AM14 -> 3638.9 | C12: ='Расчет дотаций'!B14-1 -> 0 | D12: =C12*'Расчет дотаций'!C14 -> 0 | E12: =$B12*D12/$AD12 -> 0 | F12: ='Расчет дотаций'!F14-1 -> 0.02403349 | G12: =F12*'Расчет дотаций'!G14 -> 0.36050235 | H12: =$B12*G12/$AD12 -> 221.71167 | I12: ='Расчет дотаций'!J14-1 -> 0.0034530387 | J12: =I12*'Расчет дотаций'!K14 -> 0.069060773 | K12: =$B12*J12/$AD12 -> 42.472898 | L12: ='Расчет дотаций'!N14-1 -> 0.26842105 | M12: =L12*'Расчет дотаций'!O14 -> 4.0263158 | N12: =$B12*M12/$AD12 -> 2476.2147 | O12: ='Расчет дотаций'!R14-1 -> 0.09739726 | P12: =O12*'Расчет дотаций'!S14 -> 1.4609589 | Q12: =$B12*P12/$AD12 -> 898.50077 | R12: Х | S12: Х | T12: Х | U12: Х | V12: Х | W12: Х | X12: Х | Y12: Х | Z12: Х | AA12: н/д | AB12: н/д | AC12: н/д | AD12: =D12+G12+J12+M12+P12 -> 5.9168378
A13: Жигулевск | B13: ='Расчет дотаций'!AM15 -> -2739.9 | C13: ='Расчет дотаций'!B15-1 -> 0 | D13: =C13*'Расчет дотаций'!C15 -> 0 | E13: =$B13*D13/$AD13 -> 0 | F13: ='Расчет дотаций'!F15-1 -> 0.043985738 | G13: =F13*'Расчет дотаций'!G15 -> 0.65978608 | H13: =$B13*G13/$AD13 -> 994.88057 | I13: ='Расчет дотаций'!J15-1 -> 0.042587477 | J13: =I13*'Расчет дотаций'!K15 -> 0.85174954 | K13: =$B13*J13/$AD13 -> 1284.3391 | L13: ='Расчет дотаций'!N15-1 -> -0.31861958 | M13: =L13*'Расчет дотаций'!O15 -> -4.7792937 | N13: =$B13*M13/$AD13 -> -7206.6184 | O13: ='Расчет дотаций'!R15-1 -> 0.096713866 | P13: =O13*'Расчет дотаций'!S15 -> 1.450708 | Q13: =$B13*P13/$AD13 -> 2187.4987 | R13: Х | S13: Х | T13: Х | U13: Х | V13: Х | W13: Х | X13: Х | Y13: Х | Z13: Х | AA13: н/д | AB13: н/д | AC13: н/д | AD13: =D13+G13+J13+M13+P13 -> -1.8170501
A14: Октябрьск | B14: ='Расчет дотаций'!AM16 -> 4136.5 | C14: ='Расчет дотаций'!B16-1 -> 0 | D14: =C14*'Расчет дотаций'!C16 -> 0 | E14: =$B14*D14/$AD14 -> 0 | F14: ='Расчет дотаций'!F16-1 -> 0.057277899 | G14: =F14*'Расчет дотаций'!G16 -> 0.85916848 | H14: =$B14*G14/$AD14 -> 1021.6953 | I14: ='Расчет дотаций'!J16-1 -> 0.041061276 | J14: =I14*'Расчет дотаций'!K16 -> 0.82122552 | K14: =$B14*J14/$AD14 -> 976.57481 | L14: ='Расчет дотаций'!N16-1 -> 0.025408348 | M14: =L14*'Расчет дотаций'!O16 -> 0.38112523 | N14: =$B14*M14/$AD14 -> 453.22178 | O14: ='Расчет дотаций'!R16-1 -> 0.094464286 | P14: =O14*'Расчет дотаций'!S16 -> 1.4169643 | Q14: =$B14*P14/$AD14 -> 1685.0081 | R14: Х | S14: Х | T14: Х | U14: Х | V14: Х | W14: Х | X14: Х | Y14: Х | Z14: Х | AA14: н/д | AB14: н/д | AC14: н/д | AD14: =D14+G14+J14+M14+P14 -> 3.4784835
A15: Кинель | B15: ='Расчет дотаций'!AM17 -> 9514.5 | C15: ='Расчет дотаций'!B17-1 -> 0 | D15: =C15*'Расчет дотаций'!C17 -> 0 | E15: =$B15*D15/$AD15 -> 0 | F15: ='Расчет дотаций'!F17-1 -> 0.049631748 | G15: =F15*'Расчет дотаций'!G17 -> 0.74447622 | H15: =$B15*G15/$AD15 -> 1062.6246 | I15: ='Расчет дотаций'!J17-1 -> 0.0011510129 | J15: =I15*'Расчет дотаций'!K17 -> 0.023020258 | K15: =$B15*J15/$AD15 -> 32.857856 | L15: ='Расчет дотаций'!N17-1 -> 0.3 | M15: =L15*'Расчет дотаций'!O17 -> 4.5 | N15: =$B15*M15/$AD15 -> 6423.0536 | O15: ='Расчет дотаций'!R17-1 -> 0.093225 | P15: =O15*'Расчет дотаций'!S17 -> 1.398375 | Q15: =$B15*P15/$AD15 -> 1995.9639 | R15: Х | S15: Х | T15: Х | U15: Х | V15: Х | W15: Х | X15: Х | Y15: Х | Z15: Х | AA15: н/д | AB15: н/д | AC15: н/д | AD15: =D15+G15+J15+M15+P15 -> 6.6658715
