Workbook

Sheet Расчет субсидий
A1: Распределение субсидий местным бюджетам для софинансирования расходных обязательств по вопросам местного значения, предоставляемых с учетом выполнения показателей социально-экономического развития
A2: За ноябрь 2019 года
A3: Наименование муниципального образования | B3: Отсутствие просроченной кредиторской задолженности местного бюджета (консолидированного бюджета городского округа с внутригородским делением, консолидированного бюджета муниципального района) по состоянию на конец отчетного периода | D3: Сводная оценка выполнения социально-экономических показателей | E3: Годовое значение, тыс. рублей | F3: План распределения за период, тыс. рублей | G3: Распределение за отчетный период, тыс. рублей | H3: Отклонение от планируемого распределения, тыс. рублей | I3: Корректировка распределения с учетом Закона СО от 09.12.2019 № 124-ГД, тыс. рублей | J3: Распределение за отчётный период с учетом корректировки, тыс. рублей | K3: Соблюдение условий предоставления субсидий*: | O3: Распределение за отчётный период с учетом выполнения условий предоставления субсидий, тыс. рублей
K4: для муниципальных районов и городских округов (городских округов с внутригородским делением) | M4: для всех поселений | N4: для всех муниципальных образований | O4: Всего | P4: в том числе:
K5: доля дотаций на выравнивание бюджетной обеспеченности в доходах бюджета (без учета субвенций) за 2018 год > 20 % | L5: муниципальный долг на 01.11.2019 > 90% от утвержденного общего годового объема доходов без учета утвержденного объема безвозмездных поступлений | N5: неувеличение объема муниципального долга в части кредитов кредитных организаций в октябре 2019 года | P5: в пределах суммы, предусмотренной в областном бюджете | Q5: сверх базового объема (на основании постановления Правительства Самарской области) с учетом ограничения, установленного абз. 2 п. 2.7 Порядка предоставления стимулирующих субсидий
B6: Исполнение | C6: Вес | K6: непривлечение кредитов кредитных организаций в октябре 2019 года
A7: 1 | B7: 2 | C7: 3 | D7: 4 | E7: 5 | F7: 6=5/11мес. | G7: 7=4*6 | H7: 8=7-6 | I7: 9 | J7: 10=8+9 | K7: 11 | L7: 12 | M7: 13 | N7: 14 | O7: 15 | P7: 16 | Q7: 17
A8: Городские округа (городской округ с внутригородским делением) | E8: =SUM(E9:E18) -> 1827656 | F8: =SUM(F9:F18) -> 166150.5 | G8: =SUM(G9:G18) -> 166150.5 | H8: =SUM(H9:H18) -> 0 | I8: =SUM(I9:I18) -> 14182.2 | J8: =SUM(J9:J18) -> 180332.7 | O8: =SUM(O9:O18) -> 173784.6 | P8: =SUM(P9:P18) -> 65148.4 | Q8: =SUM(Q9:Q18) -> 79762.4
A9: Самара | B9: 1 | C9: 15 | D9: =(B9*C9)/(C9) -> 1 | E9: 296098 | F9: =ROUND(E9/11,1) -> 26918 | G9: =ROUND(D9*F9,1) -> 26918 | H9: =G9-F9 -> 0 | J9: =IF(G9+I9>0,ROUND(G9+I9,1),0) -> 26918 | O9: =IF(OR(K9="+",L9="+",M9="+",N9="+"),0,J9) -> 26918 | P9: 0 | Q9: 19763.6
A10: Тольятти | B10: 1 | C10: 15 | D10: =(B10*C10)/(C10) -> 1 | E10: 712744 | F10: =ROUND(E10/11,1) -> 64794.9 | G10: =ROUND(D10*F10,1) -> 64794.9 | H10: =G10-F10 -> 0 | J10: =IF(G10+I10>0,ROUND(G10+I10,1),0) -> 64794.9 | O10: =IF(OR(K10="+",L10="+",M10="+",N10="+"),0,J10) -> 64794.9 | P10: 0 | Q10: 47573.4
A11: Сызрань | B11: 1 | C11: 15 | D11: =(B11*C11)/(C11) -> 1 | E11: 167666 | F11: =ROUND(E11/11,1) -> 15242.4 | G11: =ROUND(D11*F11,1) -> 15242.4 | H11: =G11-F11 -> 0 | J11: =IF(G11+I11>0,ROUND(G11+I11,1),0) -> 15242.4 | O11: =IF(OR(K11="+",L11="+",M11="+",N11="+"),0,J11) -> 15242.4 | P11: 15242.4 | Q11: 0
A12: Новокуйбышевск | B12: 1 | C12: 15 | D12: =(B12*C12)/(C12) -> 1 | E12: 72029 | F12: =ROUND(E12/11,1) -> 6548.1 | G12: =ROUND(D12*F12,1) -> 6548.1 | H12: =G12-F12 -> 0 | J12: =IF(G12+I12>0,ROUND(G12+I12,1),0) -> 6548.1 | N12: + | O12: =IF(OR(K12="+",L12="+",M12="+",N12="+"),0,J12) -> 0 | P12: 0 | Q12: 0
A13: Чапаевск | B13: 1 | C13: 15 | D13: =(B13*C13)/(C13) -> 1 | E13: 138220 | F13: =ROUND(E13/11,1) -> 12565.5 | G13: =ROUND(D13*F13,1) -> 12565.5 | H13: =G13-F13 -> 0 | J13: =IF(G13+I13>0,ROUND(G13+I13,1),0) -> 12565.5 | O13: =IF(OR(K13="+",L13="+",M13="+",N13="+"),0,J13) -> 12565.5 | P13: 0 | Q13: 9225.8
A14: Отрадный | B14: 1 | C14: 15 | D14: =(B14*C14)/(C14) -> 1 | E14: 49201 | F14: =ROUND(E14/11,1) -> 4472.8 | G14: =ROUND(D14*F14,1) -> 4472.8 | H14: =G14-F14 -> 0 | J14: =IF(G14+I14>0,ROUND(G14+I14,1),0) -> 4472.8 | O14: =IF(OR(K14="+",L14="+",M14="+",N14="+"),0,J14) -> 4472.8 | P14: 4365.4 | Q14: 78.9
A15: Жигулевск | B15: 1 | C15: 15 | D15: =(B15*C15)/(C15) -> 1 | E15: 120632 | F15: =ROUND(E15/11,1) -> 10966.5 | G15: =ROUND(D15*F15,1) -> 10966.5 | H15: =G15-F15 -> 0 | J15: =IF(G15+I15>0,ROUND(G15+I15,1),0) -> 10966.5 | O15: =IF(OR(K15="+",L15="+",M15="+",N15="+"),0,J15) -> 10966.5 | P15: 10966.5 | Q15: 0
A16: Октябрьск | B16: 1 | C16: 15 | D16: =(B16*C16)/(C16) -> 1 | E16: 95134 | F16: =ROUND(E16/11,1) -> 8648.5 | G16: =ROUND(D16*F16,1) -> 8648.5 | H16: =G16-F16 -> 0 | I16: 14182.2 | J16: =IF(G16+I16>0,ROUND(G16+I16,1),0) -> 22830.7 | O16: =IF(OR(K16="+",L16="+",M16="+",N16="+"),0,J16) -> 22830.7 | P16: 22583.2 | Q16: 181.7
A17: Кинель | B17: 1 | C17: 15 | D17: =(B17*C17)/(C17) -> 1 | E17: 114188 | F17: =ROUND(E17/11,1) -> 10380.7 | G17: =ROUND(D17*F17,1) -> 10380.7 | H17: =G17-F17 -> 0 | J17: =IF(G17+I17>0,ROUND(G17+I17,1),0) -> 10380.7 | O17: =IF(OR(K17="+",L17="+",M17="+",N17="+"),0,J17) -> 10380.7 | P17: 10380.7 | Q17: 0
A18: Похвистнево | B18: 1 | C18: 15 | D18: =(B18*C18)/(C18) -> 1 | E18: 61744 | F18: =ROUND(E18/11,1) -> 5613.1 | G18: =ROUND(D18*F18,1) -> 5613.1 | H18: =G18-F18 -> 0 | J18: =IF(G18+I18>0,ROUND(G18+I18,1),0) -> 5613.1 | O18: =IF(OR(K18="+",L18="+",M18="+",N18="+"),0,J18) -> 5613.1 | P18: 1610.2 | Q18: 2939
A19: Внутригородские районы г.о.Самара | E19: =SUM(E20:E28) -> 1175 | F19: =SUM(F20:F28) -> 106.8 | G19: =SUM(G20:G28) -> 106.8 | H19: =SUM(H20:H28) -> 0 | I19: =SUM(I20:I28) -> 0 | J19: =SUM(J20:J28) -> 106.8 | O19: =SUM(O20:O28) -> 106.8 | P19: =SUM(P20:P28) -> 0 | Q19: =SUM(Q20:Q28) -> 78.4
A20: Железнодорожный | B20: =B$9 -> 1 | C20: 15 | D20: =(B20*C20)/(C20) -> 1 | E20: 0 | F20: =ROUND(E20/11,1) -> 0 | G20: =ROUND(D20*F20,1) -> 0 | H20: =G20-F20 -> 0 | J20: =IF(G20+I20>0,ROUND(G20+I20,1),0) -> 0 | O20: =IF(OR(K20="+",L20="+",M20="+",N20="+"),0,J20) -> 0 | P20: 0 | Q20: 0
A21: Кировский | B21: =B$9 -> 1 | C21: 15 | D21: =(B21*C21)/(C21) -> 1 | E21: 0 | F21: =ROUND(E21/11,1) -> 0 | G21: =ROUND(D21*F21,1) -> 0 | H21: =G21-F21 -> 0 | J21: =IF(G21+I21>0,ROUND(G21+I21,1),0) -> 0 | O21: =IF(OR(K21="+",L21="+",M21="+",N21="+"),0,J21) -> 0 | P21: 0 | Q21: 0
A22: Красноглинский | B22: =B$9 -> 1 | C22: 15 | D22: =(B22*C22)/(C22) -> 1 | E22: 0 | F22: =ROUND(E22/11,1) -> 0 | G22: =ROUND(D22*F22,1) -> 0 | H22: =G22-F22 -> 0 | J22: =IF(G22+I22>0,ROUND(G22+I22,1),0) -> 0 | O22: =IF(OR(K22="+",L22="+",M22="+",N22="+"),0,J22) -> 0 | P22: 0 | Q22: 0
A23: Куйбышевский | B23: =B$9 -> 1 | C23: 15 | D23: =(B23*C23)/(C23) -> 1 | E23: 0 | F23: =ROUND(E23/11,1) -> 0 | G23: =ROUND(D23*F23,1) -> 0 | H23: =G23-F23 -> 0 | J23: =IF(G23+I23>0,ROUND(G23+I23,1),0) -> 0 | O23: =IF(OR(K23="+",L23="+",M23="+",N23="+"),0,J23) -> 0 | P23: 0 | Q23: 0
A24: Ленинский | B24: =B$9 -> 1 | C24: 15 | D24: =(B24*C24)/(C24) -> 1 | E24: 0 | F24: =ROUND(E24/11,1) -> 0 | G24: =ROUND(D24*F24,1) -> 0 | H24: =G24-F24 -> 0 | J24: =IF(G24+I24>0,ROUND(G24+I24,1),0) -> 0 | O24: =IF(OR(K24="+",L24="+",M24="+",N24="+"),0,J24) -> 0 | P24: 0 | Q24: 0
A25: Октябрьский | B25: =B$9 -> 1 | C25: 15 | D25: =(B25*C25)/(C25) -> 1 | E25: 0 | F25: =ROUND(E25/11,1) -> 0 | G25: =ROUND(D25*F25,1) -> 0 | H25: =G25-F25 -> 0 | J25: =IF(G25+I25>0,ROUND(G25+I25,1),0) -> 0 | O25: =IF(OR(K25="+",L25="+",M25="+",N25="+"),0,J25) -> 0 | P25: 0 | Q25: 0
A26: Промышленный | B26: =B$9 -> 1 | C26: 15 | D26: =(B26*C26)/(C26) -> 1 | E26: 0 | F26: =ROUND(E26/11,1) -> 0 | G26: =ROUND(D26*F26,1) -> 0 | H26: =G26-F26 -> 0 | J26: =IF(G26+I26>0,ROUND(G26+I26,1),0) -> 0 | O26: =IF(OR(K26="+",L26="+",M26="+",N26="+"),0,J26) -> 0 | P26: 0 | Q26: 0
A27: Самарский | B27: =B$9 -> 1 | C27: 15 | D27: =(B27*C27)/(C27) -> 1 | E27: 0 | F27: =ROUND(E27/11,1) -> 0 | G27: =ROUND(D27*F27,1) -> 0 | H27: =G27-F27 -> 0 | J27: =IF(G27+I27>0,ROUND(G27+I27,1),0) -> 0 | O27: =IF(OR(K27="+",L27="+",M27="+",N27="+"),0,J27) -> 0 | P27: 0 | Q27: 0
A28: Советский | B28: =B$9 -> 1 | C28: 15 | D28: =(B28*C28)/(C28) -> 1 | E28: 1175 | F28: =ROUND(E28/11,1) -> 106.8 | G28: =ROUND(D28*F28,1) -> 106.8 | H28: =G28-F28 -> 0 | J28: =IF(G28+I28>0,ROUND(G28+I28,1),0) -> 106.8 | O28: =IF(OR(K28="+",L28="+",M28="+",N28="+"),0,J28) -> 106.8 | P28: 0 | Q28: 78.4
A29: Муниципальные районы | E29: =SUM(E30:E56) -> 982597 | F29: =SUM(F30:F56) -> 89326.8 | G29: =SUM(G30:G56) -> 89326.8 | H29: =SUM(H30:H56) -> 0 | I29: =SUM(I30:I56) -> 17035.5 | J29: =SUM(J30:J56) -> 106362.3 | O29: =SUM(O30:O56) -> 106362.3 | P29: =SUM(P30:P56) -> 62489 | Q29: =SUM(Q30:Q56) -> 32212.3
A30: Алексеевский | B30: 1 | C30: 10 | D30: =(B30*C30)/(C30) -> 1 | E30: 32550 | F30: =ROUND(E30/11,1) -> 2959.1 | G30: =ROUND(D30*F30,1) -> 2959.1 | H30: =G30-F30 -> 0 | J30: =IF(G30+I30>0,ROUND(G30+I30,1),0) -> 2959.1 | O30: =IF(OR(K30="+",L30="+",M30="+",N30="+"),0,J30) -> 2959.1 | P30: 2959.1 | Q30: 0
A31: Безенчукский | B31: 1 | C31: 10 | D31: =(B31*C31)/(C31) -> 1 | E31: 38433 | F31: =ROUND(E31/11,1) -> 3493.9 | G31: =ROUND(D31*F31,1) -> 3493.9 | H31: =G31-F31 -> 0 | J31: =IF(G31+I31>0,ROUND(G31+I31,1),0) -> 3493.9 | O31: =IF(OR(K31="+",L31="+",M31="+",N31="+"),0,J31) -> 3493.9 | P31: 0 | Q31: 2565.3
A32: Богатовский | B32: 1 | C32: 10 | D32: =(B32*C32)/(C32) -> 1 | E32: 32641 | F32: =ROUND(E32/11,1) -> 2967.4 | G32: =ROUND(D32*F32,1) -> 2967.4 | H32: =G32-F32 -> 0 | J32: =IF(G32+I32>0,ROUND(G32+I32,1),0) -> 2967.4 | O32: =IF(OR(K32="+",L32="+",M32="+",N32="+"),0,J32) -> 2967.4 | P32: 361.8 | Q32: 1913.1
A33: Большеглушицкий | B33: 1 | C33: 10 | D33: =(B33*C33)/(C33) -> 1 | E33: 31736 | F33: =ROUND(E33/11,1) -> 2885.1 | G33: =ROUND(D33*F33,1) -> 2885.1 | H33: =G33-F33 -> 0 | I33: 1742.6 | J33: =IF(G33+I33>0,ROUND(G33+I33,1),0) -> 4627.7 | O33: =IF(OR(K33="+",L33="+",M33="+",N33="+"),0,J33) -> 4627.7 | P33: 4045.6 | Q33: 427.4
A34: Большечерниговский | B34: 1 | C34: 10 | D34: =(B34*C34)/(C34) -> 1 | E34: 41942 | F34: =ROUND(E34/11,1) -> 3812.9 | G34: =ROUND(D34*F34,1) -> 3812.9 | H34: =G34-F34 -> 0 | J34: =IF(G34+I34>0,ROUND(G34+I34,1),0) -> 3812.9 | O34: =IF(OR(K34="+",L34="+",M34="+",N34="+"),0,J34) -> 3812.9 | P34: 3088.3 | Q34: 532
A35: Борский | B35: 1 | C35: 10 | D35: =(B35*C35)/(C35) -> 1 | E35: 43648 | F35: =ROUND(E35/11,1) -> 3968 | G35: =ROUND(D35*F35,1) -> 3968 | H35: =G35-F35 -> 0 | J35: =IF(G35+I35>0,ROUND(G35+I35,1),0) -> 3968 | O35: =IF(OR(K35="+",L35="+",M35="+",N35="+"),0,J35) -> 3968 | P35: 1848 | Q35: 1556.5
A36: Волжский | B36: 1 | C36: 10 | D36: =(B36*C36)/(C36) -> 1 | E36: 29860 | F36: =ROUND(E36/11,1) -> 2714.5 | G36: =ROUND(D36*F36,1) -> 2714.5 | H36: =G36-F36 -> 0 | J36: =IF(G36+I36>0,ROUND(G36+I36,1),0) -> 2714.5 | O36: =IF(OR(K36="+",L36="+",M36="+",N36="+"),0,J36) -> 2714.5 | P36: 1342.5 | Q36: 1007.3
A37: Елховский | B37: 1 | C37: 10 | D37: =(B37*C37)/(C37) -> 1 | E37: 21008 | F37: =ROUND(E37/11,1) -> 1909.8 | G37: =ROUND(D37*F37,1) -> 1909.8 | H37: =G37-F37 -> 0 | I37: 1947.1 | J37: =IF(G37+I37>0,ROUND(G37+I37,1),0) -> 3856.9 | O37: =IF(OR(K37="+",L37="+",M37="+",N37="+"),0,J37) -> 3856.9 | P37: 3856.9 | Q37: 0
A38: Исаклинский | B38: 1 | C38: 10 | D38: =(B38*C38)/(C38) -> 1 | E38: 44585 | F38: =ROUND(E38/11,1) -> 4053.2 | G38: =ROUND(D38*F38,1) -> 4053.2 | H38: =G38-F38 -> 0 | J38: =IF(G38+I38>0,ROUND(G38+I38,1),0) -> 4053.2 | O38: =IF(OR(K38="+",L38="+",M38="+",N38="+"),0,J38) -> 4053.2 | P38: 0 | Q38: 2975.9
A39: Камышлинский | B39: 1 | C39: 10 | D39: =(B39*C39)/(C39) -> 1 | E39: 47144 | F39: =ROUND(E39/11,1) -> 4285.8 | G39: =ROUND(D39*F39,1) -> 4285.8 | H39: =G39-F39 -> 0 | I39: 3599.9 | J39: =IF(G39+I39>0,ROUND(G39+I39,1),0) -> 7885.7 | O39: =IF(OR(K39="+",L39="+",M39="+",N39="+"),0,J39) -> 7885.7 | P39: 4247 | Q39: 2671.6
A40: Кинельский | B40: 1 | C40: 10 | D40: =(B40*C40)/(C40) -> 1 | E40: 7497 | F40: =ROUND(E40/11,1) -> 681.5 | G40: =ROUND(D40*F40,1) -> 681.5 | H40: =G40-F40 -> 0 | J40: =IF(G40+I40>0,ROUND(G40+I40,1),0) -> 681.5 | O40: =IF(OR(K40="+",L40="+",M40="+",N40="+"),0,J40) -> 681.5 | P40: 82.2 | Q40: 440
...

Sheet Плюсы и минусы
A1: Факторный анализ влияния отдельных показателей на итоговое распределение за ноябрь 2019 года
F2: тыс. рублей
A3: Наименование муниципального образования | B3: +/- по итогам отчётного периода | C3: Отсутствие просроченной кредиторской задолженности местного бюджета (консолидированного бюджета городского округа с внутригородским делением, консолидированного бюджета муниципального района) по состоянию на конец отчетного периода | F3: Общая сумма весов влияния
C4: Отклонение от прогноза | D4: Вес влияния на результат | E4: + / - (5)=(2)*(4)/(6)
A5: 1 | B5: 2 | C5: 3 | D5: 4 | E5: 5 | F5: 6
A6: Городские округа | B6: ='Расчет субсидий'!H8 -> 0 | E6: =SUM(E7:E16) -> #DIV/0!
A7: Самара | B7: ='Расчет субсидий'!H9 -> 0 | C7: ='Расчет субсидий'!B9-1 -> 0 | D7: =C7*'Расчет субсидий'!C9 -> 0 | E7: =$B7*D7/$F7 -> #DIV/0! | F7: =D7 -> 0
A8: Тольятти | B8: ='Расчет субсидий'!H10 -> 0 | C8: ='Расчет субсидий'!B10-1 -> 0 | D8: =C8*'Расчет субсидий'!C10 -> 0 | E8: =$B8*D8/$F8 -> #DIV/0! | F8: =D8 -> 0
A9: Сызрань | B9: ='Расчет субсидий'!H11 -> 0 | C9: ='Расчет субсидий'!B11-1 -> 0 | D9: =C9*'Расчет субсидий'!C11 -> 0 | E9: =$B9*D9/$F9 -> #DIV/0! | F9: =D9 -> 0
A10: Новокуйбышевск | B10: ='Расчет субсидий'!H12 -> 0 | C10: ='Расчет субсидий'!B12-1 -> 0 | D10: =C10*'Расчет субсидий'!C12 -> 0 | E10: =$B10*D10/$F10 -> #DIV/0! | F10: =D10 -> 0
A11: Чапаевск | B11: ='Расчет субсидий'!H13 -> 0 | C11: ='Расчет субсидий'!B13-1 -> 0 | D11: =C11*'Расчет субсидий'!C13 -> 0 | E11: =$B11*D11/$F11 -> #DIV/0! | F11: =D11 -> 0
A12: Отрадный | B12: ='Расчет субсидий'!H14 -> 0 | C12: ='Расчет субсидий'!B14-1 -> 0 | D12: =C12*'Расчет субсидий'!C14 -> 0 | E12: =$B12*D12/$F12 -> #DIV/0! | F12: =D12 -> 0
A13: Жигулевск | B13: ='Расчет субсидий'!H15 -> 0 | C13: ='Расчет субсидий'!B15-1 -> 0 | D13: =C13*'Расчет субсидий'!C15 -> 0 | E13: =$B13*D13/$F13 -> #DIV/0! | F13: =D13 -> 0
A14: Октябрьск | B14: ='Расчет субсидий'!H16 -> 0 | C14: ='Расчет субсидий'!B16-1 -> 0 | D14: =C14*'Расчет субсидий'!C16 -> 0 | E14: =$B14*D14/$F14 -> #DIV/0! | F14: =D14 -> 0
A15: Кинель | B15: ='Расчет субсидий'!H17 -> 0 | C15: ='Расчет субсидий'!B17-1 -> 0 | D15: =C15*'Расчет субсидий'!C17 -> 0 | E15: =$B15*D15/$F15 -> #DIV/0! | F15: =D15 -> 0
A16: Похвистнево | B16: ='Расчет субсидий'!H18 -> 0 | C16: ='Расчет субсидий'!B18-1 -> 0 | D16: =C16*'Расчет субсидий'!C18 -> 0 | E16: =$B16*D16/$F16 -> #DIV/0! | F16: =D16 -> 0
A17: Внутригородские районы г.о.Самара | B17: =SUM(B18:B26) -> 0 | E17: =SUM(E18:E26) -> #DIV/0!
A18: Железнодорожный | B18: ='Расчет субсидий'!H20 -> 0 | C18: ='Расчет субсидий'!B20-1 -> 0 | D18: =C18*'Расчет субсидий'!C20 -> 0 | E18: =$B18*D18/$F18 -> #DIV/0! | F18: =D18 -> 0
A19: Кировский | B19: ='Расчет субсидий'!H21 -> 0 | C19: ='Расчет субсидий'!B21-1 -> 0 | D19: =C19*'Расчет субсидий'!C21 -> 0 | E19: =$B19*D19/$F19 -> #DIV/0! | F19: =D19 -> 0
A20: Красноглинский | B20: ='Расчет субсидий'!H22 -> 0 | C20: ='Расчет субсидий'!B22-1 -> 0 | D20: =C20*'Расчет субсидий'!C22 -> 0 | E20: =$B20*D20/$F20 -> #DIV/0! | F20: =D20 -> 0
A21: Куйбышевский | B21: ='Расчет субсидий'!H23 -> 0 | C21: ='Расчет субсидий'!B23-1 -> 0 | D21: =C21*'Расчет субсидий'!C23 -> 0 | E21: =$B21*D21/$F21 -> #DIV/0! | F21: =D21 -> 0
A22: Ленинский | B22: ='Расчет субсидий'!H24 -> 0 | C22: ='Расчет субсидий'!B24-1 -> 0 | D22: =C22*'Расчет субсидий'!C24 -> 0 | E22: =$B22*D22/$F22 -> #DIV/0! | F22: =D22 -> 0
A23: Октябрьский | B23: ='Расчет субсидий'!H25 -> 0 | C23: ='Расчет субсидий'!B25-1 -> 0 | D23: =C23*'Расчет субсидий'!C25 -> 0 | E23: =$B23*D23/$F23 -> #DIV/0! | F23: =D23 -> 0
A24: Промышленный | B24: ='Расчет субсидий'!H26 -> 0 | C24: ='Расчет субсидий'!B26-1 -> 0 | D24: =C24*'Расчет субсидий'!C26 -> 0 | E24: =$B24*D24/$F24 -> #DIV/0! | F24: =D24 -> 0
A25: Самарский | B25: ='Расчет субсидий'!H27 -> 0 | C25: ='Расчет субсидий'!B27-1 -> 0 | D25: =C25*'Расчет субсидий'!C27 -> 0 | E25: =$B25*D25/$F25 -> #DIV/0! | F25: =D25 -> 0
A26: Советский | B26: ='Расчет субсидий'!H28 -> 0 | C26: ='Расчет субсидий'!B28-1 -> 0 | D26: =C26*'Расчет субсидий'!C28 -> 0 | E26: =$B26*D26/$F26 -> #DIV/0! | F26: =D26 -> 0
A27: Муниципальные районы | B27: ='Расчет субсидий'!H29 -> 0 | E27: =SUM(E28:E54) -> #DIV/0!
A28: Алексеевский | B28: ='Расчет субсидий'!H30 -> 0 | C28: ='Расчет субсидий'!B30-1 -> 0 | D28: =C28*'Расчет субсидий'!C30 -> 0 | E28: =$B28*D28/$F28 -> #DIV/0! | F28: =D28 -> 0
A29: Безенчукский | B29: ='Расчет субсидий'!H31 -> 0 | C29: ='Расчет субсидий'!B31-1 -> 0 | D29: =C29*'Расчет субсидий'!C31 -> 0 | E29: =$B29*D29/$F29 -> #DIV/0! | F29: =D29 -> 0
A30: Богатовский | B30: ='Расчет субсидий'!H32 -> 0 | C30: ='Расчет субсидий'!B32-1 -> 0 | D30: =C30*'Расчет субсидий'!C32 -> 0 | E30: =$B30*D30/$F30 -> #DIV/0! | F30: =D30 -> 0
A31: Большеглушицкий | B31: ='Расчет субсидий'!H33 -> 0 | C31: ='Расчет субсидий'!B33-1 -> 0 | D31: =C31*'Расчет субсидий'!C33 -> 0 | E31: =$B31*D31/$F31 -> #DIV/0! | F31: =D31 -> 0
A32: Большечерниговский | B32: ='Расчет субсидий'!H34 -> 0 | C32: ='Расчет субсидий'!B34-1 -> 0 | D32: =C32*'Расчет субсидий'!C34 -> 0 | E32: =$B32*D32/$F32 -> #DIV/0! | F32: =D32 -> 0
A33: Борский | B33: ='Расчет субсидий'!H35 -> 0 | C33: ='Расчет субсидий'!B35-1 -> 0 | D33: =C33*'Расчет субсидий'!C35 -> 0 | E33: =$B33*D33/$F33 -> #DIV/0! | F33: =D33 -> 0
A34: Волжский | B34: ='Расчет субсидий'!H36 -> 0 | C34: ='Расчет субсидий'!B36-1 -> 0 | D34: =C34*'Расчет субсидий'!C36 -> 0 | E34: =$B34*D34/$F34 -> #DIV/0! | F34: =D34 -> 0
A35: Елховский | B35: ='Расчет субсидий'!H37 -> 0 | C35: ='Расчет субсидий'!B37-1 -> 0 | D35: =C35*'Расчет субсидий'!C37 -> 0 | E35: =$B35*D35/$F35 -> #DIV/0! | F35: =D35 -> 0
A36: Исаклинский | B36: ='Расчет субсидий'!H38 -> 0 | C36: ='Расчет субсидий'!B38-1 -> 0 | D36: =C36*'Расчет субсидий'!C38 -> 0 | E36: =$B36*D36/$F36 -> #DIV/0! | F36: =D36 -> 0
A37: Камышлинский | B37: ='Расчет субсидий'!H39 -> 0 | C37: ='Расчет субсидий'!B39-1 -> 0 | D37: =C37*'Расчет субсидий'!C39 -> 0 | E37: =$B37*D37/$F37 -> #DIV/0! | F37: =D37 -> 0
A38: Кинельский | B38: ='Расчет субсидий'!H40 -> 0 | C38: ='Расчет субсидий'!B40-1 -> 0 | D38: =C38*'Расчет субсидий'!C40 -> 0 | E38: =$B38*D38/$F38 -> #DIV/0! | F38: =D38 -> 0
A39: Кинель-Черкасский | B39: ='Расчет субсидий'!H41 -> 0 | C39: ='Расчет субсидий'!B41-1 -> 0 | D39: =C39*'Расчет субсидий'!C41 -> 0 | E39: =$B39*D39/$F39 -> #DIV/0! | F39: =D39 -> 0
... A54: Шигонский | B54: ='Расчет субсидий'!H56 -> 0 | C54: ='Расчет субсидий'!B56-1 -> 0 | D54: =C54*'Расчет субсидий'!C56 -> 0 | E54: =$B54*D54/$F54 -> #DIV/0! | F54: =D54 -> 0
...
