Workbook

Sheet Расчет субсидий
B1: Распределение субсидий местным бюджетам для софинансирования расходных обязательств по вопросам местного значения, предоставляемых с учетом выполнения показателей социально-экономического развития
A2: За I полугодие 2019 года
A3: Наименование муниципального образования | B3: Объем налоговых и неналоговых поступлений в местный бюджет (консолидированный бюджет городского округа с внутригородским делением, консолидированный бюджет муниципального района), за исключением поступлений доходов от уплаты акцизов и доходов от продажи материальных и нематериальных активов (тыс.рублей) | F3: Отсутствие просроченной кредиторской задолженности местного бюджета (консолидированного бюджета городского округа с внутригородским делением, консолидированного бюджета муниципального района) по состоянию на конец отчетного периода | H3: Объем алкогольной продукции, зафиксированный в единой государственной автоматизированной информационной системе (дкл.) | L3: Эффективность муниципального земельного контроля (единиц) | P3: Уровень задолженности предприятий жилищно-коммунального хозяйства за ранее потребленные топливно-энергетические ресурсы по состоянию на конец отчетного периода (млн. рублей) | T3: Сводная оценка выполнения социально-экономических показателей | U3: Годовое значение, тыс. рублей | V3: План распределения за период, тыс. рублей | W3: Распределение за отчетный период, тыс. рублей | X3: Отклонение от планируемого распределения, тыс. рублей | Y3: Ранее предоставленные субсидии, тыс. рублей | AF3: Удержано субсидий за март-май 2019 года в связи с исполнением показателей за 2018 год, тыс. рублей | AG3: Распределение за отчётный период за вычетом предоставлен-ных субсидий за январь-май 2019 года, тыс. рублей | AH3: Соблюдение условий предоставления субсидий*: | AM3: Распределение за отчётный период с учетом выполнения условий предоставления субсидий, тыс. рублей | AN3: Ежемесячное удержание субсидий в связи с исполнением показателей за 2018 год, тыс. рублей | AO3: Распределение за отчётный период с учетом выполнения условий предоставления субсидий и удержания, тыс. рублей | AP3: Предоставлено субсидий за I полугодие без учета выполнения показателей "Эффективность муниципального земельного контроля" и "Уровень задолженности предприятий жилищно-коммунального хозяйства за ранее потребленные топливно-энергетические ресурсы по состоянию на конец отчетного периода", тыс. рублей | AQ3: Корректировка распределения стимулирующих субсидий за I полугодие 2019 года, тыс. рублей
Y4: Авансирование (распоряжение МУФ СО от 23.01.2019 № 01-08/4) | Z4: За январь | AA4: За февраль | AB4: За март | AC4: За апрель | AD4: Авансирование (распоряжение МУФ СО от 19.06.2019 № 01-08/22) | AE4: За май | AH4: Соблюдение норматива формирования расходов на содержание органов местного самоуправления | AI4: для муниципальных районов и городских округов (городских округов с внутригородским делением) | AK4: для всех поселений | AL4: для всех муниципальных образований
AI5: доля дотаций на выравнивание бюджетной обеспеченности в доходах бюджета (без учета субвенций) за 2018 год > 20 % | AJ5: муниципальный долг на 01.07.2019 > 90% от утвержденного общего годового объема доходов без учета утвержденного объема безвозмездных поступлений | AL5: неувеличение объема муниципального долга в части кредитов кредитных организаций в январе-июне 2019 года
B6: Прогнозное значение | C6: Фактически сложившийся уровень | D6: Исполнение с уч. корректир. макс. перевыполнения | E6: Вес | F6: Исполнение | G6: Вес | H6: Прогнозное значение | I6: Фактически сложившийся уровень | J6: Исполнение с уч. корректир. макс. перевыполнения | K6: Вес | L6: Прогнозное значение | M6: Фактически сложившийся уровень | N6: Исполнение с уч. корректир. макс. перевыполнения | O6: Вес | P6: Прогнозное значение | Q6: Фактически сложившийся уровень | R6: Исполнение с уч. корректир. макс. перевыполнения | S6: Вес | AI6: непривлечение кредитов кредитных организаций в январе-июне 2019 года
A7: 1 | B7: 2 | C7: 3 | D7: 4=3/2 | E7: 5 | F7: 6 | G7: 7 | H7: 8 | I7: 9 | J7: 10=9/8 | K7: 11 | L7: 12 | M7: 13 | N7: 14=13/12 | O7: 15 | P7: 16 | Q7: 17 | R7: 18=16/17 | S7: 19 | T7: 20 | U7: 21 | V7: 22=21/11м*6м | W7: 23=20*22 | X7: 24=23-22 | Y7: 25 | Z7: 26 | AA7: 27 | AB7: 28 | AC7: 29 | AD7: 30 | AE7: 31 | AF7: 32 | AG7: 33=23-(25+…+32) | AH7: 34 | AI7: 35 | AJ7: 36 | AK7: 37 | AL7: 38 | AM7: 39 | AN7: 40 | AO7: 41=39-40 | AP7: 37 | AQ7: 38=36-37
A8: Городские округа (городской округ с внутригородским делением) | B8: =SUM(B9:B18) -> 12468164 | C8: =SUM(C9:C18) -> 11788891 | D8: =IF(C8/B8>1.2,IF((C8/B8-1.2)*0.1+1.2>1.3,1.3,(C8/B8-1.2)*0.1+1.2),C8/B8) -> 0.94551944 | H8: =SUM(H9:H18) -> 715444 | I8: =SUM(I9:I18) -> 728504.36 | J8: =IF(I8/H8>1.2,IF((I8/H8-1.2)*0.1+1.2>1.3,1.3,(I8/H8-1.2)*0.1+1.2),I8/H8) -> 1.0182549 | L8: =SUM(L9:L18) -> 42463 | M8: =SUM(M9:M18) -> 53137 | N8: =IF(M8/L8>1.2,IF((M8/L8-1.2)*0.1+1.2>1.3,1.3,(M8/L8-1.2)*0.1+1.2),M8/L8) -> 1.2051372 | P8: =SUM(P9:P18) -> 3959.4 | Q8: =SUM(Q9:Q18) -> 3872.1 | R8: =IF(P8/Q8>1.2,IF((P8/Q8-1.2)*0.1+1.2>1.3,1.3,(P8/Q8-1.2)*0.1+1.2),P8/Q8) -> 1.0225459 | U8: =SUM(U9:U18) -> 1812100 | V8: =SUM(V9:V18) -> 988418.18 | W8: =SUM(W9:W18) -> 1030190.7 | X8: =SUM(X9:X18) -> 41772.518 | Y8: =SUM(Y9:Y18) -> 0 | Z8: =SUM(Z9:Z18) -> 152874.7 | AA8: =SUM(AA9:AA18) -> 152227.2 | AB8: =SUM(AB9:AB18) -> 166414.7 | ... AG8: =SUM(AG9:AG18) -> 191410 | AM8: =SUM(AM9:AM18) -> 191410 | AN8: =SUM(AN9:AN18) -> 0 | AO8: =SUM(AO9:AO18) -> 191410 | AP8: =SUM(AP9:AP18) -> 133039.2 | AQ8: =SUM(AQ9:AQ18) -> 58370.8
A9: Самара | B9: 7228655.1 | C9: 6804185.2 | D9: =IF(E9=0,0,IF(B9=0,1,IF(C9<0,0,IF(C9/B9>1.2,IF((C9/B9-1.2)*0.1+1.2>1.3,1.3,(C9/B9-1.2)*0.1+1.2),C9/B9)))) -> 0.94127955 | E9: 20 | F9: 1 | G9: 15 | H9: 382704 | I9: 391577.86 | J9: =IF(K9=0,0,IF(H9=0,1,IF(I9<0,0,IF(I9/H9>1.2,IF((I9/H9-1.2)*0.1+1.2>1.3,1.3,(I9/H9-1.2)*0.1+1.2),I9/H9)))) -> 1.0231873 | K9: 15 | L9: 5034 | M9: 9108 | N9: =IF(O9=0,0,IF(L9=0,1,IF(M9<0,0,IF(M9/L9>1.2,IF((M9/L9-1.2)*0.1+1.2>1.3,1.3,(M9/L9-1.2)*0.1+1.2),M9/L9)))) -> 1.2609297 | O9: 20 | P9: 1631.3 | Q9: 1422.8 | R9: =IF(S9=0,0,IF(Q9=0,1.3,IF(Q9<0,0,IF(P9/Q9>1.2,IF((P9/Q9-1.2)*0.1+1.2>1.3,1.3,(P9/Q9-1.2)*0.1+1.2),P9/Q9)))) -> 1.146542 | S9: 15 | T9: =(D9*E9+F9*G9+J9*K9+N9*O9+R9*S9)/(E9+G9+K9+O9+S9) -> 1.0775309 | U9: 296098 | V9: =U9/11*6 -> 161508 | W9: =ROUND(T9*V9,1) -> 174029.9 | X9: =W9-V9 -> 12521.9 | Z9: 25174.8 | AA9: 26268.6 | AB9: 29461.4 | AC9: 31975.9 | AE9: 24790.5 | AF9: 1708.3 | AG9: =ROUND(W9-SUM(Y9:AF9),1) -> 34650.4 | AM9: =IF(OR(AG9<0,AH9="+",AI9="+",AJ9="+",AK9="+",AL9="+"),0,AG9) -> 34650.4 | AO9: =ROUND(AM9-AN9,1) -> 34650.4 | AP9: 19458.4 | AQ9: =ROUND(AO9-AP9,1) -> 15192
A10: Тольятти | B10: 3070817.9 | C10: 2914733.7 | D10: =IF(E10=0,0,IF(B10=0,1,IF(C10<0,0,IF(C10/B10>1.2,IF((C10/B10-1.2)*0.1+1.2>1.3,1.3,(C10/B10-1.2)*0.1+1.2),C10/B10)))) -> 0.94917178 | E10: 20 | F10: 1 | G10: 15 | H10: 164356 | I10: 167273.7 | J10: =IF(K10=0,0,IF(H10=0,1,IF(I10<0,0,IF(I10/H10>1.2,IF((I10/H10-1.2)*0.1+1.2>1.3,1.3,(I10/H10-1.2)*0.1+1.2),I10/H10)))) -> 1.0177523 | K10: 15 | L10: 9337 | M10: 11063 | N10: =IF(O10=0,0,IF(L10=0,1,IF(M10<0,0,IF(M10/L10>1.2,IF((M10/L10-1.2)*0.1+1.2>1.3,1.3,(M10/L10-1.2)*0.1+1.2),M10/L10)))) -> 1.1848559 | O10: 20 | P10: 619.6 | Q10: 377.9 | R10: =IF(S10=0,0,IF(Q10=0,1.3,IF(Q10<0,0,IF(P10/Q10>1.2,IF((P10/Q10-1.2)*0.1+1.2>1.3,1.3,(P10/Q10-1.2)*0.1+1.2),P10/Q10)))) -> 1.2439587 | S10: 15 | T10: =(D10*E10+F10*G10+J10*K10+N10*O10+R10*S10)/(E10+G10+K10+O10+S10) -> 1.0777202 | U10: 712744 | V10: =U10/11*6 -> 388769.45 | W10: =ROUND(T10*V10,1) -> 418984.7 | X10: =W10-V10 -> 30215.245 | Z10: 55175 | AA10: 55079.3 | AB10: 72825.2 | AC10: 92364.6 | AE10: 66494.3 | AG10: =ROUND(W10-SUM(Y10:AF10),1) -> 77046.3 | AM10: =IF(OR(AG10<0,AH10="+",AI10="+",AJ10="+",AK10="+",AL10="+"),0,AG10) -> 77046.3 | AO10: =ROUND(AM10-AN10,1) -> 77046.3 | AP10: 40997.3 | AQ10: =ROUND(AO10-AP10,1) -> 36049
A11: Сызрань | B11: 637828.8 | C11: 592400.7 | D11: =IF(E11=0,0,IF(B11=0,1,IF(C11<0,0,IF(C11/B11>1.2,IF((C11/B11-1.2)*0.1+1.2>1.3,1.3,(C11/B11-1.2)*0.1+1.2),C11/B11)))) -> 0.92877697 | E11: 20 | F11: 1 | G11: 15 | H11: 53919 | I11: 52748.6 | J11: =IF(K11=0,0,IF(H11=0,1,IF(I11<0,0,IF(I11/H11>1.2,IF((I11/H11-1.2)*0.1+1.2>1.3,1.3,(I11/H11-1.2)*0.1+1.2),I11/H11)))) -> 0.97829337 | K11: 15 | L11: 4669 | M11: 5394 | N11: =IF(O11=0,0,IF(L11=0,1,IF(M11<0,0,IF(M11/L11>1.2,IF((M11/L11-1.2)*0.1+1.2>1.3,1.3,(M11/L11-1.2)*0.1+1.2),M11/L11)))) -> 1.1552795 | O11: 20 | P11: 1027.1 | Q11: 1405.1 | R11: =IF(S11=0,0,IF(Q11=0,1.3,IF(Q11<0,0,IF(P11/Q11>1.2,IF((P11/Q11-1.2)*0.1+1.2>1.3,1.3,(P11/Q11-1.2)*0.1+1.2),P11/Q11)))) -> 0.73098 | S11: 15 | T11: =(D11*E11+F11*G11+J11*K11+N11*O11+R11*S11)/(E11+G11+K11+O11+S11) -> 0.96847329 | U11: 167666 | V11: =U11/11*6 -> 91454.182 | W11: =ROUND(T11*V11,1) -> 88570.9 | X11: =W11-V11 -> -2883.2818 | Z11: 14092 | AA11: 15633.9 | AB11: 4420.1 | AC11: 10966.7 | AE11: 12429.7 | AF11: 16395.6 | AG11: =ROUND(W11-SUM(Y11:AF11),1) -> 14632.9 | AM11: =IF(OR(AG11<0,AH11="+",AI11="+",AJ11="+",AK11="+",AL11="+"),0,AG11) -> 14632.9 | AO11: =ROUND(AM11-AN11,1) -> 14632.9 | AP11: 14315.2 | AQ11: =ROUND(AO11-AP11,1) -> 317.7
A12: Новокуйбышевск | B12: 579595.7 | C12: 605957 | D12: =IF(E12=0,0,IF(B12=0,1,IF(C12<0,0,IF(C12/B12>1.2,IF((C12/B12-1.2)*0.1+1.2>1.3,1.3,(C12/B12-1.2)*0.1+1.2),C12/B12)))) -> 1.0454822 | E12: 20 | F12: 1 | G12: 15 | H12: 35567 | I12: 35406.9 | J12: =IF(K12=0,0,IF(H12=0,1,IF(I12<0,0,IF(I12/H12>1.2,IF((I12/H12-1.2)*0.1+1.2>1.3,1.3,(I12/H12-1.2)*0.1+1.2),I12/H12)))) -> 0.99549864 | K12: 15 | L12: 3613 | M12: 4178 | N12: =IF(O12=0,0,IF(L12=0,1,IF(M12<0,0,IF(M12/L12>1.2,IF((M12/L12-1.2)*0.1+1.2>1.3,1.3,(M12/L12-1.2)*0.1+1.2),M12/L12)))) -> 1.1563797 | O12: 20 | P12: 253.2 | Q12: 235.3 | R12: =IF(S12=0,0,IF(Q12=0,1.3,IF(Q12<0,0,IF(P12/Q12>1.2,IF((P12/Q12-1.2)*0.1+1.2>1.3,1.3,(P12/Q12-1.2)*0.1+1.2),P12/Q12)))) -> 1.0760731 | S12: 15 | T12: =(D12*E12+F12*G12+J12*K12+N12*O12+R12*S12)/(E12+G12+K12+O12+S12) -> 1.0601272 | U12: 72029 | V12: =U12/11*6 -> 39288.545 | W12: =ROUND(T12*V12,1) -> 41650.9 | X12: =W12-V12 -> 2362.3545 | Z12: 7303.6 | AA12: 6389.4 | AB12: 7588.6 | AC12: 0 | AE12: 6062 | AG12: =ROUND(W12-SUM(Y12:AF12),1) -> 14307.3 | AM12: =IF(OR(AG12<0,AH12="+",AI12="+",AJ12="+",AK12="+",AL12="+"),0,AG12) -> 14307.3 | AO12: =ROUND(AM12-AN12,1) -> 14307.3 | AP12: 12606.7 | AQ12: =ROUND(AO12-AP12,1) -> 1700.6
A13: Чапаевск | B13: 211440.2 | C13: 184425.1 | D13: =IF(E13=0,0,IF(B13=0,1,IF(C13<0,0,IF(C13/B13>1.2,IF((C13/B13-1.2)*0.1+1.2>1.3,1.3,(C13/B13-1.2)*0.1+1.2),C13/B13)))) -> 0.87223291 | E13: 20 | F13: 1 | G13: 15 | H13: 15210 | I13: 16158.9 | J13: =IF(K13=0,0,IF(H13=0,1,IF(I13<0,0,IF(I13/H13>1.2,IF((I13/H13-1.2)*0.1+1.2>1.3,1.3,(I13/H13-1.2)*0.1+1.2),I13/H13)))) -> 1.0623866 | K13: 15 | L13: 3613 | M13: 6444 | N13: =IF(O13=0,0,IF(L13=0,1,IF(M13<0,0,IF(M13/L13>1.2,IF((M13/L13-1.2)*0.1+1.2>1.3,1.3,(M13/L13-1.2)*0.1+1.2),M13/L13)))) -> 1.2583559 | O13: 20 | P13: 7.2 | Q13: 5.9 | R13: =IF(S13=0,0,IF(Q13=0,1.3,IF(Q13<0,0,IF(P13/Q13>1.2,IF((P13/Q13-1.2)*0.1+1.2>1.3,1.3,(P13/Q13-1.2)*0.1+1.2),P13/Q13)))) -> 1.2020339 | S13: 15 | T13: =(D13*E13+F13*G13+J13*K13+N13*O13+R13*S13)/(E13+G13+K13+O13+S13) -> 1.0773892 | U13: 138220 | V13: =U13/11*6 -> 75392.727 | W13: =ROUND(T13*V13,1) -> 81227.3 | X13: =W13-V13 -> 5834.5727 | Z13: 12378.7 | AA13: 14025.2 | AB13: 12348.7 | AC13: 15547.4 | AE13: 14100.5 | AG13: =ROUND(W13-SUM(Y13:AF13),1) -> 12826.8 | AM13: =IF(OR(AG13<0,AH13="+",AI13="+",AJ13="+",AK13="+",AL13="+"),0,AG13) -> 12826.8 | AO13: =ROUND(AM13-AN13,1) -> 12826.8 | AP13: 4550.2 | AQ13: =ROUND(AO13-AP13,1) -> 8276.6
A14: Отрадный | B14: 228462.1 | C14: 216113.3 | D14: =IF(E14=0,0,IF(B14=0,1,IF(C14<0,0,IF(C14/B14>1.2,IF((C14/B14-1.2)*0.1+1.2>1.3,1.3,(C14/B14-1.2)*0.1+1.2),C14/B14)))) -> 0.94594815 | E14: 20 | F14: 1 | G14: 15 | H14: 17020 | I14: 16835.2 | J14: =IF(K14=0,0,IF(H14=0,1,IF(I14<0,0,IF(I14/H14>1.2,IF((I14/H14-1.2)*0.1+1.2>1.3,1.3,(I14/H14-1.2)*0.1+1.2),I14/H14)))) -> 0.98914219 | K14: 15 | L14: 3613 | M14: 2257 | N14: =IF(O14=0,0,IF(L14=0,1,IF(M14<0,0,IF(M14/L14>1.2,IF((M14/L14-1.2)*0.1+1.2>1.3,1.3,(M14/L14-1.2)*0.1+1.2),M14/L14)))) -> 0.62468862 | O14: 20 | P14: 97.8 | Q14: 69.5 | R14: =IF(S14=0,0,IF(Q14=0,1.3,IF(Q14<0,0,IF(P14/Q14>1.2,IF((P14/Q14-1.2)*0.1+1.2>1.3,1.3,(P14/Q14-1.2)*0.1+1.2),P14/Q14)))) -> 1.2207194 | S14: 15 | T14: =(D14*E14+F14*G14+J14*K14+N14*O14+R14*S14)/(E14+G14+K14+O14+S14) -> 0.93600776 | U14: 49201 | V14: =U14/11*6 -> 26836.909 | W14: =ROUND(T14*V14,1) -> 25119.6 | X14: =W14-V14 -> -1717.3091 | Z14: 4373.5 | AA14: 4578 | AB14: 4822.3 | AC14: 2908.9 | AE14: 4404.7 | AG14: =ROUND(W14-SUM(Y14:AF14),1) -> 4032.2 | AM14: =IF(OR(AG14<0,AH14="+",AI14="+",AJ14="+",AK14="+",AL14="+"),0,AG14) -> 4032.2 | AO14: =ROUND(AM14-AN14,1) -> 4032.2 | AP14: 5081.9 | AQ14: =ROUND(AO14-AP14,1) -> -1049.7
A15: Жигулевск | B15: 166437.3 | C15: 168453.2 | D15: =IF(E15=0,0,IF(B15=0,1,IF(C15<0,0,IF(C15/B15>1.2,IF((C15/B15-1.2)*0.1+1.2>1.3,1.3,(C15/B15-1.2)*0.1+1.2),C15/B15)))) -> 1.0121121 | E15: 20 | F15: 1 | G15: 15 | H15: 16147 | I15: 16445.3 | J15: =IF(K15=0,0,IF(H15=0,1,IF(I15<0,0,IF(I15/H15>1.2,IF((I15/H15-1.2)*0.1+1.2>1.3,1.3,(I15/H15-1.2)*0.1+1.2),I15/H15)))) -> 1.018474 | K15: 15 | L15: 3613 | M15: 4458 | N15: =IF(O15=0,0,IF(L15=0,1,IF(M15<0,0,IF(M15/L15>1.2,IF((M15/L15-1.2)*0.1+1.2>1.3,1.3,(M15/L15-1.2)*0.1+1.2),M15/L15)))) -> 1.2033878 | O15: 20 | P15: 161.2 | Q15: 219.8 | R15: =IF(S15=0,0,IF(Q15=0,1.3,IF(Q15<0,0,IF(P15/Q15>1.2,IF((P15/Q15-1.2)*0.1+1.2>1.3,1.3,(P15/Q15-1.2)*0.1+1.2),P15/Q15)))) -> 0.73339399 | S15: 15 | T15: =(D15*E15+F15*G15+J15*K15+N15*O15+R15*S15)/(E15+G15+K15+O15+S15) -> 1.0069178 | U15: 120632 | V15: =U15/11*6 -> 65799.273 | W15: =ROUND(T15*V15,1) -> 66254.5 | X15: =W15-V15 -> 455.22727 | Z15: 11428.8 | AA15: 9658.9 | AB15: 10222.9 | AC15: 12393.8 | AE15: 11216 | AF15: 417 | AG15: =ROUND(W15-SUM(Y15:AF15),1) -> 10917.1 | AM15: =IF(OR(AG15<0,AH15="+",AI15="+",AJ15="+",AK15="+",AL15="+"),0,AG15) -> 10917.1 | AO15: =ROUND(AM15-AN15,1) -> 10917.1 | AP15: 11145.3 | AQ15: =ROUND(AO15-AP15,1) -> -228.2
A16: Октябрьск | B16: 52349 | C16: 53617.6 | D16: =IF(E16=0,0,IF(B16=0,1,IF(C16<0,0,IF(C16/B16>1.2,IF((C16/B16-1.2)*0.1+1.2>1.3,1.3,(C16/B16-1.2)*0.1+1.2),C16/B16)))) -> 1.0242335 | E16: 20 | F16: 1 | G16: 15 | H16: 5977 | I16: 6136 | J16: =IF(K16=0,0,IF(H16=0,1,IF(I16<0,0,IF(I16/H16>1.2,IF((I16/H16-1.2)*0.1+1.2>1.3,1.3,(I16/H16-1.2)*0.1+1.2),I16/H16)))) -> 1.026602 | K16: 15 | L16: 2679 | M16: 2694 | N16: =IF(O16=0,0,IF(L16=0,1,IF(M16<0,0,IF(M16/L16>1.2,IF((M16/L16-1.2)*0.1+1.2>1.3,1.3,(M16/L16-1.2)*0.1+1.2),M16/L16)))) -> 1.0055991 | O16: 20 | P16: 83.7 | Q16: 98.5 | R16: =IF(S16=0,0,IF(Q16=0,1.3,IF(Q16<0,0,IF(P16/Q16>1.2,IF((P16/Q16-1.2)*0.1+1.2>1.3,1.3,(P16/Q16-1.2)*0.1+1.2),P16/Q16)))) -> 0.84974619 | S16: 15 | T16: =(D16*E16+F16*G16+J16*K16+N16*O16+R16*S16)/(E16+G16+K16+O16+S16) -> 0.98519853 | U16: 79578 | V16: =U16/11*6 -> 43406.182 | W16: =ROUND(T16*V16,1) -> 42763.7 | X16: =W16-V16 -> -642.48182 | Z16: 8061.9 | AA16: 6373.3 | AB16: 8386.3 | AC16: 7276.2 | AE16: 7255 | AG16: =ROUND(W16-SUM(Y16:AF16),1) -> 5411 | AM16: =IF(OR(AG16<0,AH16="+",AI16="+",AJ16="+",AK16="+",AL16="+"),0,AG16) -> 5411 | AO16: =ROUND(AM16-AN16,1) -> 5411 | AP16: 6820.6 | AQ16: =ROUND(AO16-AP16,1) -> -1409.6
A17: Кинель | B17: 183000.4 | C17: 158251.5 | D17: =IF(E17=0,0,IF(B17=0,1,IF(C17<0,0,IF(C17/B17>1.2,IF((C17/B17-1.2)*0.1+1.2>1.3,1.3,(C17/B17-1.2)*0.1+1.2),C17/B17)))) -> 0.8647604 | E17: 20 | F17: 1 | G17: 15 | H17: 17544 | I17: 18076.6 | J17: =IF(K17=0,0,IF(H17=0,1,IF(I17<0,0,IF(I17/H17>1.2,IF((I17/H17-1.2)*0.1+1.2>1.3,1.3,(I17/H17-1.2)*0.1+1.2),I17/H17)))) -> 1.030358 | K17: 15 | L17: 3613 | M17: 1432 | N17: =IF(O17=0,0,IF(L17=0,1,IF(M17<0,0,IF(M17/L17>1.2,IF((M17/L17-1.2)*0.1+1.2>1.3,1.3,(M17/L17-1.2)*0.1+1.2),M17/L17)))) -> 0.39634653 | O17: 20 | P17: 35 | Q17: 22.3 | R17: =IF(S17=0,0,IF(Q17=0,1.3,IF(Q17<0,0,IF(P17/Q17>1.2,IF((P17/Q17-1.2)*0.1+1.2>1.3,1.3,(P17/Q17-1.2)*0.1+1.2),P17/Q17)))) -> 1.2369507 | S17: 15 | T17: =(D17*E17+F17*G17+J17*K17+N17*O17+R17*S17)/(E17+G17+K17+O17+S17) -> 0.87331492 | U17: 114188 | V17: =U17/11*6 -> 62284.364 | W17: =ROUND(T17*V17,1) -> 54393.9 | X17: =W17-V17 -> -7890.4636 | Z17: 9327.5 | AA17: 8938.8 | AB17: 11723.9 | AC17: 5685.5 | AE17: 9448.8 | AG17: =ROUND(W17-SUM(Y17:AF17),1) -> 9269.4 | AM17: =IF(OR(AG17<0,AH17="+",AI17="+",AJ17="+",AK17="+",AL17="+"),0,AG17) -> 9269.4 | AO17: =ROUND(AM17-AN17,1) -> 9269.4 | AP17: 14357.8 | AQ17: =ROUND(AO17-AP17,1) -> -5088.4
A18: Похвистнево | B18: 109577.5 | C18: 90754.2 | D18: =IF(E18=0,0,IF(B18=0,1,IF(C18<0,0,IF(C18/B18>1.2,IF((C18/B18-1.2)*0.1+1.2>1.3,1.3,(C18/B18-1.2)*0.1+1.2),C18/B18)))) -> 0.8282193 | E18: 20 | F18: 1 | G18: 15 | H18: 7000 | I18: 7845.3 | J18: =IF(K18=0,0,IF(H18=0,1,IF(I18<0,0,IF(I18/H18>1.2,IF((I18/H18-1.2)*0.1+1.2>1.3,1.3,(I18/H18-1.2)*0.1+1.2),I18/H18)))) -> 1.1207571 | K18: 15 | L18: 2679 | M18: 6109 | N18: =IF(O18=0,0,IF(L18=0,1,IF(M18<0,0,IF(M18/L18>1.2,IF((M18/L18-1.2)*0.1+1.2>1.3,1.3,(M18/L18-1.2)*0.1+1.2),M18/L18)))) -> 1.3 | O18: 20 | P18: 43.3 | Q18: 15 | R18: =IF(S18=0,0,IF(Q18=0,1.3,IF(Q18<0,0,IF(P18/Q18>1.2,IF((P18/Q18-1.2)*0.1+1.2>1.3,1.3,(P18/Q18-1.2)*0.1+1.2),P18/Q18)))) -> 1.3 | S18: 15 | T18: =(D18*E18+F18*G18+J18*K18+N18*O18+R18*S18)/(E18+G18+K18+O18+S18) -> 1.1044205 | U18: 61744 | V18: =U18/11*6 -> 33678.545 | W18: =ROUND(T18*V18,1) -> 37195.3 | X18: =W18-V18 -> 3516.7545 | Z18: 5558.9 | AA18: 5281.8 | AB18: 4615.3 | AC18: 4071.2 | AE18: 4760.7 | AF18: 4590.8 | AG18: =ROUND(W18-SUM(Y18:AF18),1) -> 8316.6 | AM18: =IF(OR(AG18<0,AH18="+",AI18="+",AJ18="+",AK18="+",AL18="+"),0,AG18) -> 8316.6 | AO18: =ROUND(AM18-AN18,1) -> 8316.6 | AP18: 3705.8 | AQ18: =ROUND(AO18-AP18,1) -> 4610.8
A19: Внутригородские районы г.о.Самара | B19: =SUM(B20:B28) -> 206207.4 | C19: =SUM(C20:C28) -> 210987.9 | D19: =IF(C19/B19>1.2,IF((C19/B19-1.2)*0.1+1.2>1.3,1.3,(C19/B19-1.2)*0.1+1.2),C19/B19) -> 1.023183 | J19: =J8 -> 1.0182549 | L19: =SUM(L20:L28) -> 5036 | M19: =SUM(M20:M28) -> 9108 | N19: =IF(M19/L19>1.2,IF((M19/L19-1.2)*0.1+1.2>1.3,1.3,(M19/L19-1.2)*0.1+1.2),M19/L19) -> 1.2608578 | R19: =R9 -> 1.146542 | U19: =SUM(U20:U28) -> 1175 | V19: =SUM(V20:V28) -> 640.90909 | W19: =SUM(W20:W28) -> 679.6 | X19: =SUM(X20:X28) -> 38.690909 | Y19: =SUM(Y20:Y28) -> 235 | Z19: =SUM(Z20:Z28) -> 120.6 | AA19: =SUM(AA20:AA28) -> 116.4 | AB19: =SUM(AB20:AB28) -> 0 | ... AG19: =SUM(AG20:AG28) -> 32.5 | AM19: =SUM(AM20:AM28) -> 32.5 | AN19: =SUM(AN20:AN28) -> 0 | AO19: =SUM(AO20:AO28) -> 32.5 | AP19: =SUM(AP20:AP28) -> 0 | AQ19: =SUM(AQ20:AQ28) -> 32.5
A20: Железнодорожный | B20: 18034.8 | C20: 13394.7 | D20: =IF(E20=0,0,IF(B20=0,1,IF(C20<0,0,IF(C20/B20>1.2,IF((C20/B20-1.2)*0.1+1.2>1.3,1.3,(C20/B20-1.2)*0.1+1.2),C20/B20)))) -> 0.74271409 | E20: 20 | F20: =F$9 -> 1 | G20: 15 | J20: =J$9 -> 1.0231873 | K20: 15 | L20: 384 | M20: 778 | N20: =IF(O20=0,0,IF(L20=0,1,IF(M20<0,0,IF(M20/L20>1.2,IF((M20/L20-1.2)*0.1+1.2>1.3,1.3,(M20/L20-1.2)*0.1+1.2),M20/L20)))) -> 1.2826042 | O20: 20 | R20: =R$9 -> 1.146542 | S20: 15 | T20: =(D20*E20+F20*G20+J20*K20+N20*O20+R20*S20)/(E20+G20+K20+O20+S20) -> 1.0359095 | U20: 0 | V20: =U20/11*6 -> 0 | W20: =ROUND(T20*V20,1) -> 0 | X20: =W20-V20 -> 0 | Z20: 0 | AA20: 0 | AB20: 0 | AC20: 0 | AE20: 0 | AG20: =ROUND(W20-SUM(Y20:AF20),1) -> 0 | AM20: =IF(OR(AG20<0,AH20="+",AI20="+",AJ20="+",AK20="+",AL20="+"),0,AG20) -> 0 | AO20: =ROUND(AM20-AN20,1) -> 0 | AP20: 0 | AQ20: =ROUND(AO20-AP20,1) -> 0
A21: Кировский | B21: 35027.2 | C21: 28083.7 | D21: =IF(E21=0,0,IF(B21=0,1,IF(C21<0,0,IF(C21/B21>1.2,IF((C21/B21-1.2)*0.1+1.2>1.3,1.3,(C21/B21-1.2)*0.1+1.2),C21/B21)))) -> 0.80176834 | E21: 20 | F21: =F$9 -> 1 | G21: 15 | J21: =J$9 -> 1.0231873 | K21: 15 | L21: 1261 | M21: 2379 | N21: =IF(O21=0,0,IF(L21=0,1,IF(M21<0,0,IF(M21/L21>1.2,IF((M21/L21-1.2)*0.1+1.2>1.3,1.3,(M21/L21-1.2)*0.1+1.2),M21/L21)))) -> 1.2686598 | O21: 20 | R21: =R$9 -> 1.146542 | S21: 15 | T21: =(D21*E21+F21*G21+J21*K21+N21*O21+R21*S21)/(E21+G21+K21+O21+S21) -> 1.0465236 | U21: 0 | V21: =U21/11*6 -> 0 | W21: =ROUND(T21*V21,1) -> 0 | X21: =W21-V21 -> 0 | Z21: 0 | AA21: 0 | AB21: 0 | AC21: 0 | AE21: 0 | AG21: =ROUND(W21-SUM(Y21:AF21),1) -> 0 | AM21: =IF(OR(AG21<0,AH21="+",AI21="+",AJ21="+",AK21="+",AL21="+"),0,AG21) -> 0 | AO21: =ROUND(AM21-AN21,1) -> 0 | AP21: 0 | AQ21: =ROUND(AO21-AP21,1) -> 0
A22: Красноглинский | B22: 14171 | C22: 15082.7 | D22: =IF(E22=0,0,IF(B22=0,1,IF(C22<0,0,IF(C22/B22>1.2,IF((C22/B22-1.2)*0.1+1.2>1.3,1.3,(C22/B22-1.2)*0.1+1.2),C22/B22)))) -> 1.0643356 | E22: 20 | F22: =F$9 -> 1 | G22: 15 | J22: =J$9 -> 1.0231873 | K22: 15 | L22: 1212 | M22: 2018 | N22: =IF(O22=0,0,IF(L22=0,1,IF(M22<0,0,IF(M22/L22>1.2,IF((M22/L22-1.2)*0.1+1.2>1.3,1.3,(M22/L22-1.2)*0.1+1.2),M22/L22)))) -> 1.2465017 | O22: 20 | R22: =R$9 -> 1.146542 | S22: 15 | T22: =(D22*E22+F22*G22+J22*K22+N22*O22+R22*S22)/(E22+G22+K22+O22+S22) -> 1.1030904 | U22: 0 | V22: =U22/11*6 -> 0 | W22: =ROUND(T22*V22,1) -> 0 | X22: =W22-V22 -> 0 | Z22: 0 | AA22: 0 | AB22: 0 | AC22: 0 | AE22: 0 | AG22: =ROUND(W22-SUM(Y22:AF22),1) -> 0 | AM22: =IF(OR(AG22<0,AH22="+",AI22="+",AJ22="+",AK22="+",AL22="+"),0,AG22) -> 0 | AO22: =ROUND(AM22-AN22,1) -> 0 | AP22: 0 | AQ22: =ROUND(AO22-AP22,1) -> 0
A23: Куйбышевский | B23: 19841.6 | C23: 18596.5 | D23: =IF(E23=0,0,IF(B23=0,1,IF(C23<0,0,IF(C23/B23>1.2,IF((C23/B23-1.2)*0.1+1.2>1.3,1.3,(C23/B23-1.2)*0.1+1.2),C23/B23)))) -> 0.937248 | E23: 20 | F23: =F$9 -> 1 | G23: 15 | J23: =J$9 -> 1.0231873 | K23: 15 | L23: 482 | M23: 570 | N23: =IF(O23=0,0,IF(L23=0,1,IF(M23<0,0,IF(M23/L23>1.2,IF((M23/L23-1.2)*0.1+1.2>1.3,1.3,(M23/L23-1.2)*0.1+1.2),M23/L23)))) -> 1.1825726 | O23: 20 | R23: =R$9 -> 1.146542 | S23: 15 | T23: =(D23*E23+F23*G23+J23*K23+N23*O23+R23*S23)/(E23+G23+K23+O23+S23) -> 1.0581453 | U23: 0 | V23: =U23/11*6 -> 0 | W23: =ROUND(T23*V23,1) -> 0 | X23: =W23-V23 -> 0 | Z23: 0 | AA23: 0 | AB23: 0 | AC23: 0 | AE23: 0 | AG23: =ROUND(W23-SUM(Y23:AF23),1) -> 0 | AM23: =IF(OR(AG23<0,AH23="+",AI23="+",AJ23="+",AK23="+",AL23="+"),0,AG23) -> 0 | AO23: =ROUND(AM23-AN23,1) -> 0 | AP23: 0 | AQ23: =ROUND(AO23-AP23,1) -> 0
A24: Ленинский | B24: 20358.7 | C24: 25815.3 | D24: =IF(E24=0,0,IF(B24=0,1,IF(C24<0,0,IF(C24/B24>1.2,IF((C24/B24-1.2)*0.1+1.2>1.3,1.3,(C24/B24-1.2)*0.1+1.2),C24/B24)))) -> 1.2068023 | E24: 20 | F24: =F$9 -> 1 | G24: 15 | J24: =J$9 -> 1.0231873 | K24: 15 | L24: 115 | M24: 178 | N24: =IF(O24=0,0,IF(L24=0,1,IF(M24<0,0,IF(M24/L24>1.2,IF((M24/L24-1.2)*0.1+1.2>1.3,1.3,(M24/L24-1.2)*0.1+1.2),M24/L24)))) -> 1.2347826 | O24: 20 | R24: =R$9 -> 1.146542 | S24: 15 | T24: =(D24*E24+F24*G24+J24*K24+N24*O24+R24*S24)/(E24+G24+K24+O24+S24) -> 1.1338546 | U24: 0 | V24: =U24/11*6 -> 0 | W24: =ROUND(T24*V24,1) -> 0 | X24: =W24-V24 -> 0 | Z24: 0 | AA24: 0 | AB24: 0 | AC24: 0 | AE24: 0 | AG24: =ROUND(W24-SUM(Y24:AF24),1) -> 0 | AM24: =IF(OR(AG24<0,AH24="+",AI24="+",AJ24="+",AK24="+",AL24="+"),0,AG24) -> 0 | AO24: =ROUND(AM24-AN24,1) -> 0 | AP24: 0 | AQ24: =ROUND(AO24-AP24,1) -> 0
A25: Октябрьский | B25: 33697.7 | C25: 28280.1 | D25: =IF(E25=0,0,IF(B25=0,1,IF(C25<0,0,IF(C25/B25>1.2,IF((C25/B25-1.2)*0.1+1.2>1.3,1.3,(C25/B25-1.2)*0.1+1.2),C25/B25)))) -> 0.83922938 | E25: 20 | F25: =F$9 -> 1 | G25: 15 | J25: =J$9 -> 1.0231873 | K25: 15 | L25: 417 | M25: 422 | N25: =IF(O25=0,0,IF(L25=0,1,IF(M25<0,0,IF(M25/L25>1.2,IF((M25/L25-1.2)*0.1+1.2>1.3,1.3,(M25/L25-1.2)*0.1+1.2),M25/L25)))) -> 1.0119904 | O25: 20 | R25: =R$9 -> 1.146542 | S25: 15 | T25: =(D25*E25+F25*G25+J25*K25+N25*O25+R25*S25)/(E25+G25+K25+O25+S25) -> 0.99494512 | U25: 0 | V25: =U25/11*6 -> 0 | W25: =ROUND(T25*V25,1) -> 0 | X25: =W25-V25 -> 0 | Z25: 0 | AA25: 0 | AB25: 0 | AC25: 0 | AE25: 0 | AG25: =ROUND(W25-SUM(Y25:AF25),1) -> 0 | AM25: =IF(OR(AG25<0,AH25="+",AI25="+",AJ25="+",AK25="+",AL25="+"),0,AG25) -> 0 | AO25: =ROUND(AM25-AN25,1) -> 0 | AP25: 0 | AQ25: =ROUND(AO25-AP25,1) -> 0
A26: Промышленный | B26: 32086.5 | C26: 47525 | D26: =IF(E26=0,0,IF(B26=0,1,IF(C26<0,0,IF(C26/B26>1.2,IF((C26/B26-1.2)*0.1+1.2>1.3,1.3,(C26/B26-1.2)*0.1+1.2),C26/B26)))) -> 1.2281153 | E26: 20 | F26: =F$9 -> 1 | G26: 15 | J26: =J$9 -> 1.0231873 | K26: 15 | L26: 690 | M26: 1529 | N26: =IF(O26=0,0,IF(L26=0,1,IF(M26<0,0,IF(M26/L26>1.2,IF((M26/L26-1.2)*0.1+1.2>1.3,1.3,(M26/L26-1.2)*0.1+1.2),M26/L26)))) -> 1.3 | O26: 20 | R26: =R$9 -> 1.146542 | S26: 15 | T26: =(D26*E26+F26*G26+J26*K26+N26*O26+R26*S26)/(E26+G26+K26+O26+S26) -> 1.1542146 | U26: 0 | V26: =U26/11*6 -> 0 | W26: =ROUND(T26*V26,1) -> 0 | X26: =W26-V26 -> 0 | Z26: 0 | AA26: 0 | AB26: 0 | AC26: 0 | AE26: 0 | AG26: =ROUND(W26-SUM(Y26:AF26),1) -> 0 | AM26: =IF(OR(AG26<0,AH26="+",AI26="+",AJ26="+",AK26="+",AL26="+"),0,AG26) -> 0 | AO26: =ROUND(AM26-AN26,1) -> 0 | AP26: 0 | AQ26: =ROUND(AO26-AP26,1) -> 0
A27: Самарский | B27: 8017.7 | C27: 13498.6 | D27: =IF(E27=0,0,IF(B27=0,1,IF(C27<0,0,IF(C27/B27>1.2,IF((C27/B27-1.2)*0.1+1.2>1.3,1.3,(C27/B27-1.2)*0.1+1.2),C27/B27)))) -> 1.24836 | E27: 20 | F27: =F$9 -> 1 | G27: 15 | J27: =J$9 -> 1.0231873 | K27: 15 | L27: 135 | M27: 250 | N27: =IF(O27=0,0,IF(L27=0,1,IF(M27<0,0,IF(M27/L27>1.2,IF((M27/L27-1.2)*0.1+1.2>1.3,1.3,(M27/L27-1.2)*0.1+1.2),M27/L27)))) -> 1.2651852 | O27: 20 | R27: =R$9 -> 1.146542 | S27: 15 | T27: =(D27*E27+F27*G27+J27*K27+N27*O27+R27*S27)/(E27+G27+K27+O27+S27) -> 1.1507864 | U27: 0 | V27: =U27/11*6 -> 0 | W27: =ROUND(T27*V27,1) -> 0 | X27: =W27-V27 -> 0 | Z27: 0 | AA27: 0 | AB27: 0 | AC27: 0 | AE27: 0 | AG27: =ROUND(W27-SUM(Y27:AF27),1) -> 0 | AM27: =IF(OR(AG27<0,AH27="+",AI27="+",AJ27="+",AK27="+",AL27="+"),0,AG27) -> 0 | AO27: =ROUND(AM27-AN27,1) -> 0 | AP27: 0 | AQ27: =ROUND(AO27-AP27,1) -> 0
A28: Советский | B28: 24972.2 | C28: 20711.3 | D28: =IF(E28=0,0,IF(B28=0,1,IF(C28<0,0,IF(C28/B28>1.2,IF((C28/B28-1.2)*0.1+1.2>1.3,1.3,(C28/B28-1.2)*0.1+1.2),C28/B28)))) -> 0.82937426 | E28: 20 | F28: =F$9 -> 1 | G28: 15 | J28: =J$9 -> 1.0231873 | K28: 15 | L28: 340 | M28: 984 | N28: =IF(O28=0,0,IF(L28=0,1,IF(M28<0,0,IF(M28/L28>1.2,IF((M28/L28-1.2)*0.1+1.2>1.3,1.3,(M28/L28-1.2)*0.1+1.2),M28/L28)))) -> 1.3 | O28: 20 | R28: =R$9 -> 1.146542 | S28: 15 | T28: =(D28*E28+F28*G28+J28*K28+N28*O28+R28*S28)/(E28+G28+K28+O28+S28) -> 1.0603932 | U28: 1175 | V28: =U28/11*6 -> 640.90909 | W28: =ROUND(T28*V28,1) -> 679.6 | X28: =W28-V28 -> 38.690909 | Y28: 235 | Z28: 120.6 | AA28: 116.4 | AB28: 0 | AC28: 112.6 | AE28: 62.5 | AG28: =ROUND(W28-SUM(Y28:AF28),1) -> 32.5 | AM28: =IF(OR(AG28<0,AH28="+",AI28="+",AJ28="+",AK28="+",AL28="+"),0,AG28) -> 32.5 | AO28: =ROUND(AM28-AN28,1) -> 32.5 | AP28: 0 | AQ28: =ROUND(AO28-AP28,1) -> 32.5
A29: Муниципальные районы | B29: =SUM(B30:B56) -> 2823665.4 | C29: =SUM(C30:C56) -> 2700683.2 | D29: =IF(C29/B29>1.2,IF((C29/B29-1.2)*0.1+1.2>1.3,1.3,(C29/B29-1.2)*0.1+1.2),C29/B29) -> 0.9564459 | H29: =SUM(H30:H56) -> 132512 | I29: =SUM(I30:I56) -> 133621 | J29: =IF(I29/H29>1.2,IF((I29/H29-1.2)*0.1+1.2>1.3,1.3,(I29/H29-1.2)*0.1+1.2),I29/H29) -> 1.0083691 | L29: =SUM(L30:L56) -> 19728 | M29: =SUM(M30:M56) -> 27588 | N29: =IF(M29/L29>1.2,IF((M29/L29-1.2)*0.1+1.2>1.3,1.3,(M29/L29-1.2)*0.1+1.2),M29/L29) -> 1.2198418 | P29: =SUM(P30:P56) -> 850.3 | Q29: =SUM(Q30:Q56) -> 802.4 | R29: =IF(P29/Q29>1.2,IF((P29/Q29-1.2)*0.1+1.2>1.3,1.3,(P29/Q29-1.2)*0.1+1.2),P29/Q29) -> 1.0596959 | U29: =SUM(U30:U56) -> 964790 | V29: =SUM(V30:V56) -> 526249.09 | W29: =SUM(W30:W56) -> 538558.9 | X29: =SUM(X30:X56) -> 12309.809 | Y29: =SUM(Y30:Y56) -> 0 | Z29: =SUM(Z30:Z56) -> 85676.1 | AA29: =SUM(AA30:AA56) -> 86160.9 | AB29: =SUM(AB30:AB56) -> 75919.5 | ... AG29: =SUM(AG30:AG56) -> 88881 | AM29: =SUM(AM30:AM56) -> 91973.5 | AN29: =SUM(AN30:AN56) -> 0 | AO29: =SUM(AO30:AO56) -> 91973.5 | AP29: =SUM(AP30:AP56) -> 74393.6 | AQ29: =SUM(AQ30:AQ56) -> 17579.9
A30: Алексеевский | B30: 29815 | C30: 32605.8 | D30: =IF(E30=0,0,IF(B30=0,1,IF(C30<0,0,IF(C30/B30>1.2,IF((C30/B30-1.2)*0.1+1.2>1.3,1.3,(C30/B30-1.2)*0.1+1.2),C30/B30)))) -> 1.0936039 | E30: 15 | F30: 1 | G30: 10 | H30: 1100 | I30: 1108.9 | J30: =IF(K30=0,0,IF(H30=0,1,IF(I30<0,0,IF(I30/H30>1.2,IF((I30/H30-1.2)*0.1+1.2>1.3,1.3,(I30/H30-1.2)*0.1+1.2),I30/H30)))) -> 1.0080909 | K30: 10 | L30: 561 | M30: 71 | N30: =IF(O30=0,0,IF(L30=0,1,IF(M30<0,0,IF(M30/L30>1.2,IF((M30/L30-1.2)*0.1+1.2>1.3,1.3,(M30/L30-1.2)*0.1+1.2),M30/L30)))) -> 0.12655971 | O30: 15 | P30: 2.7 | Q30: 3.3 | R30: =IF(S30=0,0,IF(Q30=0,1.3,IF(Q30<0,0,IF(P30/Q30>1.2,IF((P30/Q30-1.2)*0.1+1.2>1.3,1.3,(P30/Q30-1.2)*0.1+1.2),P30/Q30)))) -> 0.81818182 | S30: 15 | T30: =(D30*E30+F30*G30+J30*K30+N30*O30+R30*S30)/(E30+G30+K30+O30+S30) -> 0.77932447 | U30: 32550 | V30: =U30/11*6 -> 17754.545 | W30: =ROUND(T30*V30,1) -> 13836.6 | X30: =W30-V30 -> -3917.9455 | Z30: 2619.9 | AA30: 3007.4 | AB30: 3404.7 | AC30: 1130.7 | AE30: 3402.9 | AG30: =ROUND(W30-SUM(Y30:AF30),1) -> 271 | AM30: =IF(OR(AG30<0,AH30="+",AI30="+",AJ30="+",AK30="+",AL30="+"),0,AG30) -> 271 | AO30: =ROUND(AM30-AN30,1) -> 271 | AP30: 4942.2 | AQ30: =ROUND(AO30-AP30,1) -> -4671.2
A31: Безенчукский | B31: 131219.4 | C31: 119243.8 | D31: =IF(E31=0,0,IF(B31=0,1,IF(C31<0,0,IF(C31/B31>1.2,IF((C31/B31-1.2)*0.1+1.2>1.3,1.3,(C31/B31-1.2)*0.1+1.2),C31/B31)))) -> 0.90873606 | E31: 15 | F31: 1 | G31: 10 | H31: 8469 | I31: 8736.1 | J31: =IF(K31=0,0,IF(H31=0,1,IF(I31<0,0,IF(I31/H31>1.2,IF((I31/H31-1.2)*0.1+1.2>1.3,1.3,(I31/H31-1.2)*0.1+1.2),I31/H31)))) -> 1.0315386 | K31: 10 | L31: 739 | M31: 854 | N31: =IF(O31=0,0,IF(L31=0,1,IF(M31<0,0,IF(M31/L31>1.2,IF((M31/L31-1.2)*0.1+1.2>1.3,1.3,(M31/L31-1.2)*0.1+1.2),M31/L31)))) -> 1.1556157 | O31: 15 | P31: 67.9 | Q31: 5.4 | R31: =IF(S31=0,0,IF(Q31=0,1.3,IF(Q31<0,0,IF(P31/Q31>1.2,IF((P31/Q31-1.2)*0.1+1.2>1.3,1.3,(P31/Q31-1.2)*0.1+1.2),P31/Q31)))) -> 1.3 | S31: 15 | T31: =(D31*E31+F31*G31+J31*K31+N31*O31+R31*S31)/(E31+G31+K31+O31+S31) -> 1.0889333 | U31: 38433 | V31: =U31/11*6 -> 20963.455 | W31: =ROUND(T31*V31,1) -> 22827.8 | X31: =W31-V31 -> 1864.3455 | Z31: 3925 | AA31: 3620.4 | AB31: 4058.3 | AC31: 3751.1 | AE31: 3176.3 | AG31: =ROUND(W31-SUM(Y31:AF31),1) -> 4296.7 | AM31: =IF(OR(AG31<0,AH31="+",AI31="+",AJ31="+",AK31="+",AL31="+"),0,AG31) -> 4296.7 | AO31: =ROUND(AM31-AN31,1) -> 4296.7 | AP31: 1801.3 | AQ31: =ROUND(AO31-AP31,1) -> 2495.4
A32: Богатовский | B32: 48125.9 | C32: 42562.8 | D32: =IF(E32=0,0,IF(B32=0,1,IF(C32<0,0,IF(C32/B32>1.2,IF((C32/B32-1.2)*0.1+1.2>1.3,1.3,(C32/B32-1.2)*0.1+1.2),C32/B32)))) -> 0.88440528 | E32: 15 | F32: 1 | G32: 10 | H32: 2710 | I32: 2678.9 | J32: =IF(K32=0,0,IF(H32=0,1,IF(I32<0,0,IF(I32/H32>1.2,IF((I32/H32-1.2)*0.1+1.2>1.3,1.3,(I32/H32-1.2)*0.1+1.2),I32/H32)))) -> 0.98852399 | K32: 10 | L32: 739 | M32: 664 | N32: =IF(O32=0,0,IF(L32=0,1,IF(M32<0,0,IF(M32/L32>1.2,IF((M32/L32-1.2)*0.1+1.2>1.3,1.3,(M32/L32-1.2)*0.1+1.2),M32/L32)))) -> 0.8985115 | O32: 15 | P32: 11.1 | Q32: 0.6 | R32: =IF(S32=0,0,IF(Q32=0,1.3,IF(Q32<0,0,IF(P32/Q32>1.2,IF((P32/Q32-1.2)*0.1+1.2>1.3,1.3,(P32/Q32-1.2)*0.1+1.2),P32/Q32)))) -> 1.3 | S32: 15 | T32: =(D32*E32+F32*G32+J32*K32+N32*O32+R32*S32)/(E32+G32+K32+O32+S32) -> 1.0173691 | U32: 32641 | V32: =U32/11*6 -> 17804.182 | W32: =ROUND(T32*V32,1) -> 18113.4 | X32: =W32-V32 -> 309.21818 | Z32: 2759 | AA32: 2740.5 | AB32: 3898.9 | AC32: 2513.2 | AE32: 2760.3 | AG32: =ROUND(W32-SUM(Y32:AF32),1) -> 3441.5 | AM32: =IF(OR(AG32<0,AH32="+",AI32="+",AJ32="+",AK32="+",AL32="+"),0,AG32) -> 3441.5 | AO32: =ROUND(AM32-AN32,1) -> 3441.5 | AP32: 2191.9 | AQ32: =ROUND(AO32-AP32,1) -> 1249.6
A33: Большеглушицкий | B33: 59106.1 | C33: 63563.8 | D33: =IF(E33=0,0,IF(B33=0,1,IF(C33<0,0,IF(C33/B33>1.2,IF((C33/B33-1.2)*0.1+1.2>1.3,1.3,(C33/B33-1.2)*0.1+1.2),C33/B33)))) -> 1.0754186 | E33: 15 | F33: 1 | G33: 10 | H33: 2531 | I33: 2354.3 | J33: =IF(K33=0,0,IF(H33=0,1,IF(I33<0,0,IF(I33/H33>1.2,IF((I33/H33-1.2)*0.1+1.2>1.3,1.3,(I33/H33-1.2)*0.1+1.2),I33/H33)))) -> 0.9301857 | K33: 10 | L33: 561 | M33: 537 | N33: =IF(O33=0,0,IF(L33=0,1,IF(M33<0,0,IF(M33/L33>1.2,IF((M33/L33-1.2)*0.1+1.2>1.3,1.3,(M33/L33-1.2)*0.1+1.2),M33/L33)))) -> 0.95721925 | O33: 15 | P33: 17.5 | Q33: 14.5 | R33: =IF(S33=0,0,IF(Q33=0,1.3,IF(Q33<0,0,IF(P33/Q33>1.2,IF((P33/Q33-1.2)*0.1+1.2>1.3,1.3,(P33/Q33-1.2)*0.1+1.2),P33/Q33)))) -> 1.2006897 | S33: 15 | T33: =(D33*E33+F33*G33+J33*K33+N33*O33+R33*S33)/(E33+G33+K33+O33+S33) -> 1.0431041 | U33: 29857 | V33: =U33/11*6 -> 16285.636 | W33: =ROUND(T33*V33,1) -> 16987.6 | X33: =W33-V33 -> 701.96364 | Z33: 2112.8 | AA33: 2383 | AB33: 3845.7 | AC33: 2902.7 | AE33: 2230.1 | AG33: =ROUND(W33-SUM(Y33:AF33),1) -> 3513.3 | AM33: =IF(OR(AG33<0,AH33="+",AI33="+",AJ33="+",AK33="+",AL33="+"),0,AG33) -> 3513.3 | AO33: =ROUND(AM33-AN33,1) -> 3513.3 | AP33: 3012.9 | AQ33: =ROUND(AO33-AP33,1) -> 500.4
A34: Большечерниговский | B34: 50221.9 | C34: 54592 | D34: =IF(E34=0,0,IF(B34=0,1,IF(C34<0,0,IF(C34/B34>1.2,IF((C34/B34-1.2)*0.1+1.2>1.3,1.3,(C34/B34-1.2)*0.1+1.2),C34/B34)))) -> 1.0870158 | E34: 15 | F34: 1 | G34: 10 | H34: 2046 | I34: 1980.9 | J34: =IF(K34=0,0,IF(H34=0,1,IF(I34<0,0,IF(I34/H34>1.2,IF((I34/H34-1.2)*0.1+1.2>1.3,1.3,(I34/H34-1.2)*0.1+1.2),I34/H34)))) -> 0.96818182 | K34: 10 | L34: 561 | M34: 489 | N34: =IF(O34=0,0,IF(L34=0,1,IF(M34<0,0,IF(M34/L34>1.2,IF((M34/L34-1.2)*0.1+1.2>1.3,1.3,(M34/L34-1.2)*0.1+1.2),M34/L34)))) -> 0.87165775 | O34: 15 | P34: 3.3 | Q34: 4.4 | R34: =IF(S34=0,0,IF(Q34=0,1.3,IF(Q34<0,0,IF(P34/Q34>1.2,IF((P34/Q34-1.2)*0.1+1.2>1.3,1.3,(P34/Q34-1.2)*0.1+1.2),P34/Q34)))) -> 0.75 | S34: 15 | T34: =(D34*E34+F34*G34+J34*K34+N34*O34+R34*S34)/(E34+G34+K34+O34+S34) -> 0.92787572 | U34: 41942 | V34: =U34/11*6 -> 22877.455 | W34: =ROUND(T34*V34,1) -> 21227.4 | X34: =W34-V34 -> -1650.0545 | Z34: 4074.1 | AA34: 3771.8 | AB34: 3615.6 | AC34: 3967.3 | AE34: 3618.6 | AG34: =ROUND(W34-SUM(Y34:AF34),1) -> 2180 | AM34: =IF(OR(AG34<0,AH34="+",AI34="+",AJ34="+",AK34="+",AL34="+"),0,AG34) -> 2180 | AO34: =ROUND(AM34-AN34,1) -> 2180 | AP34: 4475.2 | AQ34: =ROUND(AO34-AP34,1) -> -2295.2
A35: Борский | B35: 53795.2 | C35: 59281.4 | D35: =IF(E35=0,0,IF(B35=0,1,IF(C35<0,0,IF(C35/B35>1.2,IF((C35/B35-1.2)*0.1+1.2>1.3,1.3,(C35/B35-1.2)*0.1+1.2),C35/B35)))) -> 1.1019831 | E35: 15 | F35: 1 | G35: 10 | H35: 2833 | I35: 2898.4 | J35: =IF(K35=0,0,IF(H35=0,1,IF(I35<0,0,IF(I35/H35>1.2,IF((I35/H35-1.2)*0.1+1.2>1.3,1.3,(I35/H35-1.2)*0.1+1.2),I35/H35)))) -> 1.0230851 | K35: 10 | L35: 739 | M35: 746 | N35: =IF(O35=0,0,IF(L35=0,1,IF(M35<0,0,IF(M35/L35>1.2,IF((M35/L35-1.2)*0.1+1.2>1.3,1.3,(M35/L35-1.2)*0.1+1.2),M35/L35)))) -> 1.0094723 | O35: 15 | P35: 10.9 | Q35: 0 | R35: =IF(S35=0,0,IF(Q35=0,1.3,IF(Q35<0,0,IF(P35/Q35>1.2,IF((P35/Q35-1.2)*0.1+1.2>1.3,1.3,(P35/Q35-1.2)*0.1+1.2),P35/Q35)))) -> 1.3 | S35: 15 | T35: =(D35*E35+F35*G35+J35*K35+N35*O35+R35*S35)/(E35+G35+K35+O35+S35) -> 1.0985028 | U35: 43648 | V35: =U35/11*6 -> 23808 | W35: =ROUND(T35*V35,1) -> 26153.2 | X35: =W35-V35 -> 2345.2 | Z35: 4584.6 | AA35: 4462.8 | AB35: 4666.4 | AC35: 4531 | AE35: 4171.9 | AG35: =ROUND(W35-SUM(Y35:AF35),1) -> 3736.5 | AM35: =IF(OR(AG35<0,AH35="+",AI35="+",AJ35="+",AK35="+",AL35="+"),0,AG35) -> 3736.5 | AO35: =ROUND(AM35-AN35,1) -> 3736.5 | AP35: 2588.9 | AQ35: =ROUND(AO35-AP35,1) -> 1147.6
A36: Волжский | B36: 541811.9 | C36: 522925.4 | D36: =IF(E36=0,0,IF(B36=0,1,IF(C36<0,0,IF(C36/B36>1.2,IF((C36/B36-1.2)*0.1+1.2>1.3,1.3,(C36/B36-1.2)*0.1+1.2),C36/B36)))) -> 0.96514196 | E36: 15 | F36: 1 | G36: 10 | H36: 19569 | I36: 21220.9 | J36: =IF(K36=0,0,IF(H36=0,1,IF(I36<0,0,IF(I36/H36>1.2,IF((I36/H36-1.2)*0.1+1.2>1.3,1.3,(I36/H36-1.2)*0.1+1.2),I36/H36)))) -> 1.0844141 | K36: 10 | L36: 1099 | M36: 2329 | N36: =IF(O36=0,0,IF(L36=0,1,IF(M36<0,0,IF(M36/L36>1.2,IF((M36/L36-1.2)*0.1+1.2>1.3,1.3,(M36/L36-1.2)*0.1+1.2),M36/L36)))) -> 1.2919199 | O36: 15 | P36: 101 | Q36: 103.7 | R36: =IF(S36=0,0,IF(Q36=0,1.3,IF(Q36<0,0,IF(P36/Q36>1.2,IF((P36/Q36-1.2)*0.1+1.2>1.3,1.3,(P36/Q36-1.2)*0.1+1.2),P36/Q36)))) -> 0.97396336 | S36: 15 | T36: =(D36*E36+F36*G36+J36*K36+N36*O36+R36*S36)/(E36+G36+K36+O36+S36) -> 1.0663003 | U36: 29860 | V36: =U36/11*6 -> 16287.273 | W36: =ROUND(T36*V36,1) -> 17367.1 | X36: =W36-V36 -> 1079.8273 | Z36: 2730.5 | AA36: 3041.6 | AB36: 1590 | AC36: 3066.1 | AE36: 2467.9 | AF36: 1145 | AG36: =ROUND(W36-SUM(Y36:AF36),1) -> 3326 | AM36: =IF(OR(AG36<0,AH36="+",AI36="+",AJ36="+",AK36="+",AL36="+"),0,AG36) -> 3326 | AO36: =ROUND(AM36-AN36,1) -> 3326 | AP36: 2395.7 | AQ36: =ROUND(AO36-AP36,1) -> 930.3
A37: Елховский | B37: 23538.2 | C37: 25832.9 | D37: =IF(E37=0,0,IF(B37=0,1,IF(C37<0,0,IF(C37/B37>1.2,IF((C37/B37-1.2)*0.1+1.2>1.3,1.3,(C37/B37-1.2)*0.1+1.2),C37/B37)))) -> 1.0974883 | E37: 15 | F37: 1 | G37: 10 | H37: 1140 | I37: 1112.4 | J37: =IF(K37=0,0,IF(H37=0,1,IF(I37<0,0,IF(I37/H37>1.2,IF((I37/H37-1.2)*0.1+1.2>1.3,1.3,(I37/H37-1.2)*0.1+1.2),I37/H37)))) -> 0.97578947 | K37: 10 | L37: 561 | M37: 604 | N37: =IF(O37=0,0,IF(L37=0,1,IF(M37<0,0,IF(M37/L37>1.2,IF((M37/L37-1.2)*0.1+1.2>1.3,1.3,(M37/L37-1.2)*0.1+1.2),M37/L37)))) -> 1.0766488 | O37: 15 | P37: 9.4 | Q37: 11.4 | R37: =IF(S37=0,0,IF(Q37=0,1.3,IF(Q37<0,0,IF(P37/Q37>1.2,IF((P37/Q37-1.2)*0.1+1.2>1.3,1.3,(P37/Q37-1.2)*0.1+1.2),P37/Q37)))) -> 0.8245614 | S37: 15 | T37: =(D37*E37+F37*G37+J37*K37+N37*O37+R37*S37)/(E37+G37+K37+O37+S37) -> 0.99597498 | U37: 18726 | V37: =U37/11*6 -> 10214.182 | W37: =ROUND(T37*V37,1) -> 10173.1 | X37: =W37-V37 -> -41.081818 | Z37: 1926.3 | AA37: 1488.6 | AB37: 1179.4 | AC37: 2052.1 | AE37: 1958.8 | AG37: =ROUND(W37-SUM(Y37:AF37),1) -> 1567.9 | AM37: =IF(OR(AG37<0,AH37="+",AI37="+",AJ37="+",AK37="+",AL37="+"),0,AG37) -> 1567.9 | AO37: =ROUND(AM37-AN37,1) -> 1567.9 | AP37: 1965.1 | AQ37: =ROUND(AO37-AP37,1) -> -397.2
A38: Исаклинский | B38: 37609.7 | C38: 37580 | D38: =IF(E38=0,0,IF(B38=0,1,IF(C38<0,0,IF(C38/B38>1.2,IF((C38/B38-1.2)*0.1+1.2>1.3,1.3,(C38/B38-1.2)*0.1+1.2),C38/B38)))) -> 0.99921031 | E38: 15 | F38: 1 | G38: 10 | H38: 1518 | I38: 1539.1 | J38: =IF(K38=0,0,IF(H38=0,1,IF(I38<0,0,IF(I38/H38>1.2,IF((I38/H38-1.2)*0.1+1.2>1.3,1.3,(I38/H38-1.2)*0.1+1.2),I38/H38)))) -> 1.0138999 | K38: 10 | L38: 561 | M38: 1149 | N38: =IF(O38=0,0,IF(L38=0,1,IF(M38<0,0,IF(M38/L38>1.2,IF((M38/L38-1.2)*0.1+1.2>1.3,1.3,(M38/L38-1.2)*0.1+1.2),M38/L38)))) -> 1.2848128 | O38: 15 | P38: 3.5 | Q38: 1.7 | R38: =IF(S38=0,0,IF(Q38=0,1.3,IF(Q38<0,0,IF(P38/Q38>1.2,IF((P38/Q38-1.2)*0.1+1.2>1.3,1.3,(P38/Q38-1.2)*0.1+1.2),P38/Q38)))) -> 1.2858824 | S38: 15 | T38: =(D38*E38+F38*G38+J38*K38+N38*O38+R38*S38)/(E38+G38+K38+O38+S38) -> 1.1336551 | U38: 44585 | V38: =U38/11*6 -> 24319.091 | W38: =ROUND(T38*V38,1) -> 27569.5 | X38: =W38-V38 -> 3250.4091 | Z38: 4100.8 | AA38: 4264.7 | AB38: 4478.2 | AC38: 4105.4 | AE38: 3976.6 | AG38: =ROUND(W38-SUM(Y38:AF38),1) -> 6643.8 | AM38: =IF(OR(AG38<0,AH38="+",AI38="+",AJ38="+",AK38="+",AL38="+"),0,AG38) -> 6643.8 | AO38: =ROUND(AM38-AN38,1) -> 6643.8 | AP38: 3481.7 | AQ38: =ROUND(AO38-AP38,1) -> 3162.1
A39: Камышлинский | B39: 25701.3 | C39: 24234.3 | D39: =IF(E39=0,0,IF(B39=0,1,IF(C39<0,0,IF(C39/B39>1.2,IF((C39/B39-1.2)*0.1+1.2>1.3,1.3,(C39/B39-1.2)*0.1+1.2),C39/B39)))) -> 0.94292118 | E39: 15 | F39: 1 | G39: 10 | H39: 1200 | I39: 1056 | J39: =IF(K39=0,0,IF(H39=0,1,IF(I39<0,0,IF(I39/H39>1.2,IF((I39/H39-1.2)*0.1+1.2>1.3,1.3,(I39/H39-1.2)*0.1+1.2),I39/H39)))) -> 0.88 | K39: 10 | L39: 561 | M39: 603 | N39: =IF(O39=0,0,IF(L39=0,1,IF(M39<0,0,IF(M39/L39>1.2,IF((M39/L39-1.2)*0.1+1.2>1.3,1.3,(M39/L39-1.2)*0.1+1.2),M39/L39)))) -> 1.0748663 | O39: 15 | P39: 7.5 | Q39: 7.4 | R39: =IF(S39=0,0,IF(Q39=0,1.3,IF(Q39<0,0,IF(P39/Q39>1.2,IF((P39/Q39-1.2)*0.1+1.2>1.3,1.3,(P39/Q39-1.2)*0.1+1.2),P39/Q39)))) -> 1.0135135 | S39: 15 | T39: =(D39*E39+F39*G39+J39*K39+N39*O39+R39*S39)/(E39+G39+K39+O39+S39) -> 0.98876177 | U39: 43494 | V39: =U39/11*6 -> 23724 | W39: =ROUND(T39*V39,1) -> 23457.4 | X39: =W39-V39 -> -266.6 | Z39: 2452.1 | AA39: 2515.4 | AB39: 1635.1 | AC39: 9027.6 | AD39: 7590 | AE39: 3329.7 | AG39: =ROUND(W39-SUM(Y39:AF39),1) -> -3092.5 | AM39: =IF(OR(AG39<0,AH39="+",AI39="+",AJ39="+",AK39="+",AL39="+"),0,AG39) -> 0 | AO39: =ROUND(AM39-AN39,1) -> 0 | AP39: 0 | AQ39: =ROUND(AO39-AP39,1) -> 0
A40: Кинельский | B40: 130805.3 | C40: 128033.8 | D40: =IF(E40=0,0,IF(B40=0,1,IF(C40<0,0,IF(C40/B40>1.2,IF((C40/B40-1.2)*0.1+1.2>1.3,1.3,(C40/B40-1.2)*0.1+1.2),C40/B40)))) -> 0.97881202 | E40: 15 | F40: 1 | G40: 10 | H40: 3246 | I40: 3458.7 | J40: =IF(K40=0,0,IF(H40=0,1,IF(I40<0,0,IF(I40/H40>1.2,IF((I40/H40-1.2)*0.1+1.2>1.3,1.3,(I40/H40-1.2)*0.1+1.2),I40/H40)))) -> 1.0655268 | K40: 10 | L40: 1238 | M40: 1539 | N40: =IF(O40=0,0,IF(L40=0,1,IF(M40<0,0,IF(M40/L40>1.2,IF((M40/L40-1.2)*0.1+1.2>1.3,1.3,(M40/L40-1.2)*0.1+1.2),M40/L40)))) -> 1.2043134 | O40: 15 | P40: 4.8 | Q40: 5.2 | R40: =IF(S40=0,0,IF(Q40=0,1.3,IF(Q40<0,0,IF(P40/Q40>1.2,IF((P40/Q40-1.2)*0.1+1.2>1.3,1.3,(P40/Q40-1.2)*0.1+1.2),P40/Q40)))) -> 0.92307692 | S40: 15 | T40: =(D40*E40+F40*G40+J40*K40+N40*O40+R40*S40)/(E40+G40+K40+O40+S40) -> 1.0345893 | U40: 7497 | V40: =U40/11*6 -> 4089.2727 | W40: =ROUND(T40*V40,1) -> 4230.7 | X40: =W40-V40 -> 141.42727 | Z40: 668.7 | AA40: 646.1 | AB40: 710.9 | AC40: 848.2 | AE40: 595.7 | AG40: =ROUND(W40-SUM(Y40:AF40),1) -> 761.1 | AM40: =IF(OR(AG40<0,AH40="+",AI40="+",AJ40="+",AK40="+",AL40="+"),0,AG40) -> 761.1 | AO40: =ROUND(AM40-AN40,1) -> 761.1 | AP40: 659.1 | AQ40: =ROUND(AO40-AP40,1) -> 102
...

Sheet Плюсы и минусы
A1: Факторный анализ влияния отдельных показателей на итоговое распределение за I полугодие 2019 года
R2: тыс. рублей
A3: Наименование муниципального образования | B3: +/- по итогам отчётного периода | C3: Объем налоговых и неналоговых поступлений в местный бюджет (консолидированный бюджет городского округа с внутригородским делением, консолидированный бюджет муниципального района), за исключением поступлений доходов от уплаты акцизов и доходов от продажи материальных и нематериальных активов | F3: Отсутствие просроченной кредиторской задолженности местного бюджета (консолидированного бюджета городского округа с внутригородским делением, консолидированного бюджета муниципального района) | I3: Объем алкогольной продукции, зафиксированный в единой государственной автоматизированной информационной системе | L3: Эффективность муниципального земельного контроля | O3: Уровень задолженности предприятий жилищно-коммунального хозяйства за ранее потребленные топливно-энергетические ресурсы | R3: Общая сумма весов влияния
C4: Отклонение от прогноза | D4: Вес влияния на результат | E4: + / - (5)=(2)*(4)/(18) | F4: Отклонение от прогноза | G4: Вес влияния на результат | H4: + / - (8)=(2)*(7)/(18) | I4: Отклонение от прогноза | J4: Вес влияния на результат | K4: + / - (11)=(2)*(10)/(18) | L4: Отклонение от прогноза | M4: Вес влияния на результат | N4: + / - (14)=(2)*(13)/(18) | O4: Отклонение от прогноза | P4: Вес влияния на результат | Q4: + / - (17)=(2)*(16)/(18)
A5: 1 | B5: 2 | C5: 3 | D5: 4 | E5: 5 | F5: 6 | G5: 7 | H5: 8 | I5: 9 | J5: 10 | K5: 11 | L5: 12 | M5: 13 | N5: 14 | O5: 15 | P5: 16 | Q5: 17 | R5: 18
A6: Городские округа | B6: =SUM(B7:B16) -> 41772.518 | E6: =SUM(E7:E16) -> -13509.179 | H6: =SUM(H7:H16) -> 0 | K6: =SUM(K7:K16) -> 3745.5374 | N6: =SUM(N7:N16) -> 30562.967 | Q6: =SUM(Q7:Q16) -> 20973.193
A7: Самара | B7: ='Расчет субсидий'!X9 -> 12521.9 | C7: ='Расчет субсидий'!D9-1 -> -0.058720453 | D7: =C7*'Расчет субсидий'!E9 -> -1.1744091 | E7: =$B7*D7/$R7 -> -2231.4956 | F7: ='Расчет субсидий'!F9-1 -> 0 | G7: =F7*'Расчет субсидий'!G9 -> 0 | H7: =$B7*G7/$R7 -> 0 | I7: ='Расчет субсидий'!J9-1 -> 0.023187267 | J7: =I7*'Расчет субсидий'!K9 -> 0.34780901 | K7: =$B7*J7/$R7 -> 660.87219 | L7: ='Расчет субсидий'!N9-1 -> 0.26092968 | M7: =L7*'Расчет субсидий'!O9 -> 5.2185936 | N7: =$B7*M7/$R7 -> 9915.8539 | O7: ='Расчет субсидий'!R9-1 -> 0.14654203 | P7: =O7*'Расчет субсидий'!S9 -> 2.1981304 | Q7: =$B7*P7/$R7 -> 4176.6695 | R7: =D7+G7+J7+M7+P7 -> 6.590124
A8: Тольятти | B8: ='Расчет субсидий'!X10 -> 30215.245 | C8: ='Расчет субсидий'!D10-1 -> -0.050828217 | D8: =C8*'Расчет субсидий'!E10 -> -1.0165643 | E8: =$B8*D8/$R8 -> -4649.5182 | F8: ='Расчет субсидий'!F10-1 -> 0 | G8: =F8*'Расчет субсидий'!G10 -> 0 | H8: =$B8*G8/$R8 -> 0 | I8: ='Расчет субсидий'!J10-1 -> 0.017752318 | J8: =I8*'Расчет субсидий'!K10 -> 0.26628477 | K8: =$B8*J8/$R8 -> 1217.9218 | L8: ='Расчет субсидий'!N10-1 -> 0.18485595 | M8: =L8*'Расчет субсидий'!O10 -> 3.697119 | N8: =$B8*M8/$R8 -> 16909.724 | O8: ='Расчет субсидий'!R10-1 -> 0.24395872 | P8: =O8*'Расчет субсидий'!S10 -> 3.6593808 | Q8: =$B8*P8/$R8 -> 16737.118 | R8: =D8+G8+J8+M8+P8 -> 6.6062202
A9: Сызрань | B9: ='Расчет субсидий'!X11 -> -2883.2818 | C9: ='Расчет субсидий'!D11-1 -> -0.07122303 | D9: =C9*'Расчет субсидий'!E11 -> -1.4244606 | E9: =$B9*D9/$R9 -> -1532.6395 | F9: ='Расчет субсидий'!F11-1 -> 0 | G9: =F9*'Расчет субсидий'!G11 -> 0 | H9: =$B9*G9/$R9 -> 0 | I9: ='Расчет субсидий'!J11-1 -> -0.021706634 | J9: =I9*'Расчет субсидий'!K11 -> -0.32559951 | K9: =$B9*J9/$R9 -> -350.32676 | L9: ='Расчет субсидий'!N11-1 -> 0.1552795 | M9: =L9*'Расчет субсидий'!O11 -> 3.1055901 | N9: =$B9*M9/$R9 -> 3341.4402 | O9: ='Расчет субсидий'!R11-1 -> -0.26902 | P9: =O9*'Расчет субсидий'!S11 -> -4.0353 | Q9: =$B9*P9/$R9 -> -4341.7558 | R9: =D9+G9+J9+M9+P9 -> -2.67977
A10: Новокуйбышевск | B10: ='Расчет субсидий'!X12 -> 2362.3545 | C10: ='Расчет субсидий'!D12-1 -> 0.045482221 | D10: =C10*'Расчет субсидий'!E12 -> 0.90964443 | E10: =$B10*D10/$R10 -> 420.46181 | F10: ='Расчет субсидий'!F12-1 -> 0 | G10: =F10*'Расчет субсидий'!G12 -> 0 | H10: =$B10*G10/$R10 -> 0 | I10: ='Расчет субсидий'!J12-1 -> -0.0045013636 | J10: =I10*'Расчет субсидий'!K12 -> -0.067520454 | K10: =$B10*J10/$R10 -> -31.209747 | L10: ='Расчет субсидий'!N12-1 -> 0.15637974 | M10: =L10*'Расчет субсидий'!O12 -> 3.1275948 | N10: =$B10*M10/$R10 -> 1445.6574 | O10: ='Расчет субсидий'!R12-1 -> 0.076073098 | P10: =O10*'Расчет субсидий'!S12 -> 1.1410965 | Q10: =$B10*P10/$R10 -> 527.4451 | R10: =D10+G10+J10+M10+P10 -> 5.1108152
A11: Чапаевск | B11: ='Расчет субсидий'!X13 -> 5834.5727 | C11: ='Расчет субсидий'!D13-1 -> -0.12776709 | D11: =C11*'Расчет субсидий'!E13 -> -2.5553419 | E11: =$B11*D11/$R11 -> -2266.5153 | F11: ='Расчет субсидий'!F13-1 -> 0 | G11: =F11*'Расчет субсидий'!G13 -> 0 | H11: =$B11*G11/$R11 -> 0 | I11: ='Расчет субсидий'!J13-1 -> 0.062386588 | J11: =I11*'Расчет субсидий'!K13 -> 0.93579882 | K11: =$B11*J11/$R11 -> 830.02682 | L11: ='Расчет субсидий'!N13-1 -> 0.25835594 | M11: =L11*'Расчет субсидий'!O13 -> 5.1671187 | N11: =$B11*M11/$R11 -> 4583.0867 | O11: ='Расчет субсидий'!R13-1 -> 0.2020339 | P11: =O11*'Расчет субсидий'!S13 -> 3.0305085 | Q11: =$B11*P11/$R11 -> 2687.9744 | R11: =D11+G11+J11+M11+P11 -> 6.5780841
A12: Отрадный | B12: ='Расчет субсидий'!X14 -> -1717.3091 | C12: ='Расчет субсидий'!D14-1 -> -0.054051854 | D12: =C12*'Расчет субсидий'!E14 -> -1.0810371 | E12: =$B12*D12/$R12 -> -341.30513 | F12: ='Расчет субсидий'!F14-1 -> 0 | G12: =F12*'Расчет субсидий'!G14 -> 0 | H12: =$B12*G12/$R12 -> 0 | I12: ='Расчет субсидий'!J14-1 -> -0.010857814 | J12: =I12*'Расчет субсидий'!K14 -> -0.16286722 | K12: =$B12*J12/$R12 -> -51.420453 | L12: ='Расчет субсидий'!N14-1 -> -0.37531138 | M12: =L12*'Расчет субсидий'!O14 -> -7.5062275 | N12: =$B12*M12/$R12 -> -2369.8669 | O12: ='Расчет субсидий'!R14-1 -> 0.22071942 | P12: =O12*'Расчет субсидий'!S14 -> 3.3107914 | Q12: =$B12*P12/$R12 -> 1045.2834 | R12: =D12+G12+J12+M12+P12 -> -5.4393404
A13: Жигулевск | B13: ='Расчет субсидий'!X15 -> 455.22727 | C13: ='Расчет субсидий'!D15-1 -> 0.012112069 | D13: =C13*'Расчет субсидий'!E15 -> 0.24224137 | E13: =$B13*D13/$R13 -> 187.53692 | F13: ='Расчет субсидий'!F15-1 -> 0 | G13: =F13*'Расчет субсидий'!G15 -> 0 | H13: =$B13*G13/$R13 -> 0 | I13: ='Расчет субсидий'!J15-1 -> 0.01847402 | J13: =I13*'Расчет субсидий'!K15 -> 0.2771103 | K13: =$B13*J13/$R13 -> 214.53152 | L13: ='Расчет субсидий'!N15-1 -> 0.20338777 | M13: =L13*'Расчет субсидий'!O15 -> 4.0677553 | N13: =$B13*M13/$R13 -> 3149.1495 | O13: ='Расчет субсидий'!R15-1 -> -0.26660601 | P13: =O13*'Расчет субсидий'!S15 -> -3.9990901 | Q13: =$B13*P13/$R13 -> -3095.9906 | R13: =D13+G13+J13+M13+P13 -> 0.58801692
A14: Октябрьск | B14: ='Расчет субсидий'!X16 -> -642.48182 | C14: ='Расчет субсидий'!D16-1 -> 0.02423351 | D14: =C14*'Расчет субсидий'!E16 -> 0.48467019 | E14: =$B14*D14/$R14 -> 247.50461 | F14: ='Расчет субсидий'!F16-1 -> 0 | G14: =F14*'Расчет субсидий'!G16 -> 0 | H14: =$B14*G14/$R14 -> 0 | I14: ='Расчет субсидий'!J16-1 -> 0.026601974 | J14: =I14*'Расчет субсидий'!K16 -> 0.39902961 | K14: =$B14*J14/$R14 -> 203.77087 | L14: ='Расчет субсидий'!N16-1 -> 0.0055991041 | M14: =L14*'Расчет субсидий'!O16 -> 0.11198208 | N14: =$B14*M14/$R14 -> 57.185446 | O14: ='Расчет субсидий'!R16-1 -> -0.15025381 | P14: =O14*'Расчет субсидий'!S16 -> -2.2538071 | Q14: =$B14*P14/$R14 -> -1150.9427 | R14: =D14+G14+J14+M14+P14 -> -1.2581252
A15: Кинель | B15: ='Расчет субсидий'!X17 -> -7890.4636 | C15: ='Расчет субсидий'!D17-1 -> -0.1352396 | D15: =C15*'Расчет субсидий'!E17 -> -2.7047919 | E15: =$B15*D15/$R15 -> -1981.9467 | F15: ='Расчет субсидий'!F17-1 -> 0 | G15: =F15*'Расчет субсидий'!G17 -> 0 | H15: =$B15*G15/$R15 -> 0 | I15: ='Расчет субсидий'!J17-1 -> 0.030357957 | J15: =I15*'Расчет субсидий'!K17 -> 0.45536936 | K15: =$B15*J15/$R15 -> 333.67366 | L15: ='Расчет субсидий'!N17-1 -> -0.60365347 | M15: =L15*'Расчет субсидий'!O17 -> -12.073069 | N15: =$B15*M15/$R15 -> -8846.5884 | O15: ='Расчет субсидий'!R17-1 -> 0.23695067 | P15: =O15*'Расчет субсидий'!S17 -> 3.5542601 | Q15: =$B15*P15/$R15 -> 2604.3978 | R15: =D15+G15+J15+M15+P15 -> -10.768232
A16: Похвистнево | B16: ='Расчет субсидий'!X18 -> 3516.7545 | C16: ='Расчет субсидий'!D18-1 -> -0.1717807 | D16: =C16*'Расчет субсидий'!E18 -> -3.4356141 | E16: =$B16*D16/$R16 -> -1361.262 | F16: ='Расчет субсидий'!F18-1 -> 0 | G16: =F16*'Расчет субсидий'!G18 -> 0 | H16: =$B16*G16/$R16 -> 0 | I16: ='Расчет субсидий'!J18-1 -> 0.12075714 | J16: =I16*'Расчет субсидий'!K18 -> 1.8113571 | K16: =$B16*J16/$R16 -> 717.69748 | L16: ='Расчет субсидий'!N18-1 -> 0.3 | M16: =L16*'Расчет субсидий'!O18 -> 6 | N16: =$B16*M16/$R16 -> 2377.3252 | O16: ='Расчет субсидий'!R18-1 -> 0.3 | P16: =O16*'Расчет субсидий'!S18 -> 4.5 | Q16: =$B16*P16/$R16 -> 1782.9939 | R16: =D16+G16+J16+M16+P16 -> 8.8757431
A17: Внутригородские районы г.о.Самара | B17: =SUM(B18:B26) -> 38.690909 | E17: =SUM(E18:E26) -> -25.720314 | H17: =SUM(H18:H26) -> 0 | K17: =SUM(K18:K26) -> 2.621456 | N17: =SUM(N18:N26) -> 45.222335 | Q17: =SUM(Q18:Q26) -> 16.567432
A18: Железнодорожный | B18: ='Расчет субсидий'!X20 -> 0 | C18: ='Расчет субсидий'!D20-1 -> -0.25728591 | D18: =C18*'Расчет субсидий'!E20 -> -5.1457183 | E18: =$B18*D18/$R18 -> 0 | F18: ='Расчет субсидий'!F20-1 -> 0 | G18: =F18*'Расчет субсидий'!G20 -> 0 | H18: =$B18*G18/$R18 -> 0 | I18: ='Расчет субсидий'!J20-1 -> 0.023187267 | J18: =I18*'Расчет субсидий'!K20 -> 0.34780901 | K18: =$B18*J18/$R18 -> 0 | L18: ='Расчет субсидий'!N20-1 -> 0.28260417 | M18: =L18*'Расчет субсидий'!O20 -> 5.6520833 | N18: =$B18*M18/$R18 -> 0 | O18: ='Расчет субсидий'!R20-1 -> 0.14654203 | P18: =O18*'Расчет субсидий'!S20 -> 2.1981304 | Q18: =$B18*P18/$R18 -> 0 | R18: =D18+G18+J18+M18+P18 -> 3.0523045
A19: Кировский | B19: ='Расчет субсидий'!X21 -> 0 | C19: ='Расчет субсидий'!D21-1 -> -0.19823166 | D19: =C19*'Расчет субсидий'!E21 -> -3.9646332 | E19: =$B19*D19/$R19 -> 0 | F19: ='Расчет субсидий'!F21-1 -> 0 | G19: =F19*'Расчет субсидий'!G21 -> 0 | H19: =$B19*G19/$R19 -> 0 | I19: ='Расчет субсидий'!J21-1 -> 0.023187267 | J19: =I19*'Расчет субсидий'!K21 -> 0.34780901 | K19: =$B19*J19/$R19 -> 0 | L19: ='Расчет субсидий'!N21-1 -> 0.26865979 | M19: =L19*'Расчет субсидий'!O21 -> 5.3731959 | N19: =$B19*M19/$R19 -> 0 | O19: ='Расчет субсидий'!R21-1 -> 0.14654203 | P19: =O19*'Расчет субсидий'!S21 -> 2.1981304 | Q19: =$B19*P19/$R19 -> 0 | R19: =D19+G19+J19+M19+P19 -> 3.9545021
A20: Красноглинский | B20: ='Расчет субсидий'!X22 -> 0 | C20: ='Расчет субсидий'!D22-1 -> 0.064335615 | D20: =C20*'Расчет субсидий'!E22 -> 1.2867123 | E20: =$B20*D20/$R20 -> 0 | F20: ='Расчет субсидий'!F22-1 -> 0 | G20: =F20*'Расчет субсидий'!G22 -> 0 | H20: =$B20*G20/$R20 -> 0 | I20: ='Расчет субсидий'!J22-1 -> 0.023187267 | J20: =I20*'Расчет субсидий'!K22 -> 0.34780901 | K20: =$B20*J20/$R20 -> 0 | L20: ='Расчет субсидий'!N22-1 -> 0.24650165 | M20: =L20*'Расчет субсидий'!O22 -> 4.930033 | N20: =$B20*M20/$R20 -> 0 | O20: ='Расчет субсидий'!R22-1 -> 0.14654203 | P20: =O20*'Расчет субсидий'!S22 -> 2.1981304 | Q20: =$B20*P20/$R20 -> 0 | R20: =D20+G20+J20+M20+P20 -> 8.7626848
A21: Куйбышевский | B21: ='Расчет субсидий'!X23 -> 0 | C21: ='Расчет субсидий'!D23-1 -> -0.062751996 | D21: =C21*'Расчет субсидий'!E23 -> -1.2550399 | E21: =$B21*D21/$R21 -> 0 | F21: ='Расчет субсидий'!F23-1 -> 0 | G21: =F21*'Расчет субсидий'!G23 -> 0 | H21: =$B21*G21/$R21 -> 0 | I21: ='Расчет субсидий'!J23-1 -> 0.023187267 | J21: =I21*'Расчет субсидий'!K23 -> 0.34780901 | K21: =$B21*J21/$R21 -> 0 | L21: ='Расчет субсидий'!N23-1 -> 0.18257261 | M21: =L21*'Расчет субсидий'!O23 -> 3.6514523 | N21: =$B21*M21/$R21 -> 0 | O21: ='Расчет субсидий'!R23-1 -> 0.14654203 | P21: =O21*'Расчет субсидий'!S23 -> 2.1981304 | Q21: =$B21*P21/$R21 -> 0 | R21: =D21+G21+J21+M21+P21 -> 4.9423518
A22: Ленинский | B22: ='Расчет субсидий'!X24 -> 0 | C22: ='Расчет субсидий'!D24-1 -> 0.2068023 | D22: =C22*'Расчет субсидий'!E24 -> 4.136046 | E22: =$B22*D22/$R22 -> 0 | F22: ='Расчет субсидий'!F24-1 -> 0 | G22: =F22*'Расчет субсидий'!G24 -> 0 | H22: =$B22*G22/$R22 -> 0 | I22: ='Расчет субсидий'!J24-1 -> 0.023187267 | J22: =I22*'Расчет субсидий'!K24 -> 0.34780901 | K22: =$B22*J22/$R22 -> 0 | L22: ='Расчет субсидий'!N24-1 -> 0.23478261 | M22: =L22*'Расчет субсидий'!O24 -> 4.6956522 | N22: =$B22*M22/$R22 -> 0 | O22: ='Расчет субсидий'!R24-1 -> 0.14654203 | P22: =O22*'Расчет субсидий'!S24 -> 2.1981304 | Q22: =$B22*P22/$R22 -> 0 | R22: =D22+G22+J22+M22+P22 -> 11.377638
A23: Октябрьский | B23: ='Расчет субсидий'!X25 -> 0 | C23: ='Расчет субсидий'!D25-1 -> -0.16077062 | D23: =C23*'Расчет субсидий'!E25 -> -3.2154123 | E23: =$B23*D23/$R23 -> 0 | F23: ='Расчет субсидий'!F25-1 -> 0 | G23: =F23*'Расчет субсидий'!G25 -> 0 | H23: =$B23*G23/$R23 -> 0 | I23: ='Расчет субсидий'!J25-1 -> 0.023187267 | J23: =I23*'Расчет субсидий'!K25 -> 0.34780901 | K23: =$B23*J23/$R23 -> 0 | L23: ='Расчет субсидий'!N25-1 -> 0.011990408 | M23: =L23*'Расчет субсидий'!O25 -> 0.23980815 | N23: =$B23*M23/$R23 -> 0 | O23: ='Расчет субсидий'!R25-1 -> 0.14654203 | P23: =O23*'Расчет субсидий'!S25 -> 2.1981304 | Q23: =$B23*P23/$R23 -> 0 | R23: =D23+G23+J23+M23+P23 -> -0.42966472
A24: Промышленный | B24: ='Расчет субсидий'!X26 -> 0 | C24: ='Расчет субсидий'!D26-1 -> 0.22811525 | D24: =C24*'Расчет субсидий'!E26 -> 4.562305 | E24: =$B24*D24/$R24 -> 0 | F24: ='Расчет субсидий'!F26-1 -> 0 | G24: =F24*'Расчет субсидий'!G26 -> 0 | H24: =$B24*G24/$R24 -> 0 | I24: ='Расчет субсидий'!J26-1 -> 0.023187267 | J24: =I24*'Расчет субсидий'!K26 -> 0.34780901 | K24: =$B24*J24/$R24 -> 0 | L24: ='Расчет субсидий'!N26-1 -> 0.3 | M24: =L24*'Расчет субсидий'!O26 -> 6 | N24: =$B24*M24/$R24 -> 0 | O24: ='Расчет субсидий'!R26-1 -> 0.14654203 | P24: =O24*'Расчет субсидий'!S26 -> 2.1981304 | Q24: =$B24*P24/$R24 -> 0 | R24: =D24+G24+J24+M24+P24 -> 13.108244
A25: Самарский | B25: ='Расчет субсидий'!X27 -> 0 | C25: ='Расчет субсидий'!D27-1 -> 0.24836 | D25: =C25*'Расчет субсидий'!E27 -> 4.9672001 | E25: =$B25*D25/$R25 -> 0 | F25: ='Расчет субсидий'!F27-1 -> 0 | G25: =F25*'Расчет субсидий'!G27 -> 0 | H25: =$B25*G25/$R25 -> 0 | I25: ='Расчет субсидий'!J27-1 -> 0.023187267 | J25: =I25*'Расчет субсидий'!K27 -> 0.34780901 | K25: =$B25*J25/$R25 -> 0 | L25: ='Расчет субсидий'!N27-1 -> 0.26518519 | M25: =L25*'Расчет субсидий'!O27 -> 5.3037037 | N25: =$B25*M25/$R25 -> 0 | O25: ='Расчет субсидий'!R27-1 -> 0.14654203 | P25: =O25*'Расчет субсидий'!S27 -> 2.1981304 | Q25: =$B25*P25/$R25 -> 0 | R25: =D25+G25+J25+M25+P25 -> 12.816843
A26: Советский | B26: ='Расчет субсидий'!X28 -> 38.690909 | C26: ='Расчет субсидий'!D28-1 -> -0.17062574 | D26: =C26*'Расчет субсидий'!E28 -> -3.4125147 | E26: =$B26*D26/$R26 -> -25.720314 | F26: ='Расчет субсидий'!F28-1 -> 0 | G26: =F26*'Расчет субсидий'!G28 -> 0 | H26: =$B26*G26/$R26 -> 0 | I26: ='Расчет субсидий'!J28-1 -> 0.023187267 | J26: =I26*'Расчет субсидий'!K28 -> 0.34780901 | K26: =$B26*J26/$R26 -> 2.621456 | L26: ='Расчет субсидий'!N28-1 -> 0.3 | M26: =L26*'Расчет субсидий'!O28 -> 6 | N26: =$B26*M26/$R26 -> 45.222335 | O26: ='Расчет субсидий'!R28-1 -> 0.14654203 | P26: =O26*'Расчет субсидий'!S28 -> 2.1981304 | Q26: =$B26*P26/$R26 -> 16.567432 | R26: =D26+G26+J26+M26+P26 -> 5.1334247
A27: Муниципальные районы | B27: =SUM(B28:B54) -> 12309.809 | E27: =SUM(E28:E54) -> -2612.2105 | H27: =SUM(H28:H54) -> 0 | K27: =SUM(K28:K54) -> -832.21512 | N27: =SUM(N28:N54) -> 11926.031 | Q27: =SUM(Q28:Q54) -> 3828.2041
A28: Алексеевский | B28: ='Расчет субсидий'!X30 -> -3917.9455 | C28: ='Расчет субсидий'!D30-1 -> 0.093603891 | D28: =C28*'Расчет субсидий'!E30 -> 1.4040584 | E28: =$B28*D28/$R28 -> 383.50939 | F28: ='Расчет субсидий'!F30-1 -> 0 | G28: =F28*'Расчет субсидий'!G30 -> 0 | H28: =$B28*G28/$R28 -> 0 | I28: ='Расчет субсидий'!J30-1 -> 0.0080909091 | J28: =I28*'Расчет субсидий'!K30 -> 0.080909091 | K28: =$B28*J28/$R28 -> 22.099791 | L28: ='Расчет субсидий'!N30-1 -> -0.87344029 | M28: =L28*'Расчет субсидий'!O30 -> -13.101604 | N28: =$B28*M28/$R28 -> -3578.6179 | O28: ='Расчет субсидий'!R30-1 -> -0.18181818 | P28: =O28*'Расчет субсидий'!S30 -> -2.7272727 | Q28: =$B28*P28/$R28 -> -744.93678 | R28: =D28+G28+J28+M28+P28 -> -14.34391
A29: Безенчукский | B29: ='Расчет субсидий'!X31 -> 1864.3455 | C29: ='Расчет субсидий'!D31-1 -> -0.091263944 | D29: =C29*'Расчет субсидий'!E31 -> -1.3689592 | E29: =$B29*D29/$R29 -> -441.50875 | F29: ='Расчет субсидий'!F31-1 -> 0 | G29: =F29*'Расчет субсидий'!G31 -> 0 | H29: =$B29*G29/$R29 -> 0 | I29: ='Расчет субсидий'!J31-1 -> 0.031538552 | J29: =I29*'Расчет субсидий'!K31 -> 0.31538552 | K29: =$B29*J29/$R29 -> 101.71631 | L29: ='Расчет субсидий'!N31-1 -> 0.1556157 | M29: =L29*'Расчет субсидий'!O31 -> 2.3342355 | N29: =$B29*M29/$R29 -> 752.82405 | O29: ='Расчет субсидий'!R31-1 -> 0.3 | P29: =O29*'Расчет субсидий'!S31 -> 4.5 | Q29: =$B29*P29/$R29 -> 1451.3138 | R29: =D29+G29+J29+M29+P29 -> 5.7806618
A30: Богатовский | B30: ='Расчет субсидий'!X32 -> 309.21818 | C30: ='Расчет субсидий'!D32-1 -> -0.11559472 | D30: =C30*'Расчет субсидий'!E32 -> -1.7339208 | E30: =$B30*D30/$R30 -> -474.90155 | F30: ='Расчет субсидий'!F32-1 -> 0 | G30: =F30*'Расчет субсидий'!G32 -> 0 | H30: =$B30*G30/$R30 -> 0 | I30: ='Расчет субсидий'!J32-1 -> -0.011476015 | J30: =I30*'Расчет субсидий'!K32 -> -0.11476015 | K30: =$B30*J30/$R30 -> -31.431523 | L30: ='Расчет субсидий'!N32-1 -> -0.1014885 | M30: =L30*'Расчет субсидий'!O32 -> -1.5223275 | N30: =$B30*M30/$R30 -> -416.94849 | O30: ='Расчет субсидий'!R32-1 -> 0.3 | P30: =O30*'Расчет субсидий'!S32 -> 4.5 | Q30: =$B30*P30/$R30 -> 1232.4997 | R30: =D30+G30+J30+M30+P30 -> 1.1289916
A31: Большеглушицкий | B31: ='Расчет субсидий'!X33 -> 701.96364 | C31: ='Расчет субсидий'!D33-1 -> 0.075418612 | D31: =C31*'Расчет субсидий'!E33 -> 1.1312792 | E31: =$B31*D31/$R31 -> 283.43401 | F31: ='Расчет субсидий'!F33-1 -> 0 | G31: =F31*'Расчет субсидий'!G33 -> 0 | H31: =$B31*G31/$R31 -> 0 | I31: ='Расчет субсидий'!J33-1 -> -0.069814303 | J31: =I31*'Расчет субсидий'!K33 -> -0.69814303 | K31: =$B31*J31/$R31 -> -174.91481 | L31: ='Расчет субсидий'!N33-1 -> -0.042780749 | M31: =L31*'Расчет субсидий'!O33 -> -0.64171123 | N31: =$B31*M31/$R31 -> -160.77622 | O31: ='Расчет субсидий'!R33-1 -> 0.20068966 | P31: =O31*'Расчет субсидий'!S33 -> 3.0103448 | Q31: =$B31*P31/$R31 -> 754.22065 | R31: =D31+G31+J31+M31+P31 -> 2.8017697
